App-ipchgmon v1.0.7 Perl 5 v5.37.6 amd64-freebsd
- Status
- Pass
- From
- Slaven Rezić
- Dist
-
App-ipchgmon v1.0.7
- Platform
- Perl 5 v5.37.6 amd64-freebsd
- Date
- 2022-12-18 15:29:20
- ID
- be07de0a-7ee8-11ed-9cba-8b1a6e8775ea
This distribution has been tested as part of the CPAN Testers
project, supporting the Perl programming language. See
http://wiki.cpantesters.org/ for more information or email
questions to cpan-testers-discuss@perl.org
--
Dear John Davies,
This is a computer-generated report for App-ipchgmon-1.0.7
on perl 5.37.6, created by CPAN-Reporter-1.2018.
Thank you for uploading your work to CPAN. Congratulations!
All tests were successful.
Sections of this report:
* Tester comments
* Program output
* Prerequisites
* Environment and other context
------------------------------
TESTER COMMENTS
------------------------------
Additional comments from tester:
none provided
------------------------------
PROGRAM OUTPUT
------------------------------
Output from '/usr/bin/make test':
PERL_DL_NONLAZY=1 "/usr/perl5.37.6p/bin/perl5.37.6" "-MExtUtils::Command::MM" "-MTest::Harness" "-e" "undef *Test::Harness::Switches; test_harness(0, 'blib/lib', 'blib/arch')" t/*.t
t/00-modulino.t ........... ok
t/10-options.t ............ ok
t/20-file.t ............... ok
t/22-new-ip.t ............. ok
t/24-read-file.t .......... ok
t/26-check-changes.t ...... ok
t/28-nslookup.t ........... ok
t/30-last.t ............... ok
t/32-check-dns.t .......... ok
t/34-single-ip-version.t .. ok
# CSV_XS ERROR: 2034 - EIF - Loose unescaped quote @ rec 0 pos 23 field 1
No IPv6 address. You may need to run with the --4 option. at t/50-ip-via-web.t line 21.
t/50-ip-via-web.t ......... ok
t/51-ip-validation.t ...... ok
t/60-email-address.t ...... ok
t/62-email-delivery.t ..... ok
t/63-email-transport.t .... ok
All tests successful.
Files=15, Tests=122, 52 wallclock secs ( 0.11 usr 0.02 sys + 23.92 cusr 6.77 csys = 30.81 CPU)
Result: PASS
------------------------------
PREREQUISITES
------------------------------
Prerequisite modules loaded:
requires:
Module Need Have
------------------------------ ---- ----------
Data::Dumper 0 2.187
Data::Validate::Email 0 0.06
Data::Validate::IP 0 0.31
DateTime 0 1.59
DateTime::Format::Strptime 0 1.79
Email::Sender::Transport::SMTP 0 2.600
Email::Stuffer 0 0.018
feature 0 1.77
File::Find 0 1.41
FindBin 0 1.53
Getopt::Long 0 2.54
LWP::Online 0 1.08
LWP::UserAgent 0 6.67
Pod::Usage 0 2.03
Socket 0 2.036
strict 0 1.12
Text::CSV 0 2.02
warnings 0 1.61
build_requires:
Module Need Have
------------------------------ ---- ----------
ExtUtils::MakeMaker 0 7.64
lib 0 0.65
Regexp::Common 0 2017060201
Test::Exception 0 0.43
Test::File 0 1.992
Test::MockModule 0 0.177.0
Test::More 0 1.302191
configure_requires:
Module Need Have
------------------------------ ---- ----------
ExtUtils::MakeMaker 0 7.64
------------------------------
ENVIRONMENT AND OTHER CONTEXT
------------------------------
Environment variables:
PATH = /usr/local/bin:/usr/bin:/bin:/usr/local/sbin:/usr/sbin:/sbin:/home/cpansand/bin/freebsd12.3:/home/cpansand/bin/sh:/home/cpansand/bin:/usr/games:/home/cpansand/devel:/usr/home/eserte/src/srezic-misc/scripts
PERL5LIB = /home/cpansand/.cpan/build/2022121814/LWP-Online-1.08-0/blib/arch:/home/cpansand/.cpan/build/2022121814/LWP-Online-1.08-0/blib/lib:/home/cpansand/.cpan/build/2022121814/Email-Stuffer-0.018-0/blib/arch:/home/cpansand/.cpan/build/2022121814/Email-Stuffer-0.018-0/blib/lib:/home/cpansand/.cpan/build/2022121814/Data-Validate-Email-0.06-0/blib/arch:/home/cpansand/.cpan/build/2022121814/Data-Validate-Email-0.06-0/blib/lib:/home/cpansand/.cpan/build/2022121814/Email-Address-1.912-0/blib/arch:/home/cpansand/.cpan/build/2022121814/Email-Address-1.912-0/blib/lib
PERL5OPT =
PERL5_CPANPLUS_IS_RUNNING = 38073
PERL5_CPAN_IS_RUNNING = 38073
PERL5_CPAN_IS_RUNNING_IN_RECURSION = 38042,38073
PERLDOC = -MPod::Perldoc::ToTextOverstrike
PERL_BATCH = yes
PERL_CANARY_STABILITY_NOPROMPT = 1
PERL_CPAN_REPORTER_CONFIG = /var/tmp/cpansmoker-1023/2022121814/cpanreporter_000_config.ini
PERL_EXTUTILS_AUTOINSTALL = --defaultdeps
PERL_USE_UNSAFE_INC = 1
SHELL = /usr/local/bin/zsh
TERM = screen
TMPDIR = /var/tmp/cpansmoker-1023/2022121814
Perl special variables (and OS-specific diagnostics, for MSWin32):
$^X = /usr/perl5.37.6p/bin/perl5.37.6
$UID/$EUID = 1023 / 1023
$GID = 1023 1023
$EGID = 1023 1023
Perl module toolchain versions installed:
Module Have
------------------- --------
CPAN 2.34
CPAN::Meta 2.150010
Cwd 3.86
ExtUtils::CBuilder 0.280238
ExtUtils::Command 7.64
ExtUtils::Install 2.20
ExtUtils::MakeMaker 7.64
ExtUtils::Manifest 1.73
ExtUtils::ParseXS 3.48
File::Spec 3.87
JSON 4.10
JSON::PP 4.12
Module::Build 0.4232
Module::Signature n/a
Parse::CPAN::Meta 2.150010
Test::Harness 3.44
Test::More 1.302191
YAML 1.30
YAML::Syck 1.34
version 0.9929
--
Summary of my perl5 (revision 5 version 37 subversion 6) configuration:
Platform:
osname=freebsd
osvers=12.4-stable
archname=amd64-freebsd
uname='freebsd cloud1.bbbike.org 12.4-stable freebsd 12.4-stable stable12-c74589394 generic amd64 '
config_args='-ds -e -Dprefix=/usr/perl5.37.6p -Dusedevel -Dusemallocwrap=no -Dcf_email=srezic@cpan.org -Doptimize=-O2 -pipe'
hint=recommended
useposix=true
d_sigaction=define
useithreads=undef
usemultiplicity=undef
use64bitint=define
use64bitall=define
uselongdouble=undef
usemymalloc=n
default_inc_excludes_dot=define
Compiler:
cc='cc'
ccflags ='-DHAS_FPSETMASK -DHAS_FLOATINGPOINT_H -fno-strict-aliasing -pipe -fstack-protector-strong -I/usr/local/include'
optimize='-O2 -pipe'
cppflags='-DHAS_FPSETMASK -DHAS_FLOATINGPOINT_H -fno-strict-aliasing -pipe -fstack-protector-strong -I/usr/local/include'
ccversion=''
gccversion='FreeBSD Clang 13.0.0 (git@github.com:llvm/llvm-project.git llvmorg-13.0.0-0-gd7b669b3a303)'
gccosandvers=''
intsize=4
longsize=8
ptrsize=8
doublesize=8
byteorder=12345678
doublekind=3
d_longlong=define
longlongsize=8
d_longdbl=define
longdblsize=16
longdblkind=3
ivtype='long'
ivsize=8
nvtype='double'
nvsize=8
Off_t='off_t'
lseeksize=8
alignbytes=8
prototype=define
Linker and Libraries:
ld='cc'
ldflags ='-pthread -Wl,-E -fstack-protector-strong -L/usr/local/lib'
libpth=/usr/lib /usr/local/lib /usr/lib/clang/13.0.0/lib
libs=-lpthread -lgdbm -ldl -lm -lcrypt -lutil -lc
perllibs=-lpthread -ldl -lm -lcrypt -lutil -lc
libc=
so=so
useshrplib=false
libperl=libperl.a
gnulibc_version=''
Dynamic Linking:
dlsrc=dl_dlopen.xs
dlext=so
d_dlsymun=undef
ccdlflags=' '
cccdlflags='-DPIC -fPIC'
lddlflags='-shared -L/usr/local/lib -fstack-protector-strong'
Characteristics of this binary (from libperl):
Compile-time options:
HAS_TIMES
PERLIO_LAYERS
PERL_COPY_ON_WRITE
PERL_DONT_CREATE_GVSV
PERL_HASH_FUNC_SIPHASH13
PERL_HASH_USE_SBOX32
PERL_OP_PARENT
PERL_PRESERVE_IVUV
PERL_USE_DEVEL
PERL_USE_SAFE_PUTENV
USE_64_BIT_ALL
USE_64_BIT_INT
USE_LARGE_FILES
USE_LOCALE
USE_LOCALE_COLLATE
USE_LOCALE_CTYPE
USE_LOCALE_NUMERIC
USE_LOCALE_TIME
USE_PERLIO
USE_PERL_ATOF
Built under freebsd
Compiled at Nov 21 2022 21:42:52
%ENV:
PERL5LIB="/home/cpansand/.cpan/build/2022121814/LWP-Online-1.08-0/blib/arch:/home/cpansand/.cpan/build/2022121814/LWP-Online-1.08-0/blib/lib:/home/cpansand/.cpan/build/2022121814/Email-Stuffer-0.018-0/blib/arch:/home/cpansand/.cpan/build/2022121814/Email-Stuffer-0.018-0/blib/lib:/home/cpansand/.cpan/build/2022121814/Data-Validate-Email-0.06-0/blib/arch:/home/cpansand/.cpan/build/2022121814/Data-Validate-Email-0.06-0/blib/lib:/home/cpansand/.cpan/build/2022121814/Email-Address-1.912-0/blib/arch:/home/cpansand/.cpan/build/2022121814/Email-Address-1.912-0/blib/lib"
PERL5OPT=""
PERL5_CPANPLUS_IS_RUNNING="38073"
PERL5_CPAN_IS_RUNNING="38073"
PERL5_CPAN_IS_RUNNING_IN_RECURSION="38042,38073"
PERLDOC="-MPod::Perldoc::ToTextOverstrike"
PERL_BATCH="yes"
PERL_CANARY_STABILITY_NOPROMPT="1"
PERL_CPAN_REPORTER_CONFIG="/var/tmp/cpansmoker-1023/2022121814/cpanreporter_000_config.ini"
PERL_EXTUTILS_AUTOINSTALL="--defaultdeps"
PERL_USE_UNSAFE_INC="1"
@INC:
/home/cpansand/.cpan/build/2022121814/LWP-Online-1.08-0/blib/arch
/home/cpansand/.cpan/build/2022121814/LWP-Online-1.08-0/blib/lib
/home/cpansand/.cpan/build/2022121814/Email-Stuffer-0.018-0/blib/arch
/home/cpansand/.cpan/build/2022121814/Email-Stuffer-0.018-0/blib/lib
/home/cpansand/.cpan/build/2022121814/Data-Validate-Email-0.06-0/blib/arch
/home/cpansand/.cpan/build/2022121814/Data-Validate-Email-0.06-0/blib/lib
/home/cpansand/.cpan/build/2022121814/Email-Address-1.912-0/blib/arch
/home/cpansand/.cpan/build/2022121814/Email-Address-1.912-0/blib/lib
/usr/perl5.37.6p/lib/site_perl/5.37.6/amd64-freebsd
/usr/perl5.37.6p/lib/site_perl/5.37.6
/usr/perl5.37.6p/lib/5.37.6/amd64-freebsd
/usr/perl5.37.6p/lib/5.37.6
.