Alien-libudev v0.15 Perl 5 v5.22.1 x86_64-linux-thread-multi

Status
Pass
From
Nigel Horne
Dist
Alien-libudev v0.15
Platform
Perl 5 v5.22.1 x86_64-linux-thread-multi
Date
2019-01-19 15:41:52
ID
be075dc6-1c00-11e9-9436-f5304fb0d66f
This distribution has been tested as part of the CPAN Testers
project, supporting the Perl programming language.  See
http://wiki.cpantesters.org/ for more information or email
questions to cpan-testers-discuss@perl.org


--
Dear Ahmad Fatoum,

This is a computer-generated report for Alien-libudev-0.15
on perl 5.22.1, created by CPAN-Reporter-1.2018.

Thank you for uploading your work to CPAN.  Congratulations!
All tests were successful.

Sections of this report:

    * Tester comments
    * Program output
    * Prerequisites
    * Environment and other context

------------------------------
TESTER COMMENTS
------------------------------

Additional comments from tester:

this report is from an automated smoke testing program
and was not reviewed by a human for accuracy

------------------------------
PROGRAM OUTPUT
------------------------------

Output from '/usr/bin/make test':

"/home/njh/perl5/perlbrew/perls/perl-5.22.1/bin/perl" -MAlien::Build::MM=cmd -e test
Alien::Build::Plugin::PkgConfig::Negotiate> Using PkgConfig plugin: PkgConfig::CommandLine
PERL_DL_NONLAZY=1 "/home/njh/perl5/perlbrew/perls/perl-5.22.1/bin/perl" "-MExtUtils::Command::MM" "-MTest::Harness" "-e" "undef *Test::Harness::Switches; test_harness(0, 'blib/lib', 'blib/arch')" t/*.t
t/init.t ............... skipped: test requires Test::CChecker
t/00-compile.t ......... ok
# 
# Versions for all modules listed in MYMETA.json (including optional ones):
# 
# === Configure Requires ===
# 
#     Module              Want Have
#     ------------------- ---- ----
#     Alien::Build        0.32 1.50
#     Alien::Build::MM    0.32 1.50
#     ExtUtils::MakeMaker 6.52 7.34
# 
# === Build Requires ===
# 
#     Module                                        Want     Have
#     -------------------------------------------- ----- --------
#     Alien::Build                                  0.32     1.50
#     Alien::Build::MM                              0.32     1.50
#     Alien::Build::Plugin::Gather::IsolateDynamic  0.48     1.50
#     Alien::autoconf                               0.03     0.14
#     Alien::gperf                                 0.005    0.005
#     Alien::libtool                                0.02     0.12
#     Alien::m4                                     0.11     0.17
#     Archive::Zip                                   any     1.64
#     Config                                         any 5.022001
#     ExtUtils::MakeMaker                           6.52     7.34
#     HTML::LinkExtor                                any     3.69
#     HTTP::Tiny                                   0.044    0.076
#     IO::Socket::SSL                               1.56    2.059
#     Net::SSLeay                                   1.49     1.78
#     Sort::Versions                                 any     1.62
#     URI                                            any     1.71
#     URI::Escape                                    any     3.31
# 
# === Test Requires ===
# 
#     Module              Want     Have
#     ------------------- ---- --------
#     ExtUtils::MakeMaker 6.52     7.34
#     File::Spec           any     3.74
#     IO::Handle           any     1.39
#     IPC::Open3           any     1.18
#     Test::More           any 1.302140
# 
# === Test Recommends ===
# 
#     Module         Want     Have
#     ---------- -------- --------
#     CPAN::Meta 2.120900 2.150010
# 
# === Runtime Requires ===
# 
#     Module       Want Have
#     ------------ ---- ----
#     Alien::Build 0.25 1.50
# 
t/00-report-prereqs.t .. ok
All tests successful.
Files=3, Tests=2,  0 wallclock secs ( 0.02 usr  0.00 sys +  0.33 cusr  0.05 csys =  0.40 CPU)
Result: PASS

------------------------------
PREREQUISITES
------------------------------

Prerequisite modules loaded:

requires:

    Module                                       Need  Have    
    -------------------------------------------- ----- --------
    Alien::Build                                 0.25  1.50    
    perl                                         5.008 5.022001

build_requires:

    Module                                       Need  Have    
    -------------------------------------------- ----- --------
    Alien::autoconf                              0.03  0.14    
    Alien::Build                                 0.32  1.50    
    Alien::Build::MM                             0.32  1.50    
    Alien::Build::Plugin::Gather::IsolateDynamic 0.48  1.50    
    Alien::gperf                                 0.005 0.005   
    Alien::libtool                               0.02  0.12    
    Alien::m4                                    0.11  0.17    
    Archive::Zip                                 0     1.64    
    Config                                       0     5.022001
    ExtUtils::MakeMaker                          6.52  7.34    
    File::Spec                                   0     3.74    
    HTML::LinkExtor                              0     3.69    
    HTTP::Tiny                                   0.044 0.076   
    IO::Handle                                   0     1.39    
    IO::Socket::SSL                              1.56  2.059   
    IPC::Open3                                   0     1.18    
    Net::SSLeay                                  1.49  1.78    
    Sort::Versions                               0     1.62    
    Test::More                                   0     1.302140
    URI                                          0     1.71    
    URI::Escape                                  0     3.31    

configure_requires:

    Module                                       Need  Have    
    -------------------------------------------- ----- --------
    Alien::Build                                 0.32  1.50    
    Alien::Build::MM                             0.32  1.50    
    ExtUtils::MakeMaker                          6.52  7.34    
    perl                                         5.006 5.022001


------------------------------
ENVIRONMENT AND OTHER CONTEXT
------------------------------

Environment variables:

    AUTOMATED_TESTING = 1
    HARNESS_OPTIONS = j4
    LANG = en_GB.UTF-8
    LANGUAGE = en_GB:en
    PATH = /home/njh/perl5/perlbrew/bin:/home/njh/perl5/perlbrew/perls/perl-5.22.1/bin:/usr/bin:/bin:/home/njh/src/njh/smoker/bin
    PERL5LIB = /home/njh/.cpan/build/Alien-libtool-0.12-2/blib/arch:/home/njh/.cpan/build/Alien-libtool-0.12-2/blib/lib:/home/njh/.cpan/build/Alien-gperf-0.005-7/blib/arch:/home/njh/.cpan/build/Alien-gperf-0.005-7/blib/lib:/home/njh/.cpan/build/Alien-autoconf-0.14-8/blib/arch:/home/njh/.cpan/build/Alien-autoconf-0.14-8/blib/lib:/home/njh/.cpan/build/Sort-Versions-1.62-6/blib/arch:/home/njh/.cpan/build/Sort-Versions-1.62-6/blib/lib:/home/njh/.cpan/build/Alien-m4-0.17-8/blib/arch:/home/njh/.cpan/build/Alien-m4-0.17-8/blib/lib:/home/njh/.cpan/build/Alien-Build-1.50-8/blib/arch:/home/njh/.cpan/build/Alien-Build-1.50-8/blib/lib:/home/njh/.cpan/build/FFI-CheckLib-0.23-8/blib/arch:/home/njh/.cpan/build/FFI-CheckLib-0.23-8/blib/lib
    PERL5OPT = 
    PERL5_CPANPLUS_IS_RUNNING = 32545
    PERL5_CPAN_IS_RUNNING = 32545
    PERLBREW_HOME = /home/njh/.perlbrew
    PERLBREW_MANPATH = /home/njh/perl5/perlbrew/perls/perl-5.22.1/man
    PERLBREW_PATH = /home/njh/perl5/perlbrew/bin:/home/njh/perl5/perlbrew/perls/perl-5.22.1/bin
    PERLBREW_PERL = perl-5.22.1
    PERLBREW_ROOT = /home/njh/perl5/perlbrew
    PERLBREW_SHELLRC_VERSION = 0.82
    PERLBREW_VERSION = 0.82
    PERL_USE_UNSAFE_INC = 1
    SHELL = /bin/sh
    TEMP = /tmp/user/1000
    TMPDIR = /tmp/user/1000/testwrapper.32530

Perl special variables (and OS-specific diagnostics, for MSWin32):

    $^X = /home/njh/perl5/perlbrew/perls/perl-5.22.1/bin/perl
    $UID/$EUID = 1000 / 1000
    $GID = 1000 4 24 25 29 30 44 46 108 112 1000
    $EGID = 1000 4 24 25 29 30 44 46 108 112 1000

Perl module toolchain versions installed:

    Module              Have    
    ------------------- --------
    CPAN                2.22    
    CPAN::Meta          2.150010
    Cwd                 3.74    
    ExtUtils::CBuilder  0.280230
    ExtUtils::Command   7.34    
    ExtUtils::Install   2.14    
    ExtUtils::MakeMaker 7.34    
    ExtUtils::Manifest  1.71    
    ExtUtils::ParseXS   3.35    
    File::Spec          3.74    
    JSON                4.00    
    JSON::PP            2.97001 
    Module::Build       0.4218  
    Module::Signature   n/a     
    Parse::CPAN::Meta   2.150010
    Test::Harness       3.36    
    Test::More          1.302140
    YAML                1.27    
    YAML::Syck          1.31    
    version             0.9909  


--

Summary of my perl5 (revision 5 version 22 subversion 1) configuration:
   
  Platform:
    osname=linux, osvers=4.2.0-1-amd64, archname=x86_64-linux-thread-multi
    uname='linux nigelhorne.force9.co.uk 4.2.0-1-amd64 #1 smp debian 4.2.6-1 (2015-11-10) x86_64 gnulinux '
    config_args='-de -Dprefix=/home/njh/perl5/perlbrew/perls/perl-5.22.1 -Duseithreads -Dusemultiplicity -Dusedevel -Accflags= -Aeval:scriptdir=/home/njh/perl5/perlbrew/perls/perl-5.22.1/bin'
    hint=recommended, useposix=true, d_sigaction=define
    useithreads=define, usemultiplicity=define
    use64bitint=define, use64bitall=define, uselongdouble=undef
    usemymalloc=n, bincompat5005=undef
  Compiler:
    cc='cc', ccflags ='-D_REENTRANT -D_GNU_SOURCE -fwrapv -fno-strict-aliasing -pipe -fstack-protector-strong -I/usr/local/include -D_LARGEFILE_SOURCE -D_FILE_OFFSET_BITS=64',
    optimize='-O2',
    cppflags='-D_REENTRANT -D_GNU_SOURCE -fwrapv -fno-strict-aliasing -pipe -fstack-protector-strong -I/usr/local/include'
    ccversion='', gccversion='5.3.1 20151207', gccosandvers=''
    intsize=4, longsize=8, ptrsize=8, doublesize=8, byteorder=12345678, doublekind=3
    d_longlong=define, longlongsize=8, d_longdbl=define, longdblsize=16, longdblkind=3
    ivtype='long', ivsize=8, nvtype='double', nvsize=8, Off_t='off_t', lseeksize=8
    alignbytes=8, prototype=define
  Linker and Libraries:
    ld='cc', ldflags =' -fstack-protector-strong -L/usr/local/lib'
    libpth=/usr/local/lib /usr/lib/gcc/x86_64-linux-gnu/5/include-fixed /usr/include/x86_64-linux-gnu /usr/lib /lib/x86_64-linux-gnu /lib/../lib /usr/lib/x86_64-linux-gnu /usr/lib/../lib /lib
    libs=-lpthread -lnsl -lgdbm -ldb -ldl -lm -lcrypt -lutil -lc -lgdbm_compat
    perllibs=-lpthread -lnsl -ldl -lm -lcrypt -lutil -lc
    libc=libc-2.21.so, so=so, useshrplib=false, libperl=libperl.a
    gnulibc_version='2.21'
  Dynamic Linking:
    dlsrc=dl_dlopen.xs, dlext=so, d_dlsymun=undef, ccdlflags='-Wl,-E'
    cccdlflags='-fPIC', lddlflags='-shared -O2 -L/usr/local/lib -fstack-protector-strong'


Characteristics of this binary (from libperl): 
  Compile-time options: HAS_TIMES MULTIPLICITY PERLIO_LAYERS
                        PERL_DONT_CREATE_GVSV
                        PERL_HASH_FUNC_ONE_AT_A_TIME_HARD
                        PERL_IMPLICIT_CONTEXT PERL_MALLOC_WRAP
                        PERL_NEW_COPY_ON_WRITE PERL_PRESERVE_IVUV
                        PERL_USE_DEVEL USE_64_BIT_ALL USE_64_BIT_INT
                        USE_ITHREADS USE_LARGE_FILES USE_LOCALE
                        USE_LOCALE_COLLATE USE_LOCALE_CTYPE
                        USE_LOCALE_NUMERIC USE_LOCALE_TIME USE_PERLIO
                        USE_PERL_ATOF USE_REENTRANT_API
  Built under linux
  Compiled at Dec 20 2015 00:32:13
  %ENV:
    PERL5LIB="/home/njh/.cpan/build/Alien-libtool-0.12-2/blib/arch:/home/njh/.cpan/build/Alien-libtool-0.12-2/blib/lib:/home/njh/.cpan/build/Alien-gperf-0.005-7/blib/arch:/home/njh/.cpan/build/Alien-gperf-0.005-7/blib/lib:/home/njh/.cpan/build/Alien-autoconf-0.14-8/blib/arch:/home/njh/.cpan/build/Alien-autoconf-0.14-8/blib/lib:/home/njh/.cpan/build/Sort-Versions-1.62-6/blib/arch:/home/njh/.cpan/build/Sort-Versions-1.62-6/blib/lib:/home/njh/.cpan/build/Alien-m4-0.17-8/blib/arch:/home/njh/.cpan/build/Alien-m4-0.17-8/blib/lib:/home/njh/.cpan/build/Alien-Build-1.50-8/blib/arch:/home/njh/.cpan/build/Alien-Build-1.50-8/blib/lib:/home/njh/.cpan/build/FFI-CheckLib-0.23-8/blib/arch:/home/njh/.cpan/build/FFI-CheckLib-0.23-8/blib/lib"
    PERL5OPT=""
    PERL5_CPANPLUS_IS_RUNNING="32545"
    PERL5_CPAN_IS_RUNNING="32545"
    PERLBREW_HOME="/home/njh/.perlbrew"
    PERLBREW_MANPATH="/home/njh/perl5/perlbrew/perls/perl-5.22.1/man"
    PERLBREW_PATH="/home/njh/perl5/perlbrew/bin:/home/njh/perl5/perlbrew/perls/perl-5.22.1/bin"
    PERLBREW_PERL="perl-5.22.1"
    PERLBREW_ROOT="/home/njh/perl5/perlbrew"
    PERLBREW_SHELLRC_VERSION="0.82"
    PERLBREW_VERSION="0.82"
    PERL_USE_UNSAFE_INC="1"
  @INC:
    /home/njh/.cpan/build/Alien-libtool-0.12-2/blib/arch
    /home/njh/.cpan/build/Alien-libtool-0.12-2/blib/lib
    /home/njh/.cpan/build/Alien-gperf-0.005-7/blib/arch
    /home/njh/.cpan/build/Alien-gperf-0.005-7/blib/lib
    /home/njh/.cpan/build/Alien-autoconf-0.14-8/blib/arch
    /home/njh/.cpan/build/Alien-autoconf-0.14-8/blib/lib
    /home/njh/.cpan/build/Sort-Versions-1.62-6/blib/arch
    /home/njh/.cpan/build/Sort-Versions-1.62-6/blib/lib
    /home/njh/.cpan/build/Alien-m4-0.17-8/blib/arch
    /home/njh/.cpan/build/Alien-m4-0.17-8/blib/lib
    /home/njh/.cpan/build/Alien-Build-1.50-8/blib/arch
    /home/njh/.cpan/build/Alien-Build-1.50-8/blib/lib
    /home/njh/.cpan/build/FFI-CheckLib-0.23-8/blib/arch
    /home/njh/.cpan/build/FFI-CheckLib-0.23-8/blib/lib
    /home/njh/perl5/perlbrew/perls/perl-5.22.1/lib/site_perl/5.22.1/x86_64-linux-thread-multi
    /home/njh/perl5/perlbrew/perls/perl-5.22.1/lib/site_perl/5.22.1
    /home/njh/perl5/perlbrew/perls/perl-5.22.1/lib/5.22.1/x86_64-linux-thread-multi
    /home/njh/perl5/perlbrew/perls/perl-5.22.1/lib/5.22.1
    .