SQL-SplitStatement v1.00023 Perl 5 v5.35.5 x86_64-linux-ld
- Status
- Pass
- From
- Andreas J. König (ANDK)
- Dist
-
SQL-SplitStatement v1.00023
- Platform
- Perl 5 v5.35.5 x86_64-linux-ld
- Date
- 2021-10-20 21:29:00
- ID
- bde988fa-31ec-11ec-a09a-8df02e29cc8f
This distribution has been tested as part of the CPAN Testers
project, supporting the Perl programming language. See
http://wiki.cpantesters.org/ for more information or email
questions to cpan-testers-discuss@perl.org
--
Dear Avishai Goldman,
This is a computer-generated report for SQL-SplitStatement-1.00023
on perl 5.35.5, created by CPAN-Reporter-1.2018.
Thank you for uploading your work to CPAN. Congratulations!
All tests were successful.
Sections of this report:
* Tester comments
* Program output
* Prerequisites
* Environment and other context
------------------------------
TESTER COMMENTS
------------------------------
Additional comments from tester:
this report is from an automated smoke testing program
and was not reviewed by a human for accuracy
------------------------------
PROGRAM OUTPUT
------------------------------
Output from '/usr/bin/make test':
PERL_DL_NONLAZY=1 "/tmp/basesmoker-reloperl-VfDl/bin/perl" "-MExtUtils::Command::MM" "-MTest::Harness" "-e" "undef *Test::Harness::Switches; test_harness(0, 'blib/lib', 'blib/arch')" t/*.t t/basic/*.t t/mysql/*.t t/postgres/*.t t/proc/*.t
t/00-compile.t .............................. ok
# Testing SQL::SplitStatement 1.00023, Perl 5.035005, /tmp/basesmoker-reloperl-VfDl/bin/perl
t/00-load.t ................................. ok
#
# Versions for all modules listed in MYMETA.json (including optional ones):
#
# === Configure Requires ===
#
# Module Want Have
# ------------------- ---- ----
# ExtUtils::MakeMaker any 7.62
#
# === Build Requires ===
#
# Module Want Have
# ------------------- ---- ----
# ExtUtils::MakeMaker any 7.62
#
# === Test Requires ===
#
# Module Want Have
# ------------------- ---- --------
# ExtUtils::MakeMaker any 7.62
# File::Find any 1.39_01
# File::Spec any 3.81
# File::Temp any 0.2311
# Test::Differences 0.68 0.68
# Test::Exception 0.27 0.43
# Test::More 0.7 1.302188
#
# === Test Recommends ===
#
# Module Want Have
# ---------- -------- --------
# CPAN::Meta 2.120900 2.150010
#
# === Runtime Requires ===
#
# Module Want Have
# --------------------- ---- ----------
# Carp any 1.52
# Class::Accessor::Fast any 0.51
# Exporter any 5.77
# Getopt::Long any 2.52
# List::MoreUtils any 0.430
# Pod::Usage any 2.01
# Regexp::Common any 2017060201
# base any 2.27
# constant any 1.33
# strict any 1.12
# warnings any 1.55
#
t/00-report-prereqs.t ....................... ok
t/80-examples.t ............................. ok
t/81-examples_procedural.t .................. ok
t/82-synopsis.t ............................. ok
t/92-postgresql_pagila.t .................... ok
t/94-exception.t ............................ ok
t/95-script.t ............................... skipped: please install Test::Script::Run to run these tests
t/basic/comments.t .......................... ok
t/basic/empty_statements.t .................. ok
t/basic/hard.t .............................. ok
t/basic/keywords_as_unquoted_identifiers.t .. ok
t/basic/nested_blocks.t ..................... ok
t/basic/placeholders.t ...................... ok
t/basic/placeholders_empty.t ................ ok
t/basic/simple.t ............................ ok
t/basic/slash_terminates.t .................. ok
t/basic/transactions.t ...................... ok
t/basic/transactions_and_proc.t ............. ok
t/mysql/delimiter.t ......................... ok
t/mysql/mixed.t ............................. ok
t/mysql/replace.t ........................... ok
t/mysql/sakila.t ............................ ok
t/postgres/dollar_quoted.t .................. ok
t/postgres/dollar_quoted_w_tranactions.t .... ok
t/postgres/pl_perl.t ........................ ok
t/proc/grant.t .............................. ok
t/proc/plsql_alias.t ........................ ok
t/proc/plsql_function_inside_package.t ...... ok
t/proc/plsql_mixed.t ........................ ok
t/proc/plsql_mixed_endings.t ................ ok
t/proc/plsql_nested_functions.t ............. ok
t/proc/plsql_package.t ...................... ok
t/proc/plsql_RTbug_57971.t .................. ok
t/proc/plsql_slash_endings.t ................ ok
All tests successful.
Files=36, Tests=290, 4 wallclock secs ( 0.06 usr 0.11 sys + 3.52 cusr 0.63 csys = 4.32 CPU)
Result: PASS
------------------------------
PREREQUISITES
------------------------------
Prerequisite modules loaded:
requires:
Module Need Have
--------------------- ---- ----------
base 0 2.27
Carp 0 1.52
Class::Accessor::Fast 0 0.51
constant 0 1.33
Exporter 0 5.77
Getopt::Long 0 2.52
List::MoreUtils 0 0.430
Pod::Usage 0 2.01
Regexp::Common 0 2017060201
strict 0 1.12
warnings 0 1.55
build_requires:
Module Need Have
--------------------- ---- ----------
ExtUtils::MakeMaker 0 7.62
File::Find 0 1.39_01
File::Spec 0 3.81
File::Temp 0 0.2311
Test::Differences 0.68 0.68
Test::Exception 0.27 0.43
Test::More 0.7 1.302188
configure_requires:
Module Need Have
--------------------- ---- ----------
ExtUtils::MakeMaker 0 7.62
------------------------------
ENVIRONMENT AND OTHER CONTEXT
------------------------------
Environment variables:
AUTOMATED_TESTING = 1
LANG = en_US.UTF-8
PATH = /home/sand/bin:/usr/local/bin:/usr/bin:/bin:/usr/games:/usr/local/perl/bin:/usr/X11/bin:/sbin:/usr/sbin
PERL = /tmp/basesmoker-reloperl-VfDl/bin/perl
PERL5LIB =
PERL5OPT =
PERL5_CPANPLUS_IS_RUNNING = 2055423
PERL5_CPAN_IS_RUNNING = 2055423
PERL_CANARY_STABILITY_NOPROMPT = 1
PERL_MM_USE_DEFAULT = 1
PERL_USE_UNSAFE_INC = 1
SHELL = /usr/bin/zsh
TERM = screen
Perl special variables (and OS-specific diagnostics, for MSWin32):
$^X = /tmp/basesmoker-reloperl-VfDl/bin/perl
$UID/$EUID = 1005 / 1005
$GID = 1005 1005
$EGID = 1005 1005
Perl module toolchain versions installed:
Module Have
------------------- --------
CPAN 2.28
CPAN::Meta 2.150010
Cwd 3.82
ExtUtils::CBuilder 0.280236
ExtUtils::Command 7.62
ExtUtils::Install 2.20
ExtUtils::MakeMaker 7.62
ExtUtils::Manifest 1.73
ExtUtils::ParseXS 3.44
File::Spec 3.81
JSON 4.03
JSON::PP 4.06
Module::Build 0.4231
Module::Signature 0.87
Parse::CPAN::Meta 2.150010
Test::Harness 3.43
Test::More 1.302188
YAML 1.30
YAML::Syck 1.34
version 0.9929
--
Summary of my perl5 (revision 5 version 35 subversion 5) configuration:
Commit id: ad41dd2f0916fbc8be46d44ddf90253a19131020
Platform:
osname=linux
osvers=5.14.0-3-amd64
archname=x86_64-linux-ld
uname='linux k93msid 5.14.0-3-amd64 #1 smp debian 5.14.12-1 (2021-10-14) x86_64 gnulinux '
config_args='-Dprefix=/home/sand/src/perl/repoperls/installed-perls/host/k93msid/v5.35.4-156-gad41dd2f09/ea6b -Dmyhostname=k93msid -Dinstallusrbinperl=n -Uversiononly -Dusedevel -des -Ui_db -Dlibswanted=cl pthread socket inet nsl gdbm dbm malloc dl ld sun m crypt sec util c cposix posix ucb BSD gdbm_compat -Uuseithreads -Duselongdouble -DEBUGGING=none'
hint=recommended
useposix=true
d_sigaction=define
useithreads=undef
usemultiplicity=undef
use64bitint=define
use64bitall=define
uselongdouble=define
usemymalloc=n
default_inc_excludes_dot=define
Compiler:
cc='cc'
ccflags ='-fwrapv -fno-strict-aliasing -pipe -fstack-protector-strong -I/usr/local/include -D_LARGEFILE_SOURCE -D_FILE_OFFSET_BITS=64 -D_FORTIFY_SOURCE=2'
optimize='-O2'
cppflags='-fwrapv -fno-strict-aliasing -pipe -fstack-protector-strong -I/usr/local/include'
ccversion=''
gccversion='11.2.0'
gccosandvers=''
intsize=4
longsize=8
ptrsize=8
doublesize=8
byteorder=12345678
doublekind=3
d_longlong=define
longlongsize=8
d_longdbl=define
longdblsize=16
longdblkind=3
ivtype='long'
ivsize=8
nvtype='long double'
nvsize=16
Off_t='off_t'
lseeksize=8
alignbytes=16
prototype=define
Linker and Libraries:
ld='cc'
ldflags =' -fstack-protector-strong -L/usr/local/lib'
libpth=/usr/local/lib /usr/lib/x86_64-linux-gnu /usr/lib /lib/x86_64-linux-gnu /lib
libs=-lpthread -lnsl -ldl -lm -lcrypt -lutil -lc
perllibs=-lpthread -lnsl -ldl -lm -lcrypt -lutil -lc
libc=libc-2.32.so
so=so
useshrplib=false
libperl=libperl.a
gnulibc_version='2.32'
Dynamic Linking:
dlsrc=dl_dlopen.xs
dlext=so
d_dlsymun=undef
ccdlflags='-Wl,-E'
cccdlflags='-fPIC'
lddlflags='-shared -O2 -L/usr/local/lib -fstack-protector-strong'
Characteristics of this binary (from libperl):
Compile-time options:
HAS_TIMES
PERLIO_LAYERS
PERL_COPY_ON_WRITE
PERL_DONT_CREATE_GVSV
PERL_MALLOC_WRAP
PERL_OP_PARENT
PERL_PRESERVE_IVUV
PERL_USE_DEVEL
USE_64_BIT_ALL
USE_64_BIT_INT
USE_LARGE_FILES
USE_LOCALE
USE_LOCALE_COLLATE
USE_LOCALE_CTYPE
USE_LOCALE_NUMERIC
USE_LOCALE_TIME
USE_LONG_DOUBLE
USE_PERLIO
USE_PERL_ATOF
Built under linux
Compiled at Oct 20 2021 00:44:15
%ENV:
PERL="/tmp/basesmoker-reloperl-VfDl/bin/perl"
PERL5LIB=""
PERL5OPT=""
PERL5_CPANPLUS_IS_RUNNING="2055423"
PERL5_CPAN_IS_RUNNING="2055423"
PERL_CANARY_STABILITY_NOPROMPT="1"
PERL_MM_USE_DEFAULT="1"
PERL_USE_UNSAFE_INC="1"
@INC:
/home/sand/src/perl/repoperls/installed-perls/host/k93msid/v5.35.4-156-gad41dd2f09/ea6b/lib/site_perl/5.35.5/x86_64-linux-ld
/home/sand/src/perl/repoperls/installed-perls/host/k93msid/v5.35.4-156-gad41dd2f09/ea6b/lib/site_perl/5.35.5
/home/sand/src/perl/repoperls/installed-perls/host/k93msid/v5.35.4-156-gad41dd2f09/ea6b/lib/5.35.5/x86_64-linux-ld
/home/sand/src/perl/repoperls/installed-perls/host/k93msid/v5.35.4-156-gad41dd2f09/ea6b/lib/5.35.5
.