Crypt-OpenSSL-PKCS10 v0.35 Perl 5 v5.40.1 x86_64-linux-quadmath

Status
Pass
From
Andreas J. König (ANDK)
Dist
Crypt-OpenSSL-PKCS10 v0.35
Platform
Perl 5 v5.40.1 x86_64-linux-quadmath
Date
2025-02-23 15:06:21
ID
bdb0ec9c-f1f7-11ef-b33e-ee4c2e50eb91
This distribution has been tested as part of the CPAN Testers
project, supporting the Perl programming language.  See
http://wiki.cpantesters.org/ for more information or email
questions to cpan-testers-discuss@perl.org


--
Dear Timothy Legge,

This is a computer-generated report for Crypt-OpenSSL-PKCS10-0.35
on perl 5.40.1, created by CPAN-Reporter-1.2020.

Thank you for uploading your work to CPAN.  Congratulations!
All tests were successful.

Sections of this report:

    * Tester comments
    * Program output
    * Prerequisites
    * Environment and other context

------------------------------
TESTER COMMENTS
------------------------------

Additional comments from tester:

this report is from an automated smoke testing program
and was not reviewed by a human for accuracy

------------------------------
PROGRAM OUTPUT
------------------------------

Output from '/usr/bin/make test':

"/home/sand/src/perl/repoperls/installed-perls/host/k93msid/v5.40.1/ec94/bin/perl" -MExtUtils::Command::MM -e 'cp_nonempty' -- PKCS10.bs blib/arch/auto/Crypt/OpenSSL/PKCS10/PKCS10.bs 644
PERL_DL_NONLAZY=1 "/home/sand/src/perl/repoperls/installed-perls/host/k93msid/v5.40.1/ec94/bin/perl" "-MExtUtils::Command::MM" "-MTest::Harness" "-e" "undef *Test::Harness::Switches; test_harness(0, 'blib/lib', 'blib/arch')" t/*.t
# OpenSSL 3.3.2 3 Sep 2024 (Library: OpenSSL 3.3.2 3 Sep 2024)
t/00-openssl-version.t .. ok
t/10-rsa-keys.t ......... ok
t/20-ec.t ............... ok
t/30-ec-keys.t .......... ok
t/author-pod-spell.t .... skipped: these tests are for testing by the author
t/author-pod-syntax.t ... skipped: these tests are for testing by the author
-----BEGIN CERTIFICATE REQUEST-----
MIIBPzCBqQIBADAAMIGfMA0GCSqGSIb3DQEBAQUAA4GNADCBiQKBgQC2VhisXS2g
fSEfJPHHi3YZOpdecUhwnbTwTRuMfcXmSB8cw8PiNzBz1iPt3ZKaBmrWwQCqVwJ8
YISCkCBgUF8Caekt3Rz2FFnNmy8jXojLE4jClqGKPv9mcvaM0nsMY3MEgg5rI4BM
0M0I9gTTmTPJtMOkbKh1MbsxiTYHTzui4wIDAQABoAAwDQYJKoZIhvcNAQELBQAD
gYEARfVIZmEjD9uKY/2kgw5Ol1ijWg3QuzIye2+Yjl+lM7bTTCc7O/AYvl8kRD2r
xWnofdq8eHnkeZvSi6oU739i1DatgtHCqbnLzhwTbjwWSACtaRu+Z3qQg8rHn4qD
3mob/rzZoRSuZGuOnzj65y2qzpa1FRonOCdHIsf7E2swfI8=
-----END CERTIFICATE REQUEST-----
-----BEGIN PRIVATE KEY-----
MIICdgIBADANBgkqhkiG9w0BAQEFAASCAmAwggJcAgEAAoGBALZWGKxdLaB9IR8k
8ceLdhk6l15xSHCdtPBNG4x9xeZIHxzDw+I3MHPWI+3dkpoGatbBAKpXAnxghIKQ
IGBQXwJp6S3dHPYUWc2bLyNeiMsTiMKWoYo+/2Zy9ozSewxjcwSCDmsjgEzQzQj2
BNOZM8m0w6RsqHUxuzGJNgdPO6LjAgMBAAECgYAvdtINbGQINwp8NP3LV/5yKtJk
f1DAIA2N0ESvmb3+aB/RORSwunUeckwAC4GyHqGJLcyiiuvWvLlB04raB5Hzemoc
V7m8kGHtjtEpD1W4+MPFuN8YMLrniiiUVdHRq+SeWL7+5Rmwx/DBH4i/D4oTVsmt
y8McKrY++jRgc/RdoQJBANmtl2NVYYN/xVxz/7pMYNFdd+dFnypDfwFHeSv3Sdvs
D0skbxkRt1OMJGTq/2JTjgiNgoblSvu1taMNRIStoI0CQQDWb7Twp6S9iCGQUnXO
ZAakapRDms6SjoW1v6p0EArU+6t8OI+EVK+D1UE9GZwl7qfSbl2ZZiEuH0TKcCYg
BA0vAkB1xoGpgjG/l2suaajMoLSlst/EJxxGHrzh8UzzZ9nzftaLfowJ0VcSgjnS
zH8fMTwhDoe3+unGJPvA29Xdv5+lAkAEuLLwNZDAB5ZNmjMz1yn6Rsp67parzW2O
Qekb4xqJ8/yjoI8wZ7jxmylzkfPJNgcF8B4peYEzhca6+lssi0pLAkEAllhZSidm
xenpP2ifxmgoJeqfUdCENtQbBFo6caq1lgr56ULheAMxGHzB32AHgDIewZn9UPc+
ULk6Tc5ZIdnRZQ==
-----END PRIVATE KEY-----


Public-Key: (1024 bit)
Modulus:
    00:b6:56:18:ac:5d:2d:a0:7d:21:1f:24:f1:c7:8b:
    76:19:3a:97:5e:71:48:70:9d:b4:f0:4d:1b:8c:7d:
    c5:e6:48:1f:1c:c3:c3:e2:37:30:73:d6:23:ed:dd:
    92:9a:06:6a:d6:c1:00:aa:57:02:7c:60:84:82:90:
    20:60:50:5f:02:69:e9:2d:dd:1c:f6:14:59:cd:9b:
    2f:23:5e:88:cb:13:88:c2:96:a1:8a:3e:ff:66:72:
    f6:8c:d2:7b:0c:63:73:04:82:0e:6b:23:80:4c:d0:
    cd:08:f6:04:d3:99:33:c9:b4:c3:a4:6c:a8:75:31:
    bb:31:89:36:07:4f:3b:a2:e3
Exponent: 65537 (0x10001)

-----BEGIN CERTIFICATE REQUEST-----
MIIBPzCBqQIBADAAMIGfMA0GCSqGSIb3DQEBAQUAA4GNADCBiQKBgQDF2KCtc23n
jkMaG3BGYjRCMYbl3HpnszWMq3GShaNyoglI7+7Hswu6DRnHhjrHu9rXaSqyHEn2
t9UZ96xZJqoCKxSVjV0i5LFo6OH3yOWUlZheL/3A3OpMnEtDq8d+2Nm80Xp3HL6d
eFfTkCsRzHYu0huAVhGi0h8FOMU+Xz+N9QIDAQABoAAwDQYJKoZIhvcNAQELBQAD
gYEAcGjRyUKKyT85yAMGNC+8INPi8FfvVii8OVL9ozeVhCF317kmeB8NVo1d5sxR
UDgKSb8cQ3+GZoXavf5XEMKtVIDxZCTfYiTf0FhUBdAgdXVgZGm6D9jycY0VDJEM
RNZfhQeP9L76TRkH0vNJdwWKzx+9yUsrKYv37DfOShMbOGg=
-----END CERTIFICATE REQUEST-----

Public-Key: (1024 bit)
Modulus:
    00:c5:d8:a0:ad:73:6d:e7:8e:43:1a:1b:70:46:62:
    34:42:31:86:e5:dc:7a:67:b3:35:8c:ab:71:92:85:
    a3:72:a2:09:48:ef:ee:c7:b3:0b:ba:0d:19:c7:86:
    3a:c7:bb:da:d7:69:2a:b2:1c:49:f6:b7:d5:19:f7:
    ac:59:26:aa:02:2b:14:95:8d:5d:22:e4:b1:68:e8:
    e1:f7:c8:e5:94:95:98:5e:2f:fd:c0:dc:ea:4c:9c:
    4b:43:ab:c7:7e:d8:d9:bc:d1:7a:77:1c:be:9d:78:
    57:d3:90:2b:11:cc:76:2e:d2:1b:80:56:11:a2:d2:
    1f:05:38:c5:3e:5f:3f:8d:f5
Exponent: 65537 (0x10001)

rsa
-----BEGIN PUBLIC KEY-----
MIGfMA0GCSqGSIb3DQEBAQUAA4GNADCBiQKBgQDF2KCtc23njkMaG3BGYjRCMYbl
3HpnszWMq3GShaNyoglI7+7Hswu6DRnHhjrHu9rXaSqyHEn2t9UZ96xZJqoCKxSV
jV0i5LFo6OH3yOWUlZheL/3A3OpMnEtDq8d+2Nm80Xp3HL6deFfTkCsRzHYu0huA
VhGi0h8FOMU+Xz+N9QIDAQAB
-----END PUBLIC KEY-----

-----BEGIN CERTIFICATE REQUEST-----
MIIBPzCBqQIBADAAMIGfMA0GCSqGSIb3DQEBAQUAA4GNADCBiQKBgQC+9pWR4jiS
NQmoYUyyOSCwFVTdxyo/3r7g2KL1mYJU84IejlrwlFMFsigwUcThp8995P5d4ugf
+jvNd88yrqbZqkhimEH9x75clOapM0KaYkhsxNPMPMyYGlgUsefhn+o8yvsX/Dcx
LoUZp+eTayVHemN8PIaRcJjfJMRosKbZUwIDAQABoAAwDQYJKoZIhvcNAQEMBQAD
gYEAuWF26sUsfMS88YbnVn8OiOZ6c3fKyuJjSjudZWoe7SUmkYKYdotlXhhhqTOt
dqQTf/Si6VFkIHRWp369X/PRw0SGJAAIiwivNQrfLv9ElDjKx0TnKo2s42nXT+GI
8RMzlSiPY7TCZGP1/qdG/4OeNbf+WXU89xFleJFOvVrJWfM=
-----END CERTIFICATE REQUEST-----

Public-Key: (1024 bit)
Modulus:
    00:be:f6:95:91:e2:38:92:35:09:a8:61:4c:b2:39:
    20:b0:15:54:dd:c7:2a:3f:de:be:e0:d8:a2:f5:99:
    82:54:f3:82:1e:8e:5a:f0:94:53:05:b2:28:30:51:
    c4:e1:a7:cf:7d:e4:fe:5d:e2:e8:1f:fa:3b:cd:77:
    cf:32:ae:a6:d9:aa:48:62:98:41:fd:c7:be:5c:94:
    e6:a9:33:42:9a:62:48:6c:c4:d3:cc:3c:cc:98:1a:
    58:14:b1:e7:e1:9f:ea:3c:ca:fb:17:fc:37:31:2e:
    85:19:a7:e7:93:6b:25:47:7a:63:7c:3c:86:91:70:
    98:df:24:c4:68:b0:a6:d9:53
Exponent: 65537 (0x10001)

rsa
-----BEGIN PUBLIC KEY-----
MIGfMA0GCSqGSIb3DQEBAQUAA4GNADCBiQKBgQC+9pWR4jiSNQmoYUyyOSCwFVTd
xyo/3r7g2KL1mYJU84IejlrwlFMFsigwUcThp8995P5d4ugf+jvNd88yrqbZqkhi
mEH9x75clOapM0KaYkhsxNPMPMyYGlgUsefhn+o8yvsX/DcxLoUZp+eTayVHemN8
PIaRcJjfJMRosKbZUwIDAQAB
-----END PUBLIC KEY-----

-----BEGIN CERTIFICATE REQUEST-----
MIICJzCCAZACAQAwKTELMAkGA1UEBhMCUk8xDDAKBgNVBAoMA1VUSTEMMAoGA1UE
CwwDc3NpMIGfMA0GCSqGSIb3DQEBAQUAA4GNADCBiQKBgQCsLxIXkmtvSHGNx1Dp
Gk5L16RLthiE6o00L0qiWlrQEiE82KZKWGS8wkNAjk53XtaBJrMtu/wlCH16ztzh
gaH/A7PJqIqyEz7/hK0TNdcXoA5LcFWKwe8Uus/gWSr9pwgaB4/HLhkZUvFO0ZjQ
0NPczVdguBee60lpIwn0C645FwIDAQABoIG9MIG6BgkqhkiG9w0BCQ4xgawwgakw
DgYDVR0PAQH/BAQDAgWgMC4GA1UdJQQnMCUGCCsGAQUFBwMBBglghkgBhvhCBAEG
CisGAQQBgjcKAwMGAisEMBwGA1UdEQQVMBOBEXN0ZXZlQG9wZW5zc2wub3JnMB0G
A1UdDgQWBBSdTTeAJ5xSszki8bw3E7JIAblmMDAZBgMqAwMEEhYQTXkgbmV3IGV4
dGVuc2lvbjAPBgMqAwQECB4GAGEAYgBjMA0GCSqGSIb3DQEBCwUAA4GBAJOlraTv
rRjvpw+JdvjAObDgyNjrfoVx4k4cphtrZZT1OkUPTO7gcDa8BSpdVYgHTn4dhh9I
5ct95wsoDX6JruSkSwJxfT/wZWlklpDFbBoFgOCNqiEn1wY0kVMYnb8//kis3KXm
gH3uYeitkVOlFeknZ1vgXIIypb9/G4k8uAbg
-----END CERTIFICATE REQUEST-----
Public-Key: (1024 bit)
Modulus:
    00:ac:2f:12:17:92:6b:6f:48:71:8d:c7:50:e9:1a:
    4e:4b:d7:a4:4b:b6:18:84:ea:8d:34:2f:4a:a2:5a:
    5a:d0:12:21:3c:d8:a6:4a:58:64:bc:c2:43:40:8e:
    4e:77:5e:d6:81:26:b3:2d:bb:fc:25:08:7d:7a:ce:
    dc:e1:81:a1:ff:03:b3:c9:a8:8a:b2:13:3e:ff:84:
    ad:13:35:d7:17:a0:0e:4b:70:55:8a:c1:ef:14:ba:
    cf:e0:59:2a:fd:a7:08:1a:07:8f:c7:2e:19:19:52:
    f1:4e:d1:98:d0:d0:d3:dc:cd:57:60:b8:17:9e:eb:
    49:69:23:09:f4:0b:ae:39:17
Exponent: 65537 (0x10001)

-----BEGIN PUBLIC KEY-----
MIGfMA0GCSqGSIb3DQEBAQUAA4GNADCBiQKBgQCsLxIXkmtvSHGNx1DpGk5L16RL
thiE6o00L0qiWlrQEiE82KZKWGS8wkNAjk53XtaBJrMtu/wlCH16ztzhgaH/A7PJ
qIqyEz7/hK0TNdcXoA5LcFWKwe8Uus/gWSr9pwgaB4/HLhkZUvFO0ZjQ0NPczVdg
uBee60lpIwn0C645FwIDAQAB
-----END PUBLIC KEY-----

t/Mytest.t .............. ok
t/release-kwalitee.t .... skipped: these tests are for release candidate testing
t/release-meta-json.t ... skipped: these tests are for release candidate testing
All tests successful.
Files=9, Tests=150,  8 wallclock secs ( 0.08 usr  0.05 sys +  5.92 cusr  0.95 csys =  7.00 CPU)
Result: PASS

------------------------------
PREREQUISITES
------------------------------

Prerequisite modules loaded:

requires:

    Module                 Need  Have    
    ---------------------- ----- --------
    Crypt::OpenSSL::RSA    0     0.33    
    Exporter               0     5.78    
    perl                   5.008 5.040001
    XSLoader               0     0.32    

build_requires:

    Module                 Need  Have    
    ---------------------- ----- --------
    Crypt::OpenSSL::Guess  0.11  0.15    
    Crypt::OpenSSL::RSA    0     0.33    
    File::Slurper          0     0.014   
    File::Spec::Functions  0     3.91    
    File::Temp             0     0.2311  
    Import::Into           0     1.002005
    Test::Lib              0     0.003   
    Test::More             0     1.302207

configure_requires:

    Module                 Need  Have    
    ---------------------- ----- --------
    Crypt::OpenSSL::Guess  0.11  0.15    
    ExtUtils::MakeMaker    0     7.70    

opt_requires:

    Module                 Need  Have    
    ---------------------- ----- --------
    Crypt::OpenSSL::Bignum 0     0.09    


------------------------------
ENVIRONMENT AND OTHER CONTEXT
------------------------------

Environment variables:

    AUTOMATED_TESTING = 1
    LANG = en_US.UTF-8
    LANGUAGE = en_US:en
    PATH = /home/sand/bin:/usr/local/bin:/usr/bin:/bin:/usr/games:/usr/local/perl/bin:/usr/X11/bin:/sbin:/usr/sbin
    PERL5LIB = 
    PERL5OPT = 
    PERL5_CPANPLUS_IS_RUNNING = 1443264
    PERL5_CPAN_IS_RUNNING = 1443264
    PERL_CANARY_STABILITY_NOPROMPT = 1
    PERL_MM_USE_DEFAULT = 1
    PERL_USE_UNSAFE_INC = 1
    SHELL = /usr/bin/zsh
    TERM = screen

Perl special variables (and OS-specific diagnostics, for MSWin32):

    $^X = /home/sand/src/perl/repoperls/installed-perls/host/k93msid/v5.40.1/ec94/bin/perl
    $UID/$EUID = 1005 / 1005
    $GID = 1005 1005
    $EGID = 1005 1005

Perl module toolchain versions installed:

    Module              Have    
    ------------------- --------
    CPAN                2.38    
    CPAN::Meta          2.150010
    Cwd                 3.91    
    ExtUtils::CBuilder  0.280240
    ExtUtils::Command   7.70    
    ExtUtils::Install   2.22    
    ExtUtils::MakeMaker 7.70    
    ExtUtils::Manifest  1.75    
    ExtUtils::ParseXS   3.51    
    File::Spec          3.91    
    JSON                4.10    
    JSON::PP            4.16    
    Module::Build       0.4234  
    Module::Signature   0.89    
    Parse::CPAN::Meta   2.150010
    Test2               1.302207
    Test::Harness       3.50    
    Test::More          1.302207
    YAML                1.31    
    YAML::Syck          1.34    
    version             0.9933  


--

Summary of my perl5 (revision 5 version 40 subversion 1) configuration:
  Commit id: f722f11a2b1a34e28743e331bad6dd7da41e2086
  Platform:
    osname=linux
    osvers=6.8.12-amd64
    archname=x86_64-linux-quadmath
    uname='linux k93msid 6.8.12-amd64 #1 smp preempt_dynamic debian 6.8.12-1 (2024-05-31) x86_64 gnulinux '
    config_args='-Dprefix=/home/sand/src/perl/repoperls/installed-perls/host/k93msid/v5.40.1/ec94 -Dmyhostname=k93msid -Dinstallusrbinperl=n -Uversiononly -Dusedevel -des -Ui_db -Dlibswanted=cl pthread socket inet nsl gdbm dbm malloc dl ld sun m crypt sec util c cposix posix ucb BSD gdbm_compat -Uuseithreads -Uuselongdouble -DEBUGGING=both -Dusequadmath'
    hint=recommended
    useposix=true
    d_sigaction=define
    useithreads=undef
    usemultiplicity=undef
    use64bitint=define
    use64bitall=define
    uselongdouble=undef
    usemymalloc=n
    default_inc_excludes_dot=define
  Compiler:
    cc='cc'
    ccflags ='-fwrapv -DDEBUGGING -fno-strict-aliasing -pipe -fstack-protector-strong -I/usr/local/include -D_LARGEFILE_SOURCE -D_FILE_OFFSET_BITS=64 -D_FORTIFY_SOURCE=2'
    optimize='-O2 -g'
    cppflags='-fwrapv -DDEBUGGING -fno-strict-aliasing -pipe -fstack-protector-strong -I/usr/local/include'
    ccversion=''
    gccversion='13.3.0'
    gccosandvers=''
    intsize=4
    longsize=8
    ptrsize=8
    doublesize=8
    byteorder=12345678
    doublekind=3
    d_longlong=define
    longlongsize=8
    d_longdbl=define
    longdblsize=16
    longdblkind=3
    ivtype='long'
    ivsize=8
    nvtype='__float128'
    nvsize=16
    Off_t='off_t'
    lseeksize=8
    alignbytes=16
    prototype=define
  Linker and Libraries:
    ld='cc'
    ldflags =' -fstack-protector-strong -L/usr/local/lib'
    libpth=/usr/local/lib /usr/lib/x86_64-linux-gnu /usr/lib /usr/lib64
    libs=-lpthread -ldl -lm -lcrypt -lutil -lc -lquadmath
    perllibs=-lpthread -ldl -lm -lcrypt -lutil -lc -lquadmath
    libc=/lib/x86_64-linux-gnu/libc.so.6
    so=so
    useshrplib=false
    libperl=libperl.a
    gnulibc_version='2.38'
  Dynamic Linking:
    dlsrc=dl_dlopen.xs
    dlext=so
    d_dlsymun=undef
    ccdlflags='-Wl,-E'
    cccdlflags='-fPIC'
    lddlflags='-shared -O2 -g -L/usr/local/lib -fstack-protector-strong'


Characteristics of this binary (from libperl): 
  Compile-time options:
    DEBUGGING
    HAS_LONG_DOUBLE
    HAS_STRTOLD
    HAS_TIMES
    PERLIO_LAYERS
    PERL_COPY_ON_WRITE
    PERL_DONT_CREATE_GVSV
    PERL_HASH_FUNC_SIPHASH13
    PERL_HASH_USE_SBOX32
    PERL_MALLOC_WRAP
    PERL_OP_PARENT
    PERL_PRESERVE_IVUV
    PERL_USE_DEVEL
    PERL_USE_SAFE_PUTENV
    USE_64_BIT_ALL
    USE_64_BIT_INT
    USE_LARGE_FILES
    USE_LOCALE
    USE_LOCALE_COLLATE
    USE_LOCALE_CTYPE
    USE_LOCALE_NUMERIC
    USE_LOCALE_TIME
    USE_PERLIO
    USE_PERL_ATOF
    USE_QUADMATH
  Built under linux
  Compiled at Jan 20 2025 19:49:21
  %ENV:
    PERL5LIB=""
    PERL5OPT=""
    PERL5_CPANPLUS_IS_RUNNING="1443264"
    PERL5_CPAN_IS_RUNNING="1443264"
    PERL_CANARY_STABILITY_NOPROMPT="1"
    PERL_MM_USE_DEFAULT="1"
    PERL_USE_UNSAFE_INC="1"
  @INC:
    /home/sand/src/perl/repoperls/installed-perls/host/k93msid/v5.40.1/ec94/lib/site_perl/5.40.1/x86_64-linux-quadmath
    /home/sand/src/perl/repoperls/installed-perls/host/k93msid/v5.40.1/ec94/lib/site_perl/5.40.1
    /home/sand/src/perl/repoperls/installed-perls/host/k93msid/v5.40.1/ec94/lib/5.40.1/x86_64-linux-quadmath
    /home/sand/src/perl/repoperls/installed-perls/host/k93msid/v5.40.1/ec94/lib/5.40.1
    .