IO-Iron v0.13 Perl 5 v5.14.1 x86_64-linux-thread-multi
- Status
- Pass
- From
- Nigel Horne
- Dist
-
IO-Iron v0.13
- Platform
- Perl 5 v5.14.1 x86_64-linux-thread-multi
- Date
- 2019-01-09 01:20:23
- ID
- bd23bda2-13ac-11e9-8d91-e54b29884b48
This distribution has been tested as part of the CPAN Testers
project, supporting the Perl programming language. See
http://wiki.cpantesters.org/ for more information or email
questions to cpan-testers-discuss@perl.org
--
Dear Mikko Koivunalho,
This is a computer-generated report for IO-Iron-0.13
on perl 5.14.1, created by CPAN-Reporter-1.2018.
Thank you for uploading your work to CPAN. Congratulations!
All tests were successful.
Sections of this report:
* Tester comments
* Program output
* Prerequisites
* Environment and other context
------------------------------
TESTER COMMENTS
------------------------------
Additional comments from tester:
this report is from an automated smoke testing program
and was not reviewed by a human for accuracy
------------------------------
PROGRAM OUTPUT
------------------------------
Output from '/usr/bin/make test':
PERL_DL_NONLAZY=1 "/home/njh/perl5/perlbrew/perls/perl-5.14.1/bin/perl" "-MExtUtils::Command::MM" "-MTest::Harness" "-e" "undef *Test::Harness::Switches; test_harness(0, 'blib/lib', 'blib/arch')" t/*.t t/Iron/*.t t/IronCache/*.t t/IronMQ/*.t t/IronWorker/*.t
#
# Versions for all modules listed in MYMETA.json (including optional ones):
#
# === Configure Requires ===
#
# Module Want Have
# ------------------- ---- ----
# ExtUtils::MakeMaker any 7.34
#
# === Build Requires ===
#
# Module Want Have
# ------------------- ---- ----
# ExtUtils::MakeMaker any 7.34
#
# === Test Requires ===
#
# Module Want Have
# ------------------- ---- --------
# Data::Dumper any 2.145
# ExtUtils::MakeMaker any 7.34
# File::Copy any 2.21
# File::Remove any 1.52
# File::Spec any 3.74
# Log::Any::Test any 1.042
# Test::Exception any 0.43
# Test::More any 1.302136
# lib any 0.63
#
# === Test Recommends ===
#
# Module Want Have
# ---------- -------- --------
# CPAN::Meta 2.120900 2.150005
#
# === Runtime Requires ===
#
# Module Want Have
# ------------------ ---- --------
# Carp any 1.32
# Carp::Assert any 0.20
# Carp::Assert::More any 1.14
# Const::Fast any 0.014
# Data::UUID any 1.219
# English any 1.04
# Exception::Class any 1.37
# Exporter any 5.68
# File::HomeDir any 1.004
# File::Spec any 3.74
# Hash::Util 0.06 0.11
# JSON::MaybeXS any 1.003008
# Log::Any any 1.042
# Params::Validate any 1.08
# Path::Tiny any 0.051
# REST::Client any 273
# Scalar::Util any 1.35
# Try::Tiny any 0.28
# URI::Escape any 3.31
# parent any 0.225
# strict any 1.04
# warnings any 1.12
#
t/00-report-prereqs.t ........ ok
# Testing IO::Iron::Common (0.13), Perl 5.014001, /home/njh/perl5/perlbrew/perls/perl-5.14.1/bin/perl
t/Iron/common.t .............. ok
# Testing IO::Iron::IronWorker::Client (0.13), Perl 5.014001, /home/njh/perl5/perlbrew/perls/perl-5.14.1/bin/perl
# test ReadIronMQConfig
# Current dir config filename: ./iron.json
# Extra config filename: t/.IronMQTestConfig.json
# Testing IO::Iron (0.13), Perl 5.014001, /home/njh/perl5/perlbrew/perls/perl-5.14.1/bin/perl
t/Iron/load.t ................ ok
t/Iron/client_readconfig.t ... ok
# Testing IO::Iron::IronCache::Client (0.13), Perl 5.014001, /home/njh/perl5/perlbrew/perls/perl-5.14.1/bin/perl
# Testing IO::Iron::IronCache::Client (0.13) with policies, Perl 5.014001, /home/njh/perl5/perlbrew/perls/perl-5.14.1/bin/perl
t/IronCache/cache_policy.t ... ok
# Testing IO::Iron::IronCache::Client (0.13), Perl 5.014001, /home/njh/perl5/perlbrew/perls/perl-5.14.1/bin/perl
t/IronCache/load.t ........... ok
# Testing IO::Iron::IronMQ::Client (0.13), Perl 5.014001, /home/njh/perl5/perlbrew/perls/perl-5.14.1/bin/perl
t/IronMQ/load.t .............. ok
t/IronCache/cache_policy2.t .. ok
# Testing IO::Iron::IronCache::Client (0.13), Perl 5.014001, /home/njh/perl5/perlbrew/perls/perl-5.14.1/bin/perl
t/IronWorker/load.t .......... ok
All tests successful.
Files=9, Tests=104, 1 wallclock secs ( 0.03 usr 0.02 sys + 1.08 cusr 0.11 csys = 1.24 CPU)
Result: PASS
------------------------------
PREREQUISITES
------------------------------
Prerequisite modules loaded:
requires:
Module Need Have
------------------- --------- --------
Carp 0 1.32
Carp::Assert 0 0.20
Carp::Assert::More 0 1.14
Const::Fast 0 0.014
Data::UUID 0 1.219
English 0 1.04
Exception::Class 0 1.37
Exporter 0 5.68
File::HomeDir 0 1.004
File::Spec 0 3.74
Hash::Util 0.06 0.11
JSON::MaybeXS 0 1.003008
Log::Any 0 1.042
Params::Validate 0 1.08
parent 0 0.225
Path::Tiny 0 0.051
perl 5.010000 5.014001
REST::Client 0 273
Scalar::Util 0 1.35
strict 0 1.04
Try::Tiny 0 0.28
URI::Escape 0 3.31
warnings 0 1.12
build_requires:
Module Need Have
------------------- --------- --------
Data::Dumper 0 2.145
ExtUtils::MakeMaker 0 7.34
File::Copy 0 2.21
File::Remove 0 1.52
File::Spec 0 3.74
lib 0 0.63
Log::Any::Test 0 1.042
Test::Exception 0 0.43
Test::More 0 1.302136
configure_requires:
Module Need Have
------------------- --------- --------
ExtUtils::MakeMaker 0 7.34
perl 5.010_000 5.014001
------------------------------
ENVIRONMENT AND OTHER CONTEXT
------------------------------
Environment variables:
AUTOMATED_TESTING = 1
HARNESS_OPTIONS = j4
LANG = en_GB.UTF-8
LANGUAGE = en_GB:en
PATH = /home/njh/perl5/perlbrew/bin:/home/njh/perl5/perlbrew/perls/perl-5.14.1/bin:/usr/bin:/bin:/home/njh/src/njh/smoker/bin
PERL5LIB = /home/njh/.cpan/build/REST-Client-273-27/blib/arch:/home/njh/.cpan/build/REST-Client-273-27/blib/lib:/home/njh/.cpan/build/Const-Fast-0.014-26/blib/arch:/home/njh/.cpan/build/Const-Fast-0.014-26/blib/lib
PERL5OPT =
PERL5_CPANPLUS_IS_RUNNING = 25682
PERL5_CPAN_IS_RUNNING = 25682
PERLBREW_HOME = /home/njh/.perlbrew
PERLBREW_MANPATH = /home/njh/perl5/perlbrew/perls/perl-5.14.1/man
PERLBREW_PATH = /home/njh/perl5/perlbrew/bin:/home/njh/perl5/perlbrew/perls/perl-5.14.1/bin
PERLBREW_PERL = perl-5.14.1
PERLBREW_ROOT = /home/njh/perl5/perlbrew
PERLBREW_SHELLRC_VERSION = 0.82
PERLBREW_VERSION = 0.82
SHELL = /bin/sh
TEMP = /tmp/user/1000
TMPDIR = /tmp/user/1000/testwrapper.25668
Perl special variables (and OS-specific diagnostics, for MSWin32):
$^X = /home/njh/perl5/perlbrew/perls/perl-5.14.1/bin/perl
$UID/$EUID = 1000 / 1000
$GID = 1000 4 24 25 29 30 44 46 108 112 1000
$EGID = 1000 4 24 25 29 30 44 46 108 112 1000
Perl module toolchain versions installed:
Module Have
------------------- --------
CPAN 2.16
CPAN::Meta 2.150005
Cwd 3.74
ExtUtils::CBuilder 0.280216
ExtUtils::Command 7.34
ExtUtils::Install 2.06
ExtUtils::MakeMaker 7.34
ExtUtils::Manifest 1.70
ExtUtils::ParseXS 3.30
File::Spec 3.74
JSON 4.00
JSON::PP 2.27400
Module::Build 0.4206
Module::Signature 0.73
Parse::CPAN::Meta 1.4422
Test::Harness 3.36
Test::More 1.302136
YAML 1.27
YAML::Syck 1.30
version 0.9903
--
Summary of my perl5 (revision 5 version 14 subversion 1) configuration:
Platform:
osname=linux, osvers=3.2.0-4-amd64, archname=x86_64-linux-thread-multi
uname='linux nigelhorne.force9.co.uk 3.2.0-4-amd64 #1 smp debian 3.2.32-1 x86_64 gnulinux '
config_args='-de -Dprefix=/home/njh/perl5/perlbrew/perls/perl-5.14.1 -Duseithreads -Dusemultiplicity -Accflags=-O2 -W -Wformat=2 -Wswitch -Wshadow -Wwrite-strings -Wuninitialized -Wall -pipe -mtune=native -march=native -fomit-frame-pointer -msse2 -msse -mmmx -mfpmath=sse -pedantic -D_FORTIFY_SOURCE=2 -Wpointer-arith -Wstrict-prototypes -fstack-protector -Wstack-protector -Wextra -Wbad-function-cast -Wcast-align -Wcast-qual -Wdisabled-optimization -Wendif-labels -Wfloat-equal -Wformat-nonliteral -Winline -Wmissing-declarations -Wmissing-prototypes -Wnested-externs -Wpointer-arith -Wundef -Wformat-security -ftree-vectorize -fassociative-math -ftree-vectorizer-verbose=2 -Aeval:scriptdir=/home/njh/perl5/perlbrew/perls/perl-5.14.1/bin'
hint=recommended, useposix=true, d_sigaction=define
useithreads=define, usemultiplicity=define
useperlio=define, d_sfio=undef, uselargefiles=define, usesocks=undef
use64bitint=define, use64bitall=define, uselongdouble=undef
usemymalloc=n, bincompat5005=undef
Compiler:
cc='cc', ccflags ='-D_REENTRANT -D_GNU_SOURCE -O2 -W -Wformat=2 -Wswitch -Wshadow -Wwrite-strings -Wuninitialized -Wall -pipe -mtune=native -march=native -fomit-frame-pointer -msse2 -msse -mmmx -mfpmath=sse -pedantic -D_FORTIFY_SOURCE=2 -Wpointer-arith -Wstrict-prototypes -fstack-protector -Wstack-protector -Wextra -Wbad-function-cast -Wcast-align -Wcast-qual -Wdisabled-optimization -Wendif-labels -Wfloat-equal -Wformat-nonliteral -Winline -Wmissing-declarations -Wmissing-prototypes -Wnested-externs -Wpointer-arith -Wundef -Wformat-security -ftree-vectorize -fassociative-math -ftree-vectorizer-verbose=2 -fno-strict-aliasing -I/usr/local/include -D_LARGEFILE_SOURCE -D_FILE_OFFSET_BITS=64',
optimize='-O2',
cppflags='-D_REENTRANT -D_GNU_SOURCE -O2 -W -Wformat=2 -Wswitch -Wshadow -Wwrite-strings -Wuninitialized -Wall -pipe -mtune=native -march=native -fomit-frame-pointer -msse2 -msse -mmmx -mfpmath=sse -pedantic -D_FORTIFY_SOURCE=2 -Wpointer-arith -Wstrict-prototypes -fstack-protector -Wstack-protector -Wextra -Wbad-function-cast -Wcast-align -Wcast-qual -Wdisabled-optimization -Wendif-labels -Wfloat-equal -Wformat-nonliteral -Winline -Wmissing-declarations -Wmissing-prototypes -Wnested-externs -Wpointer-arith -Wundef -Wformat-security -ftree-vectorize -fassociative-math -ftree-vectorizer-verbose=2 -fno-strict-aliasing -I/usr/local/include'
ccversion='', gccversion='4.7.2', gccosandvers=''
intsize=4, longsize=8, ptrsize=8, doublesize=8, byteorder=12345678
d_longlong=define, longlongsize=8, d_longdbl=define, longdblsize=16
ivtype='long', ivsize=8, nvtype='double', nvsize=8, Off_t='off_t', lseeksize=8
alignbytes=8, prototype=define
Linker and Libraries:
ld='cc', ldflags =' -fstack-protector -L/usr/local/lib'
libpth=/usr/local/lib /lib/x86_64-linux-gnu /lib/../lib /usr/lib/x86_64-linux-gnu /usr/lib/../lib /lib /usr/lib
libs=-lnsl -lgdbm -ldb -ldl -lm -lcrypt -lutil -lpthread -lc -lgdbm_compat
perllibs=-lnsl -ldl -lm -lcrypt -lutil -lpthread -lc
libc=, so=so, useshrplib=false, libperl=libperl.a
gnulibc_version='2.13'
Dynamic Linking:
dlsrc=dl_dlopen.xs, dlext=so, d_dlsymun=undef, ccdlflags='-Wl,-E'
cccdlflags='-fPIC', lddlflags='-shared -O2 -L/usr/local/lib -fstack-protector'
Characteristics of this binary (from libperl):
Compile-time options: MULTIPLICITY PERL_DONT_CREATE_GVSV
PERL_IMPLICIT_CONTEXT PERL_MALLOC_WRAP
PERL_PRESERVE_IVUV USE_64_BIT_ALL USE_64_BIT_INT
USE_ITHREADS USE_LARGE_FILES USE_PERLIO USE_PERL_ATOF
USE_REENTRANT_API
Built under linux
Compiled at Mar 14 2013 13:46:43
%ENV:
PERL5LIB="/home/njh/.cpan/build/REST-Client-273-27/blib/arch:/home/njh/.cpan/build/REST-Client-273-27/blib/lib:/home/njh/.cpan/build/Const-Fast-0.014-26/blib/arch:/home/njh/.cpan/build/Const-Fast-0.014-26/blib/lib"
PERL5OPT=""
PERL5_CPANPLUS_IS_RUNNING="25682"
PERL5_CPAN_IS_RUNNING="25682"
PERLBREW_HOME="/home/njh/.perlbrew"
PERLBREW_MANPATH="/home/njh/perl5/perlbrew/perls/perl-5.14.1/man"
PERLBREW_PATH="/home/njh/perl5/perlbrew/bin:/home/njh/perl5/perlbrew/perls/perl-5.14.1/bin"
PERLBREW_PERL="perl-5.14.1"
PERLBREW_ROOT="/home/njh/perl5/perlbrew"
PERLBREW_SHELLRC_VERSION="0.82"
PERLBREW_VERSION="0.82"
@INC:
/home/njh/.cpan/build/REST-Client-273-27/blib/arch
/home/njh/.cpan/build/REST-Client-273-27/blib/lib
/home/njh/.cpan/build/Const-Fast-0.014-26/blib/arch
/home/njh/.cpan/build/Const-Fast-0.014-26/blib/lib
/home/njh/perl5/perlbrew/perls/perl-5.14.1/lib/site_perl/5.14.1/x86_64-linux-thread-multi
/home/njh/perl5/perlbrew/perls/perl-5.14.1/lib/site_perl/5.14.1
/home/njh/perl5/perlbrew/perls/perl-5.14.1/lib/5.14.1/x86_64-linux-thread-multi
/home/njh/perl5/perlbrew/perls/perl-5.14.1/lib/5.14.1
.