CPAN-Testers-Common-Client v0.14 Perl 5 v5.23.9 darwin-2level

Status
Pass
From
Dist
CPAN-Testers-Common-Client v0.14
Platform
Perl 5 v5.23.9 darwin-2level
Date
2018-07-20 17:02:52
ID
bd1263a4-8c3e-11e8-bd58-b34a2a9e1a05
This distribution has been tested as part of the CPAN Testers
project, supporting the Perl programming language.  See
http://wiki.cpantesters.org/ for more information or email
questions to cpan-testers-discuss@perl.org


--
Dear GARU,

This is a computer-generated report for CPAN-Testers-Common-Client-0.14
on perl 5.23.9, created by App::cpanminus::reporter 0.17 (1.7040).

Thank you for uploading your work to CPAN.  Congratulations!
All tests were successful.

Sections of this report:

    * Tester comments
    * Program output
    * Prerequisites
    * Environment and other context

------------------------------
TESTER COMMENTS
------------------------------

Additional comments from tester:

none provided

------------------------------
PROGRAM OUTPUT
------------------------------

Output from '':

Building and testing CPAN-Testers-Common-Client-0.14
cp lib/CPAN/Testers/Common/Client/History.pm blib/lib/CPAN/Testers/Common/Client/History.pm
cp lib/CPAN/Testers/Common/Client/Config.pm blib/lib/CPAN/Testers/Common/Client/Config.pm
cp lib/CPAN/Testers/Common/Client.pm blib/lib/CPAN/Testers/Common/Client.pm
cp lib/CPAN/Testers/Common/Client/PrereqCheck.pm blib/lib/CPAN/Testers/Common/Client/PrereqCheck.pm
Manifying 4 pod documents
PERL_DL_NONLAZY=1 "/Users/sweth/.plenv/versions/5.23.9/bin/perl5.23.9" "-MExtUtils::Command::MM" "-MTest::Harness" "-e" "undef *Test::Harness::Switches; test_harness(0, 'blib/lib', 'blib/arch')" t/*.t
# Testing CPAN::Testers::Common::Client 0.14
t/00.load.t ................. ok
t/01-basic.t ................ ok
t/02-config.t ............... ok
t/03-history.t .............. ok
t/03-undef-prereq-report.t .. ok
All tests successful.
Files=5, Tests=96,  2 wallclock secs ( 0.03 usr  0.01 sys +  1.67 cusr  0.30 csys =  2.01 CPU)
Result: PASS

------------------------------
PREREQUISITES
------------------------------

Prerequisite modules loaded:

    No requirements found

------------------------------
ENVIRONMENT AND OTHER CONTEXT
------------------------------

Environment variables:

    LANG = en_US.UTF-8
    PATH = /Users/sweth/.plenv/versions/5.23.9/bin:/usr/local/Cellar/plenv/2.2.0/libexec:/Users/sweth/.pyenv/shims:/Users/sweth/.plenv/shims:/Users/sweth/.nodenv/shims:/Users/sweth/Documents/sync/Dropbox/dropbox@vendors.sweth.net/Dropbox/personal/scripts:/Users/sweth/Documents/sync/Dropbox/dropbox@vendors.sweth.net/Dropbox/bin:/Users/sweth/Documents/sync/Dropbox/dropbox@vendors.sweth.net/Dropbox/personal/bin:/Users/sweth/Documents/sync/Dropbox/dropbox@vendors.sweth.net/Dropbox/external/gwu/scripts:/Users/sweth/Documents/sync/Dropbox/dropbox@vendors.sweth.net/Dropbox/external/gwu/bin:/Users/sweth/Documents/sync/Dropbox/dropbox@vendors.sweth.net/Dropbox/external/iinteractive/scripts:/Users/sweth/Documents/sync/Dropbox/dropbox@vendors.sweth.net/Dropbox/external/iinteractive/bin:/Users/sweth/Documents/sync/Dropbox/dropbox@vendors.sweth.net/Dropbox/external/shutterstock/scripts:/Users/sweth/Documents/sync/Dropbox/dropbox@vendors.sweth.net/Dropbox/external/shutterstock/bin:/usr/local/sbin:/usr/local/bin:/Users/sweth/.local/bin:/opt/X11/bin:/sbin:/bin:/usr/sbin:/usr/bin:/usr/libexec:/Users/sweth/Documents/sync/Dropbox/dropbox@vendors.sweth.net/Dropbox/etc/zsh/zshrc_helpers:/usr/local/texlive/2017/bin/x86_64-darwin:/usr/local/Android/platform-tools:/Applications/calibre.app/Contents/MacOS:/Applications/calibre.app/Contents/console.app/Contents/MacOS:/Users/sweth/.go/bin:/usr/local/Cellar/go/1.10.3/libexec/bin:/Library/Java/JavaVirtualMachines/jdk1.8.0_131.jdk/Contents/Home/bin:/Users/sweth/perl5/perlbrew:/Users/sweth/Library/Python/3.6/bin:/Applications/VirtualBox.app/Contents/MacOS
    PERL5LIB = /Users/sweth/perl5
    PERLHEAD = #!/usr/bin/env perl

use autodie;
use Modern::Perl;
use Data::Printer;
use utf8::all;
use charnames qw(:loose :short);
use List::AllUtils qw( :all );
#use Get
#use Regexp::Common;
#use Debug::Simple;
#use Pod::Usage;
#use Getopt::Lucid qw( :all );
#use Getopt::Long;
#use Memoize;
#use Benchmark;
    SHELL = /bin/bash
    TERM = xterm-vt220
    TMPDIR = /var/folders/6w/kst472s93_1dx7sw6lpg24_w0000gn/T/

Perl special variables (and OS-specific diagnostics, for MSWin32):

    EGID = 20 20 701 12 61 79 80 81 98 501 33 100 204 250 395 398 399
    EUID = 501
    EXECUTABLE_NAME = /Users/sweth/.plenv/versions/5.23.9/bin/perl5.23.9
    GID = 20 20 701 12 61 79 80 81 98 501 33 100 204 250 395 398 399
    UID = 501

Perl module toolchain versions installed:

    Module              Have    
    ------------------- --------
    CPAN                2.11    
    CPAN::Meta          2.150005
    Cwd                 3.63    
    ExtUtils::CBuilder  0.280225
    ExtUtils::Command   7.14    
    ExtUtils::Install   2.04    
    ExtUtils::MakeMaker 7.14    
    ExtUtils::Manifest  1.70    
    ExtUtils::ParseXS   3.31    
    File::Spec          3.63    
    JSON                2.97001 
    JSON::PP            2.27300 
    Module::Build       0.4218  
    Module::Signature   n/a     
    Parse::CPAN::Meta   1.4417  
    Test::Harness       3.36    
    Test::More          1.302133
    YAML                1.18    
    YAML::Syck          n/a     
    version             0.9916  


--

Summary of my perl5 (revision 5 version 23 subversion 9) configuration:
   
  Platform:
    osname=darwin, osvers=15.3.0, archname=darwin-2level
    uname='darwin israelite 15.3.0 darwin kernel version 15.3.0: thu dec 10 18:40:58 pst 2015; root:xnu-3248.30.4~1release_x86_64 x86_64 '
    config_args='-Dprefix=/Users/sweth/.plenv/versions/5.23.9 -de -Dusedevel -A'eval:scriptdir=/Users/sweth/.plenv/versions/5.23.9/bin''
    hint=recommended, useposix=true, d_sigaction=define
    useithreads=undef, usemultiplicity=undef
    use64bitint=define, use64bitall=define, uselongdouble=undef
    usemymalloc=n, bincompat5005=undef
  Compiler:
    cc='cc', ccflags ='-fno-common -DPERL_DARWIN -fno-strict-aliasing -pipe -fstack-protector-strong -I/usr/local/include',
    optimize='-O3',
    cppflags='-fno-common -DPERL_DARWIN -fno-strict-aliasing -pipe -fstack-protector-strong -I/usr/local/include'
    ccversion='', gccversion='4.2.1 Compatible Apple LLVM 7.0.2 (clang-700.1.81)', gccosandvers=''
    intsize=4, longsize=8, ptrsize=8, doublesize=8, byteorder=12345678, doublekind=3
    d_longlong=define, longlongsize=8, d_longdbl=define, longdblsize=16, longdblkind=3
    ivtype='long', ivsize=8, nvtype='double', nvsize=8, Off_t='off_t', lseeksize=8
    alignbytes=8, prototype=define
  Linker and Libraries:
    ld='env MACOSX_DEPLOYMENT_TARGET=10.3 cc', ldflags =' -fstack-protector-strong -L/usr/local/lib'
    libpth=/Applications/Xcode.app/Contents/Developer/Toolchains/XcodeDefault.xctoolchain/usr/bin/../lib/clang/7.0.2/lib /Applications/Xcode.app/Contents/Developer/Toolchains/XcodeDefault.xctoolchain/usr/lib /Applications/Xcode.app/Contents/Developer/Platforms/MacOSX.platform/Developer/SDKs/MacOSX10.11.sdk/usr/lib /usr/local/lib /usr/lib
    libs=-lpthread -ldbm -ldl -lm -lutil -lc
    perllibs=-lpthread -ldl -lm -lutil -lc
    libc=, so=dylib, useshrplib=false, libperl=libperl.a
    gnulibc_version=''
  Dynamic Linking:
    dlsrc=dl_dlopen.xs, dlext=bundle, d_dlsymun=undef, ccdlflags=' '
    cccdlflags=' ', lddlflags=' -bundle -undefined dynamic_lookup -L/usr/local/lib -fstack-protector-strong'


Characteristics of this binary (from libperl): 
  Compile-time options: HAS_TIMES PERLIO_LAYERS PERL_COPY_ON_WRITE
                        PERL_DONT_CREATE_GVSV
                        PERL_HASH_FUNC_ONE_AT_A_TIME_HARD PERL_MALLOC_WRAP
                        PERL_PRESERVE_IVUV PERL_USE_DEVEL USE_64_BIT_ALL
                        USE_64_BIT_INT USE_LARGE_FILES USE_LOCALE
                        USE_LOCALE_COLLATE USE_LOCALE_CTYPE
                        USE_LOCALE_NUMERIC USE_LOCALE_TIME USE_PERLIO
                        USE_PERL_ATOF
  Locally applied patches:
	Devel::PatchPerl 1.38
  Built under darwin
  Compiled at Apr 16 2016 17:25:02
  %ENV:
    PERL5LIB="/Users/sweth/perl5"
    PERLHEAD="#!/usr/bin/env perl

use autodie;
use Modern::Perl;
use Data::Printer;
use utf8::all;
use charnames qw(:loose :short);
use List::AllUtils qw( :all );
#use Get
#use Regexp::Common;
#use Debug::Simple;
#use Pod::Usage;
#use Getopt::Lucid qw( :all );
#use Getopt::Long;
#use Memoize;
#use Benchmark;"
  @INC:
    /Users/sweth/perl5
    /Users/sweth/.plenv/versions/5.23.9/lib/perl5/site_perl/5.23.9/darwin-2level
    /Users/sweth/.plenv/versions/5.23.9/lib/perl5/site_perl/5.23.9
    /Users/sweth/.plenv/versions/5.23.9/lib/perl5/5.23.9/darwin-2level
    /Users/sweth/.plenv/versions/5.23.9/lib/perl5/5.23.9
    .