Report for File-DataClass-0.73.1

Back
From: metabase:user:322078bc-2aae-11df-837a-5e0a49663a4f
Subject: PASS File-DataClass-0.73.1 v5.8.9 GNU/Linux
Date: 2017-06-04T21:42:42Z

This distribution has been tested as part of the CPAN Testers
project, supporting the Perl programming language.  See
http://wiki.cpantesters.org/ for more information or email
questions to cpan-testers-discuss@perl.org


--

Dear PJFL,

This is a computer-generated error report created automatically by
CPANPLUS, version 0.9168. Testers personal comments may appear
at the end of this report.


Thank you for uploading your work to CPAN.  Congratulations!
All tests were successful.

TEST RESULTS:

Below is the error stack from stage 'make test':


OS: linux, Host: uchder

=== Environment variables ===

    $AUTHOR_TESTING                   undef
    $AUTOMATED_TESTING                1
    $EXTENDED_TESTING                 undef
    $NONINTERACTIVE_TESTING           1
    $PERL_CPAN_REPORTER_CONFIG        undef
    $PERL_CR_SMOKER_CURRENT           undef
    $PERL5_CPAN_IS_RUNNING            undef
    $PERL5_CPANPLUS_IS_VERSION        0.9168
    $TEST_CRITIC                      undef
    $TEST_SPELLING                    undef

Versions for all modules listed in MYMETA.json (including optional ones):

=== Configure Requires ===

    Module          Want   Have
    ------------- ------ ------
    Module::Build 0.4004 0.4224
    version         0.88 0.9918

=== Build Requires ===

    Module          Want   Have
    ------------- ------ ------
    Module::Build 0.4004 0.4224
    version         0.88 0.9918

=== Test Requires ===

    Module             Want     Have
    ---------------- ------ --------
    Capture::Tiny      0.30  missing
    File::Spec          any     3.62
    File::pushd        1.00  missing
    Module::Build    0.4004   0.4224
    Module::Metadata    any 1.000027
    Path::Tiny        0.013  missing
    Sys::Hostname       any     1.11
    Test::Deep        0.117  missing
    Test::Requires     0.06     0.10
    Text::Diff         1.37  missing
    version            0.88   0.9918

=== Test Recommends ===

    Module         Want     Have
    ---------- -------- --------
    CPAN::Meta 2.120900 2.150010

=== Runtime Requires ===

    Module                   Want    Have
    -------------------- -------- -------
    Cache::FastMmap          1.40 missing
    Class::Null          2.110730 missing
    File::Path               2.09    2.12
    File::ReadBackwards      1.05 missing
    Hash::Merge             0.200 missing
    JSON::MaybeXS           1.003 missing
    Module::Pluggable         5.1     5.2
    Module::Runtime         0.014 missing
    Moo                  2.000001 missing
    Sub::Install            0.928 missing
    Subclass::Of            0.003 missing
    Try::Tiny                0.22 missing
    Type::Tiny           1.000002 missing
    Unexpected            v0.39.0 missing
    boolean                  0.45 missing
    namespace::autoclean     0.26 missing
    namespace::clean         0.25 missing


*** WARNING WARNING WARNING WARNING WARNING WARNING ***

The following REQUIRED prerequisites were not satisfied:

Capture::Tiny is not installed (version '0.30' required)
File::pushd is not installed (version '1.00' required)
Path::Tiny is not installed (version '0.013' required)
Test::Deep is not installed (version '0.117' required)
Text::Diff is not installed (version '1.37' required)
Cache::FastMmap is not installed (version '1.40' required)
Class::Null is not installed (version '2.110730' required)
File::ReadBackwards is not installed (version '1.05' required)
Hash::Merge is not installed (version '0.200' required)
JSON::MaybeXS is not installed (version '1.003' required)
Module::Runtime is not installed (version '0.014' required)
Moo is not installed (version '2.000001' required)
Sub::Install is not installed (version '0.928' required)
Subclass::Of is not installed (version '0.003' required)
Try::Tiny is not installed (version '0.22' required)
Type::Tiny is not installed (version '1.000002' required)
Unexpected is not installed (version 'v0.39.0' required)
boolean is not installed (version '0.45' required)
namespace::autoclean is not installed (version '0.26' required)
namespace::clean is not installed (version '0.25' required)

t/00report-metadata.t .. ok
t/02pod.t .............. skipped: POD test only for developers
t/03podcoverage.t ...... skipped: POD coverage test only for developers
t/05kwalitee.t ......... skipped: Kwalitee test only for developers
t/06yaml.t ............. skipped: YAML test only for developers
t/07podspelling.t ...... skipped: POD spelling test only for developers
t/10exception.t ........ skipped: Perl v5.10.1 required--this is only v5.8.9, stopped at (eval 36) line 2.
t/12types.t ............ skipped: Perl v5.10.1 required--this is only v5.8.9, stopped at (eval 36) line 2.
t/13functions.t ........ skipped: Perl v5.10.1 required--this is only v5.8.9, stopped at (eval 36) line 2.
t/15io.t ............... skipped: Perl v5.10.1 required--this is only v5.8.9, stopped at (eval 36) line 2.
t/17constraints.t ...... skipped: Perl v5.10.1 required--this is only v5.8.9, stopped at (eval 36) line 2.
t/20data-class.t ....... skipped: Perl v5.10.1 required--this is only v5.8.9, stopped at (eval 36) line 2.
t/21hash-merge.t ....... skipped: Perl v5.10.1 required--this is only v5.8.9, stopped at (eval 36) line 2.
t/50json.t ............. skipped: Perl v5.10.1 required--this is only v5.8.9, stopped at (eval 36) line 2.
All tests successful.
Files=14, Tests=1,  1 wallclock secs ( 0.03 usr  0.01 sys +  0.66 cusr  0.08 csys =  0.78 CPU)
Result: PASS


PREREQUISITES:

Here is a list of prerequisites you specified and versions we
managed to load:

	  Module Name                        Have     Want
	  Module::Build                    0.4224   0.4004
	  Test::Requires                     0.10     0.06
	  version                          0.9918     0.88

Perl module toolchain versions installed:
	Module Name                        Have
	CPANPLUS                         0.9168
	CPANPLUS::Dist::Build              0.88
	Cwd                                3.62
	ExtUtils::CBuilder             0.280224
	ExtUtils::Command                  7.28
	ExtUtils::Install                  2.14
	ExtUtils::MakeMaker                7.28
	ExtUtils::Manifest                 1.70
	ExtUtils::ParseXS                  3.30
	File::Spec                         3.62
	Module::Build                    0.4224
	Pod::Parser                        1.35
	Pod::Simple                        3.32
	Test2                          1.302085
	Test::Harness                      3.39
	Test::More                     1.302085
	version                          0.9918

******************************** NOTE ********************************
The comments above are created mechanically, possibly without manual
checking by the sender.  As there are many people performing automatic
tests on each upload to CPAN, it is likely that you will receive
identical messages about the same problem.

If you believe that the message is mistaken, please reply to the first
one with correction and/or additional informations, and do not take
it personally.  We appreciate your patience. :)
**********************************************************************

Additional comments:


This report was machine-generated by CPANPLUS::Dist::YACSmoke 1.02.
Powered by minismokebox version 0.68

------------------------------
ENVIRONMENT AND OTHER CONTEXT
------------------------------

Environment variables:

    AUTOMATED_TESTING = 1
    LANG = en_GB.UTF-8
    LANGUAGE = en_GB:en
    NONINTERACTIVE_TESTING = 1
    PATH = /usr/local/sbin:/usr/local/bin:/usr/sbin:/usr/bin:/sbin:/bin:/usr/games:/usr/local/games:/snap/bin
    PERL5LIB = :/home/cpan/pit/thr/conf/perl-5.8.9/.cpanplus/5.8.9/build/domB6YyorU/Test-Requires-0.10/blib/lib:/home/cpan/pit/thr/conf/perl-5.8.9/.cpanplus/5.8.9/build/domB6YyorU/Test-Requires-0.10/blib/arch:/home/cpan/pit/thr/conf/perl-5.8.9/.cpanplus/5.8.9/build/XZJkxPpydq/File-DataClass-0.73.1/blib/lib:/home/cpan/pit/thr/conf/perl-5.8.9/.cpanplus/5.8.9/build/XZJkxPpydq/File-DataClass-0.73.1/blib/arch
    PERL5_CPANPLUS_IS_RUNNING = 32046
    PERL5_CPANPLUS_IS_VERSION = 0.9168
    PERL5_MINISMOKEBOX = 0.68
    PERL5_YACSMOKE_BASE = /home/cpan/pit/thr/conf/perl-5.8.9
    PERL_EXTUTILS_AUTOINSTALL = --defaultdeps
    PERL_MM_USE_DEFAULT = 1
    SHELL = /bin/bash
    TERM = screen

Perl special variables (and OS-specific diagnostics, for MSWin32):

    Perl: $^X = /home/cpan/pit/thr/perl-5.8.9/bin/perl
    UID:  $<  = 1001
    EUID: $>  = 1001
    GID:  $(  = 1001 1001
    EGID: $)  = 1001 1001


-------------------------------


--

Summary of my perl5 (revision 5 version 8 subversion 9) configuration:
  Platform:
    osname=linux, osvers=4.4.0-21-generic, archname=x86_64-linux-thread-multi
    uname='linux uchder 4.4.0-21-generic #37-ubuntu smp mon apr 18 18:33:37 utc 2016 x86_64 x86_64 x86_64 gnulinux '
    config_args='-des -Dprefix=/home/cpan/pit/thr/perl-5.8.9 -Dusethreads'
    hint=recommended, useposix=true, d_sigaction=define
    usethreads=define use5005threads=undef useithreads=define usemultiplicity=define
    useperlio=define d_sfio=undef uselargefiles=define usesocks=undef
    use64bitint=define use64bitall=define uselongdouble=undef
    usemymalloc=n, bincompat5005=undef
  Compiler:
    cc='cc', ccflags ='-D_REENTRANT -D_GNU_SOURCE -fno-strict-aliasing -pipe -I/usr/local/include -D_LARGEFILE_SOURCE -D_FILE_OFFSET_BITS=64',
    optimize='-O2',
    cppflags='-D_REENTRANT -D_GNU_SOURCE -fno-strict-aliasing -pipe -I/usr/local/include'
    ccversion='', gccversion='5.3.1 20160413', gccosandvers=''
    intsize=4, longsize=8, ptrsize=8, doublesize=8, byteorder=12345678
    d_longlong=define, longlongsize=8, d_longdbl=define, longdblsize=16
    ivtype='long', ivsize=8, nvtype='double', nvsize=8, Off_t='off_t', lseeksize=8
    alignbytes=8, prototype=define
  Linker and Libraries:
    ld='cc', ldflags =' -L/usr/local/lib'
    libpth=/usr/local/lib /lib/x86_64-linux-gnu /lib/../lib /usr/lib/x86_64-linux-gnu /usr/lib/../lib /lib /usr/lib
    libs=-lnsl -lgdbm -ldl -lm -lcrypt -lutil -lpthread -lc -lgdbm_compat
    perllibs=-lnsl -ldl -lm -lcrypt -lutil -lpthread -lc -lgdbm_compat
    libc=libc-2.23.so, so=so, useshrplib=false, libperl=libperl.a
    gnulibc_version='2.23'
  Dynamic Linking:
    dlsrc=dl_dlopen.xs, dlext=so, d_dlsymun=undef, ccdlflags='-Wl,-E'
    cccdlflags='-fPIC', lddlflags='-shared -O2 -L/usr/local/lib'


Characteristics of this binary (from libperl): 
  Compile-time options: MULTIPLICITY PERL_IMPLICIT_CONTEXT PERL_MALLOC_WRAP
                        USE_64_BIT_ALL USE_64_BIT_INT USE_FAST_STDIO
                        USE_ITHREADS USE_LARGE_FILES USE_PERLIO
                        USE_REENTRANT_API
  Locally applied patches:
	Devel::PatchPerl 1.42
  Built under linux
  Compiled at May  2 2016 01:00:34
  %ENV:
    PERL5LIB=":/home/cpan/pit/thr/conf/perl-5.8.9/.cpanplus/5.8.9/build/domB6YyorU/Test-Requires-0.10/blib/lib:/home/cpan/pit/thr/conf/perl-5.8.9/.cpanplus/5.8.9/build/domB6YyorU/Test-Requires-0.10/blib/arch:/home/cpan/pit/thr/conf/perl-5.8.9/.cpanplus/5.8.9/build/XZJkxPpydq/File-DataClass-0.73.1/blib/lib:/home/cpan/pit/thr/conf/perl-5.8.9/.cpanplus/5.8.9/build/XZJkxPpydq/File-DataClass-0.73.1/blib/arch"
    PERL5_CPANPLUS_IS_RUNNING="32046"
    PERL5_CPANPLUS_IS_VERSION="0.9168"
    PERL5_MINISMOKEBOX="0.68"
    PERL5_YACSMOKE_BASE="/home/cpan/pit/thr/conf/perl-5.8.9"
    PERL_EXTUTILS_AUTOINSTALL="--defaultdeps"
    PERL_MM_USE_DEFAULT="1"
  @INC:
    /home/cpan/pit/thr/conf/perl-5.8.9/.cpanplus/5.8.9/build/domB6YyorU/Test-Requires-0.10/blib/lib
    /home/cpan/pit/thr/conf/perl-5.8.9/.cpanplus/5.8.9/build/domB6YyorU/Test-Requires-0.10/blib/arch
    /home/cpan/pit/thr/conf/perl-5.8.9/.cpanplus/5.8.9/build/XZJkxPpydq/File-DataClass-0.73.1/blib/lib
    /home/cpan/pit/thr/conf/perl-5.8.9/.cpanplus/5.8.9/build/XZJkxPpydq/File-DataClass-0.73.1/blib/arch
    /home/cpan/pit/thr/perl-5.8.9/lib/5.8.9/x86_64-linux-thread-multi
    /home/cpan/pit/thr/perl-5.8.9/lib/5.8.9
    /home/cpan/pit/thr/perl-5.8.9/lib/site_perl/5.8.9/x86_64-linux-thread-multi
    /home/cpan/pit/thr/perl-5.8.9/lib/site_perl/5.8.9
    .