Dist-Zilla-PluginBundle-Author-TEAM v0.005 Perl 5 v5.41.4 x86_64-linux

Status
Pass
From
Slaven Rezić
Dist
Dist-Zilla-PluginBundle-Author-TEAM v0.005
Platform
Perl 5 v5.41.4 x86_64-linux
Date
2024-10-14 19:58:53
ID
bcde7b8e-8a66-11ef-99d3-73fb6d8775ea
This distribution has been tested as part of the CPAN Testers
project, supporting the Perl programming language.  See
http://wiki.cpantesters.org/ for more information or email
questions to cpan-testers-discuss@perl.org


--
Dear Tom Molesworth,

This is a computer-generated report for Dist-Zilla-PluginBundle-Author-TEAM-0.005
on perl 5.41.4, created by CPAN-Reporter-1.2020.

Thank you for uploading your work to CPAN.  Congratulations!
All tests were successful.

Sections of this report:

    * Tester comments
    * Program output
    * Prerequisites
    * Environment and other context

------------------------------
TESTER COMMENTS
------------------------------

Additional comments from tester:

none provided

------------------------------
PROGRAM OUTPUT
------------------------------

Output from '/usr/bin/make test':

PERL_DL_NONLAZY=1 "/opt/perl-5.41.4/bin/perl5.41.4" "-MExtUtils::Command::MM" "-MTest::Harness" "-e" "undef *Test::Harness::Switches; test_harness(0, 'blib/lib', 'blib/arch')" t/*.t
t/00-check-deps.t ...... ok
t/00-compile.t ......... ok
# 
# Versions for all modules listed in MYMETA.json (including optional ones):
# 
# === Configure Requires ===
# 
#     Module              Want Have
#     ------------------- ---- ----
#     ExtUtils::MakeMaker  any 7.70
# 
# === Build Requires ===
# 
#     Module              Want Have
#     ------------------- ---- ----
#     ExtUtils::MakeMaker  any 7.70
# 
# === Test Requires ===
# 
#     Module               Want     Have
#     ------------------- ----- --------
#     ExtUtils::MakeMaker   any     7.70
#     File::Spec            any     3.93
#     IO::Handle            any     1.55
#     IPC::Open3            any     1.22
#     Test::CheckDeps     0.010    0.010
#     Test::More           0.94 1.302204
# 
# === Test Recommends ===
# 
#     Module         Want     Have
#     ---------- -------- --------
#     CPAN::Meta 2.120900 2.150010
# 
# === Runtime Requires ===
# 
#     Module                                            Want     Have
#     ------------------------------------------------ ----- --------
#     Dist::Zilla::Plugin::ArchiveRelease                any    6.000
#     Dist::Zilla::Plugin::Authority                     any    1.009
#     Dist::Zilla::Plugin::AutoPrereqs                   any    6.032
#     Dist::Zilla::Plugin::CheckChangesHasContent        any    0.011
#     Dist::Zilla::Plugin::CheckExtraTests               any    0.029
#     Dist::Zilla::Plugin::CheckPrereqsIndexed           any    0.022
#     Dist::Zilla::Plugin::ConfirmRelease                any    6.032
#     Dist::Zilla::Plugin::CopyFilesFromBuild            any 0.170880
#     Dist::Zilla::Plugin::ExecDir                       any    6.032
#     Dist::Zilla::Plugin::Git::Check                    any    2.051
#     Dist::Zilla::Plugin::Git::Commit                   any    2.051
#     Dist::Zilla::Plugin::Git::CommitBuild              any    2.051
#     Dist::Zilla::Plugin::Git::Contributors             any    0.037
#     Dist::Zilla::Plugin::Git::GatherDir                any    2.051
#     Dist::Zilla::Plugin::Git::Push                     any    2.051
#     Dist::Zilla::Plugin::Git::Tag                      any    2.051
#     Dist::Zilla::Plugin::GithubMeta                    any     0.58
#     Dist::Zilla::Plugin::InsertExample                 any     0.15
#     Dist::Zilla::Plugin::Keywords                      any    0.007
#     Dist::Zilla::Plugin::License                       any    6.032
#     Dist::Zilla::Plugin::Manifest                      any    6.032
#     Dist::Zilla::Plugin::ManifestSkip                  any    6.032
#     Dist::Zilla::Plugin::MetaJSON                      any    6.032
#     Dist::Zilla::Plugin::MetaNoIndex                   any    6.032
#     Dist::Zilla::Plugin::MetaProvides::Package         any 2.004003
#     Dist::Zilla::Plugin::MetaTests                     any    6.032
#     Dist::Zilla::Plugin::MetaYAML                      any    6.032
#     Dist::Zilla::Plugin::MojibakeTests                 any      0.8
#     Dist::Zilla::Plugin::NextRelease                   any    6.032
#     Dist::Zilla::Plugin::OurPkgVersion                 any     0.21
#     Dist::Zilla::Plugin::OverridePkgVersion            any    0.002
#     Dist::Zilla::Plugin::PodCoverageTests              any    6.032
#     Dist::Zilla::Plugin::PodInherit                  0.008    0.009
#     Dist::Zilla::Plugin::PodSyntaxTests                any    6.032
#     Dist::Zilla::Plugin::Prereqs::AuthorDeps           any    0.007
#     Dist::Zilla::Plugin::Prereqs::FromCPANfile         any     0.08
#     Dist::Zilla::Plugin::PruneCruft                    any    6.032
#     Dist::Zilla::Plugin::PruneFiles                    any    6.032
#     Dist::Zilla::Plugin::ReadmeAnyFromPod              any 0.163250
#     Dist::Zilla::Plugin::ReversionOnRelease            any     0.06
#     Dist::Zilla::Plugin::RunExtraTests                 any    0.029
#     Dist::Zilla::Plugin::ShareDir                      any    6.032
#     Dist::Zilla::Plugin::SpellingCommonMistakesTests   any 1.001000
#     Dist::Zilla::Plugin::Test::CPAN::Changes           any    0.013
#     Dist::Zilla::Plugin::Test::CheckDeps               any    0.014
#     Dist::Zilla::Plugin::Test::Compile                 any    2.058
#     Dist::Zilla::Plugin::Test::EOL                     any     0.19
#     Dist::Zilla::Plugin::Test::MinimumVersion          any 2.000010
#     Dist::Zilla::Plugin::Test::NoTabs                  any     0.15
#     Dist::Zilla::Plugin::Test::Pod::No404s             any    1.004
#     Dist::Zilla::Plugin::Test::Portability             any 2.001001
#     Dist::Zilla::Plugin::Test::ReportPrereqs           any    0.029
#     Dist::Zilla::Plugin::Test::Version                 any     1.09
#     Dist::Zilla::Plugin::TestRelease                   any    6.032
#     Dist::Zilla::Plugin::UploadToCPAN                  any    6.032
#     Dist::Zilla::Plugin::VersionFromModule             any     0.08
#     Dist::Zilla::Role::PluginBundle::Config::Slicer    any    0.202
#     Dist::Zilla::Role::PluginBundle::Easy              any    6.032
#     Dist::Zilla::Role::PluginBundle::PluginRemover     any    0.105
#     Dist::Zilla::Util                                  any    6.032
#     Moose                                              any   2.2207
#     Perl::Version                                      any    1.017
#     Test::CPAN::Meta                                   any     0.25
#     Test::CPANfile                                     any     0.08
#     Test::CheckDeps                                  0.010    0.010
#     strict                                             any     1.13
#     warnings                                           any     1.70
# 
t/00-report-prereqs.t .. ok
All tests successful.
Files=3, Tests=78,  1 wallclock secs ( 0.02 usr  0.01 sys +  0.62 cusr  0.11 csys =  0.76 CPU)
Result: PASS

------------------------------
PREREQUISITES
------------------------------

Prerequisite modules loaded:

requires:

    Module                                           Need  Have    
    ------------------------------------------------ ----- --------
    Dist::Zilla::Plugin::ArchiveRelease              0     6.000   
    Dist::Zilla::Plugin::Authority                   0     1.009   
    Dist::Zilla::Plugin::AutoPrereqs                 0     6.032   
    Dist::Zilla::Plugin::CheckChangesHasContent      0     0.011   
    Dist::Zilla::Plugin::CheckExtraTests             0     0.029   
    Dist::Zilla::Plugin::CheckPrereqsIndexed         0     0.022   
    Dist::Zilla::Plugin::ConfirmRelease              0     6.032   
    Dist::Zilla::Plugin::CopyFilesFromBuild          0     0.170880
    Dist::Zilla::Plugin::ExecDir                     0     6.032   
    Dist::Zilla::Plugin::Git::Check                  0     2.051   
    Dist::Zilla::Plugin::Git::Commit                 0     2.051   
    Dist::Zilla::Plugin::Git::CommitBuild            0     2.051   
    Dist::Zilla::Plugin::Git::Contributors           0     0.037   
    Dist::Zilla::Plugin::Git::GatherDir              0     2.051   
    Dist::Zilla::Plugin::Git::Push                   0     2.051   
    Dist::Zilla::Plugin::Git::Tag                    0     2.051   
    Dist::Zilla::Plugin::GithubMeta                  0     0.58    
    Dist::Zilla::Plugin::InsertExample               0     0.15    
    Dist::Zilla::Plugin::Keywords                    0     0.007   
    Dist::Zilla::Plugin::License                     0     6.032   
    Dist::Zilla::Plugin::Manifest                    0     6.032   
    Dist::Zilla::Plugin::ManifestSkip                0     6.032   
    Dist::Zilla::Plugin::MetaJSON                    0     6.032   
    Dist::Zilla::Plugin::MetaNoIndex                 0     6.032   
    Dist::Zilla::Plugin::MetaProvides::Package       0     2.004003
    Dist::Zilla::Plugin::MetaTests                   0     6.032   
    Dist::Zilla::Plugin::MetaYAML                    0     6.032   
    Dist::Zilla::Plugin::MojibakeTests               0     0.8     
    Dist::Zilla::Plugin::NextRelease                 0     6.032   
    Dist::Zilla::Plugin::OurPkgVersion               0     0.21    
    Dist::Zilla::Plugin::OverridePkgVersion          0     0.002   
    Dist::Zilla::Plugin::PodCoverageTests            0     6.032   
    Dist::Zilla::Plugin::PodInherit                  0.008 0.009   
    Dist::Zilla::Plugin::PodSyntaxTests              0     6.032   
    Dist::Zilla::Plugin::Prereqs::AuthorDeps         0     0.007   
    Dist::Zilla::Plugin::Prereqs::FromCPANfile       0     0.08    
    Dist::Zilla::Plugin::PruneCruft                  0     6.032   
    Dist::Zilla::Plugin::PruneFiles                  0     6.032   
    Dist::Zilla::Plugin::ReadmeAnyFromPod            0     0.163250
    Dist::Zilla::Plugin::ReversionOnRelease          0     0.06    
    Dist::Zilla::Plugin::RunExtraTests               0     0.029   
    Dist::Zilla::Plugin::ShareDir                    0     6.032   
    Dist::Zilla::Plugin::SpellingCommonMistakesTests 0     1.001000
    Dist::Zilla::Plugin::Test::CheckDeps             0     0.014   
    Dist::Zilla::Plugin::Test::Compile               0     2.058   
    Dist::Zilla::Plugin::Test::CPAN::Changes         0     0.013   
    Dist::Zilla::Plugin::Test::EOL                   0     0.19    
    Dist::Zilla::Plugin::Test::MinimumVersion        0     2.000010
    Dist::Zilla::Plugin::Test::NoTabs                0     0.15    
    Dist::Zilla::Plugin::Test::Pod::No404s           0     1.004   
    Dist::Zilla::Plugin::Test::Portability           0     2.001001
    Dist::Zilla::Plugin::Test::ReportPrereqs         0     0.029   
    Dist::Zilla::Plugin::Test::Version               0     1.09    
    Dist::Zilla::Plugin::TestRelease                 0     6.032   
    Dist::Zilla::Plugin::UploadToCPAN                0     6.032   
    Dist::Zilla::Plugin::VersionFromModule           0     0.08    
    Dist::Zilla::Role::PluginBundle::Config::Slicer  0     0.202   
    Dist::Zilla::Role::PluginBundle::Easy            0     6.032   
    Dist::Zilla::Role::PluginBundle::PluginRemover   0     0.105   
    Dist::Zilla::Util                                0     6.032   
    Moose                                            0     2.2207  
    perl                                             5.014 5.041004
    Perl::Version                                    0     1.017   
    strict                                           0     1.13    
    Test::CheckDeps                                  0.010 0.010   
    Test::CPAN::Meta                                 0     0.25    
    Test::CPANfile                                   0     0.08    
    warnings                                         0     1.70    

build_requires:

    Module                                           Need  Have    
    ------------------------------------------------ ----- --------
    ExtUtils::MakeMaker                              0     7.70    
    File::Spec                                       0     3.93    
    IO::Handle                                       0     1.55    
    IPC::Open3                                       0     1.22    
    Test::CheckDeps                                  0.010 0.010   
    Test::More                                       0.94  1.302204

configure_requires:

    Module                                           Need  Have    
    ------------------------------------------------ ----- --------
    ExtUtils::MakeMaker                              0     7.70    
    perl                                             5.014 5.041004


------------------------------
ENVIRONMENT AND OTHER CONTEXT
------------------------------

Environment variables:

    LANG = C
    PATH = /usr/local/bin:/usr/bin:/bin:/usr/local/sbin:/usr/sbin:/sbin:/home/cpansand/bin/linux-gnu:/home/cpansand/bin/sh:/home/cpansand/bin:/usr/games:/home/cpansand/devel:/home/eserte/src/srezic-misc/scripts
    PERL5LIB = 
    PERL5OPT = 
    PERL5_CPANPLUS_IS_RUNNING = 4120581
    PERL5_CPAN_IS_RUNNING = 4120581
    PERL5_CPAN_IS_RUNNING_IN_RECURSION = 4107253,4120581
    PERLDOC = -MPod::Perldoc::ToTextOverstrike
    PERL_BATCH = yes
    PERL_CANARY_STABILITY_NOPROMPT = 1
    PERL_CPAN_REPORTER_CONFIG = /var/tmp/cpansmoker-1023/2024101418/cpanreporter_000_config.ini
    PERL_EXTUTILS_AUTOINSTALL = --defaultdeps
    PERL_USE_UNSAFE_INC = 1
    SHELL = /usr/bin/zsh
    TERM = screen
    TMPDIR = /var/tmp/cpansmoker-1023/2024101418

Perl special variables (and OS-specific diagnostics, for MSWin32):

    $^X = /opt/perl-5.41.4/bin/perl5.41.4
    $UID/$EUID = 1023 / 1023
    $GID = 1023 1023
    $EGID = 1023 1023

Perl module toolchain versions installed:

    Module              Have    
    ------------------- --------
    CPAN                2.37    
    CPAN::Meta          2.150010
    Cwd                 3.92    
    ExtUtils::CBuilder  0.280240
    ExtUtils::Command   7.70    
    ExtUtils::Install   2.22    
    ExtUtils::MakeMaker 7.70    
    ExtUtils::Manifest  1.75    
    ExtUtils::ParseXS   3.54    
    File::Spec          3.93    
    JSON                4.10    
    JSON::PP            4.16    
    Module::Build       0.4234  
    Module::Signature   n/a     
    Parse::CPAN::Meta   2.150010
    Test2               1.302204
    Test::Harness       3.50    
    Test::More          1.302204
    YAML                1.31    
    YAML::Syck          1.34    
    version             0.9933  


--

Summary of my perl5 (revision 5 version 41 subversion 4) configuration:
   
  Platform:
    osname=linux
    osvers=6.1.0-25-amd64
    archname=x86_64-linux
    uname='linux cloud5.bbbike.org 6.1.0-25-amd64 #1 smp preempt_dynamic debian 6.1.106-3 (2024-08-26) x86_64 gnulinux '
    config_args='-ds -e -Dprefix=/opt/perl-5.41.4 -Dusedevel -Dusemallocwrap=no -Dcf_email=srezic@cpan.org'
    hint=recommended
    useposix=true
    d_sigaction=define
    useithreads=undef
    usemultiplicity=undef
    use64bitint=define
    use64bitall=define
    uselongdouble=undef
    usemymalloc=n
    default_inc_excludes_dot=define
  Compiler:
    cc='cc'
    ccflags ='-fwrapv -fno-strict-aliasing -pipe -fstack-protector-strong -I/usr/local/include -D_LARGEFILE_SOURCE -D_FILE_OFFSET_BITS=64 -D_FORTIFY_SOURCE=2'
    optimize='-O2'
    cppflags='-fwrapv -fno-strict-aliasing -pipe -fstack-protector-strong -I/usr/local/include'
    ccversion=''
    gccversion='12.2.0'
    gccosandvers=''
    intsize=4
    longsize=8
    ptrsize=8
    doublesize=8
    byteorder=12345678
    doublekind=3
    d_longlong=define
    longlongsize=8
    d_longdbl=define
    longdblsize=16
    longdblkind=3
    ivtype='long'
    ivsize=8
    nvtype='double'
    nvsize=8
    Off_t='off_t'
    lseeksize=8
    alignbytes=8
    prototype=define
  Linker and Libraries:
    ld='cc'
    ldflags =' -fstack-protector-strong -L/usr/local/lib'
    libpth=/usr/local/lib /usr/lib/x86_64-linux-gnu /usr/lib /usr/lib64
    libs=-lpthread -lgdbm -ldb -ldl -lm -lcrypt -lutil -lc
    perllibs=-lpthread -ldl -lm -lcrypt -lutil -lc
    libc=/lib/x86_64-linux-gnu/libc.so.6
    so=so
    useshrplib=false
    libperl=libperl.a
    gnulibc_version='2.36'
  Dynamic Linking:
    dlsrc=dl_dlopen.xs
    dlext=so
    d_dlsymun=undef
    ccdlflags='-Wl,-E'
    cccdlflags='-fPIC'
    lddlflags='-shared -O2 -L/usr/local/lib -fstack-protector-strong'


Characteristics of this binary (from libperl): 
  Compile-time options:
    HAS_LONG_DOUBLE
    HAS_STRTOLD
    HAS_TIMES
    PERLIO_LAYERS
    PERL_COPY_ON_WRITE
    PERL_DONT_CREATE_GVSV
    PERL_HASH_FUNC_SIPHASH13
    PERL_HASH_USE_SBOX32
    PERL_OP_PARENT
    PERL_PRESERVE_IVUV
    PERL_USE_DEVEL
    PERL_USE_SAFE_PUTENV
    USE_64_BIT_ALL
    USE_64_BIT_INT
    USE_LARGE_FILES
    USE_LOCALE
    USE_LOCALE_COLLATE
    USE_LOCALE_CTYPE
    USE_LOCALE_NUMERIC
    USE_LOCALE_TIME
    USE_PERLIO
    USE_PERL_ATOF
  Built under linux
  Compiled at Sep 28 2024 08:44:34
  %ENV:
    PERL5LIB=""
    PERL5OPT=""
    PERL5_CPANPLUS_IS_RUNNING="4120581"
    PERL5_CPAN_IS_RUNNING="4120581"
    PERL5_CPAN_IS_RUNNING_IN_RECURSION="4107253,4120581"
    PERLDOC="-MPod::Perldoc::ToTextOverstrike"
    PERL_BATCH="yes"
    PERL_CANARY_STABILITY_NOPROMPT="1"
    PERL_CPAN_REPORTER_CONFIG="/var/tmp/cpansmoker-1023/2024101418/cpanreporter_000_config.ini"
    PERL_EXTUTILS_AUTOINSTALL="--defaultdeps"
    PERL_USE_UNSAFE_INC="1"
  @INC:
    /opt/perl-5.41.4/lib/site_perl/5.41.4/x86_64-linux
    /opt/perl-5.41.4/lib/site_perl/5.41.4
    /opt/perl-5.41.4/lib/5.41.4/x86_64-linux
    /opt/perl-5.41.4/lib/5.41.4
    .