Module-PrintUsed v0.06 Perl 5 v5.41.5 x86_64-linux-thread-multi-ld

Status
Pass
From
Andreas J. König (ANDK)
Dist
Module-PrintUsed v0.06
Platform
Perl 5 v5.41.5 x86_64-linux-thread-multi-ld
Date
2024-11-03 01:05:37
ID
bcc0416e-997f-11ef-bd2f-2db9c9b45ef4
This distribution has been tested as part of the CPAN Testers
project, supporting the Perl programming language.  See
http://wiki.cpantesters.org/ for more information or email
questions to cpan-testers-discuss@perl.org


--
Dear Christian Renz,

This is a computer-generated report for Module-PrintUsed-0.06
on perl 5.41.5, created by CPAN-Reporter-1.2020.

Thank you for uploading your work to CPAN.  Congratulations!
All tests were successful.

Sections of this report:

    * Tester comments
    * Program output
    * Prerequisites
    * Environment and other context

------------------------------
TESTER COMMENTS
------------------------------

Additional comments from tester:

this report is from an automated smoke testing program
and was not reviewed by a human for accuracy

------------------------------
PROGRAM OUTPUT
------------------------------

Output from '/usr/bin/make test':

PERL_DL_NONLAZY=1 "/tmp/basesmoker-reloperl-AIuO/bin/perl" "-MExtUtils::Command::MM" "-MTest::Harness" "-e" "undef *Test::Harness::Switches; test_harness(0, 'blib/lib', 'blib/arch')" t/*.t

Modules used by t/1-use.t:
 - Carp                      1.54     /home/sand/src/perl/repoperls/installed-perls/host/k93jammy/v5.41.5/322f/lib/5.41.5/Carp.pm
 - Exporter                  5.78     /home/sand/src/perl/repoperls/installed-perls/host/k93jammy/v5.41.5/322f/lib/5.41.5/Exporter.pm
 - Exporter::Heavy           5.78     /home/sand/src/perl/repoperls/installed-perls/host/k93jammy/v5.41.5/322f/lib/5.41.5/Exporter/Heavy.pm
 - Module::PrintUsed         0.06     /tmp/loop_over_bdir-3706976-U9kYr5/Module-PrintUsed-0.06-0/blib/lib/Module/PrintUsed.pm
 - Test                      1.31     /home/sand/src/perl/repoperls/installed-perls/host/k93jammy/v5.41.5/322f/lib/5.41.5/Test.pm
 - overloading               0.02     /home/sand/src/perl/repoperls/installed-perls/host/k93jammy/v5.41.5/322f/lib/5.41.5/overloading.pm
 - strict                    1.13     /home/sand/src/perl/repoperls/installed-perls/host/k93jammy/v5.41.5/322f/lib/5.41.5/strict.pm
 - warnings                  1.70     /home/sand/src/perl/repoperls/installed-perls/host/k93jammy/v5.41.5/322f/lib/5.41.5/warnings.pm

t/1-use.t ......... ok

Modules used by t/2-modules.t:
 - Carp                      1.54     /home/sand/src/perl/repoperls/installed-perls/host/k93jammy/v5.41.5/322f/lib/5.41.5/Carp.pm
 - Exporter                  5.78     /home/sand/src/perl/repoperls/installed-perls/host/k93jammy/v5.41.5/322f/lib/5.41.5/Exporter.pm
 - Exporter::Heavy           5.78     /home/sand/src/perl/repoperls/installed-perls/host/k93jammy/v5.41.5/322f/lib/5.41.5/Exporter/Heavy.pm
 - Module::PrintUsed         0.06     /tmp/loop_over_bdir-3706976-U9kYr5/Module-PrintUsed-0.06-0/blib/lib/Module/PrintUsed.pm
 - Test                      1.31     /home/sand/src/perl/repoperls/installed-perls/host/k93jammy/v5.41.5/322f/lib/5.41.5/Test.pm
 - overloading               0.02     /home/sand/src/perl/repoperls/installed-perls/host/k93jammy/v5.41.5/322f/lib/5.41.5/overloading.pm
 - strict                    1.13     /home/sand/src/perl/repoperls/installed-perls/host/k93jammy/v5.41.5/322f/lib/5.41.5/strict.pm
 - warnings                  1.70     /home/sand/src/perl/repoperls/installed-perls/host/k93jammy/v5.41.5/322f/lib/5.41.5/warnings.pm

t/2-modules.t ..... ok
t/meta.t .......... ok

Modules used by t/pod-coverage.t:
 - B                         1.89     /home/sand/src/perl/repoperls/installed-perls/host/k93jammy/v5.41.5/322f/lib/5.41.5/x86_64-linux-thread-multi-ld/B.pm
 - Carp                      1.54     /home/sand/src/perl/repoperls/installed-perls/host/k93jammy/v5.41.5/322f/lib/5.41.5/Carp.pm
 - Config                    5.041005 /home/sand/src/perl/repoperls/installed-perls/host/k93jammy/v5.41.5/322f/lib/5.41.5/x86_64-linux-thread-multi-ld/Config.pm
 - Config_git.pl                      /home/sand/src/perl/repoperls/installed-perls/host/k93jammy/v5.41.5/322f/lib/5.41.5/x86_64-linux-thread-multi-ld/Config_git.pl
 - Config_heavy.pl                    /home/sand/src/perl/repoperls/installed-perls/host/k93jammy/v5.41.5/322f/lib/5.41.5/x86_64-linux-thread-multi-ld/Config_heavy.pl
 - Cwd                       3.92     /home/sand/src/perl/repoperls/installed-perls/host/k93jammy/v5.41.5/322f/lib/5.41.5/x86_64-linux-thread-multi-ld/Cwd.pm
 - Devel::Symdump            2.18     /home/sand/src/perl/repoperls/installed-perls/host/k93jammy/v5.41.5/322f/lib/site_perl/5.41.5/Devel/Symdump.pm
 - Exporter                  5.78     /home/sand/src/perl/repoperls/installed-perls/host/k93jammy/v5.41.5/322f/lib/5.41.5/Exporter.pm
 - Exporter::Heavy           5.78     /home/sand/src/perl/repoperls/installed-perls/host/k93jammy/v5.41.5/322f/lib/5.41.5/Exporter/Heavy.pm
 - Fcntl                     1.19     /home/sand/src/perl/repoperls/installed-perls/host/k93jammy/v5.41.5/322f/lib/5.41.5/x86_64-linux-thread-multi-ld/Fcntl.pm
 - File::Basename            2.86     /home/sand/src/perl/repoperls/installed-perls/host/k93jammy/v5.41.5/322f/lib/5.41.5/File/Basename.pm
 - File::Find                1.44     /home/sand/src/perl/repoperls/installed-perls/host/k93jammy/v5.41.5/322f/lib/5.41.5/File/Find.pm
 - File::Spec                3.93     /home/sand/src/perl/repoperls/installed-perls/host/k93jammy/v5.41.5/322f/lib/5.41.5/x86_64-linux-thread-multi-ld/File/Spec.pm
 - File::Spec::Unix          3.93     /home/sand/src/perl/repoperls/installed-perls/host/k93jammy/v5.41.5/322f/lib/5.41.5/x86_64-linux-thread-multi-ld/File/Spec/Unix.pm
 - List::Util                1.68     /home/sand/src/perl/repoperls/installed-perls/host/k93jammy/v5.41.5/322f/lib/5.41.5/x86_64-linux-thread-multi-ld/List/Util.pm
 - Module::PrintUsed         0.06     /tmp/loop_over_bdir-3706976-U9kYr5/Module-PrintUsed-0.06-0/blib/lib/Module/PrintUsed.pm
 - POSIX                     2.22     /home/sand/src/perl/repoperls/installed-perls/host/k93jammy/v5.41.5/322f/lib/5.41.5/x86_64-linux-thread-multi-ld/POSIX.pm
 - PerlIO                    1.12     /home/sand/src/perl/repoperls/installed-perls/host/k93jammy/v5.41.5/322f/lib/5.41.5/PerlIO.pm
 - Pod::Coverage             0.23     /home/sand/src/perl/repoperls/installed-perls/host/k93jammy/v5.41.5/322f/lib/site_perl/5.41.5/Pod/Coverage.pm
 - Pod::Find                 1.67     /home/sand/src/perl/repoperls/installed-perls/host/k93jammy/v5.41.5/322f/lib/5.41.5/Pod/Find.pm
 - Pod::InputObjects         1.67     /home/sand/src/perl/repoperls/installed-perls/host/k93jammy/v5.41.5/322f/lib/5.41.5/Pod/InputObjects.pm
 - Pod::Parser               1.67     /home/sand/src/perl/repoperls/installed-perls/host/k93jammy/v5.41.5/322f/lib/5.41.5/Pod/Parser.pm
 - Scalar::Util              1.68     /home/sand/src/perl/repoperls/installed-perls/host/k93jammy/v5.41.5/322f/lib/5.41.5/x86_64-linux-thread-multi-ld/Scalar/Util.pm
 - Test::Builder             1.302204 /home/sand/src/perl/repoperls/installed-perls/host/k93jammy/v5.41.5/322f/lib/5.41.5/Test/Builder.pm
 - Test::Builder::Formatter  1.302204 /home/sand/src/perl/repoperls/installed-perls/host/k93jammy/v5.41.5/322f/lib/5.41.5/Test/Builder/Formatter.pm
 - Test::Builder::Module     1.302204 /home/sand/src/perl/repoperls/installed-perls/host/k93jammy/v5.41.5/322f/lib/5.41.5/Test/Builder/Module.pm
 - Test::Builder::TodoDiag   1.302204 /home/sand/src/perl/repoperls/installed-perls/host/k93jammy/v5.41.5/322f/lib/5.41.5/Test/Builder/TodoDiag.pm
 - Test::More                1.302204 /home/sand/src/perl/repoperls/installed-perls/host/k93jammy/v5.41.5/322f/lib/5.41.5/Test/More.pm
 - Test::Pod::Coverage       1.10     /home/sand/src/perl/repoperls/installed-perls/host/k93jammy/v5.41.5/322f/lib/site_perl/5.41.5/Test/Pod/Coverage.pm
 - Test2::API                1.302204 /home/sand/src/perl/repoperls/installed-perls/host/k93jammy/v5.41.5/322f/lib/5.41.5/Test2/API.pm
 - Test2::API::Context       1.302204 /home/sand/src/perl/repoperls/installed-perls/host/k93jammy/v5.41.5/322f/lib/5.41.5/Test2/API/Context.pm
 - Test2::API::Instance      1.302204 /home/sand/src/perl/repoperls/installed-perls/host/k93jammy/v5.41.5/322f/lib/5.41.5/Test2/API/Instance.pm
 - Test2::API::Stack         1.302204 /home/sand/src/perl/repoperls/installed-perls/host/k93jammy/v5.41.5/322f/lib/5.41.5/Test2/API/Stack.pm
 - Test2::Event              1.302204 /home/sand/src/perl/repoperls/installed-perls/host/k93jammy/v5.41.5/322f/lib/5.41.5/Test2/Event.pm
 - Test2::Event::Bail        1.302204 /home/sand/src/perl/repoperls/installed-perls/host/k93jammy/v5.41.5/322f/lib/5.41.5/Test2/Event/Bail.pm
 - Test2::Event::Diag        1.302204 /home/sand/src/perl/repoperls/installed-perls/host/k93jammy/v5.41.5/322f/lib/5.41.5/Test2/Event/Diag.pm
 - Test2::Event::Exception   1.302204 /home/sand/src/perl/repoperls/installed-perls/host/k93jammy/v5.41.5/322f/lib/5.41.5/Test2/Event/Exception.pm
 - Test2::Event::Fail        1.302204 /home/sand/src/perl/repoperls/installed-perls/host/k93jammy/v5.41.5/322f/lib/5.41.5/Test2/Event/Fail.pm
 - Test2::Event::Note        1.302204 /home/sand/src/perl/repoperls/installed-perls/host/k93jammy/v5.41.5/322f/lib/5.41.5/Test2/Event/Note.pm
 - Test2::Event::Ok          1.302204 /home/sand/src/perl/repoperls/installed-perls/host/k93jammy/v5.41.5/322f/lib/5.41.5/Test2/Event/Ok.pm
 - Test2::Event::Pass        1.302204 /home/sand/src/perl/repoperls/installed-perls/host/k93jammy/v5.41.5/322f/lib/5.41.5/Test2/Event/Pass.pm
 - Test2::Event::Plan        1.302204 /home/sand/src/perl/repoperls/installed-perls/host/k93jammy/v5.41.5/322f/lib/5.41.5/Test2/Event/Plan.pm
 - Test2::Event::Skip        1.302204 /home/sand/src/perl/repoperls/installed-perls/host/k93jammy/v5.41.5/322f/lib/5.41.5/Test2/Event/Skip.pm
 - Test2::Event::Subtest     1.302204 /home/sand/src/perl/repoperls/installed-perls/host/k93jammy/v5.41.5/322f/lib/5.41.5/Test2/Event/Subtest.pm
 - Test2::Event::V2          1.302204 /home/sand/src/perl/repoperls/installed-perls/host/k93jammy/v5.41.5/322f/lib/5.41.5/Test2/Event/V2.pm
 - Test2::Event::Waiting     1.302204 /home/sand/src/perl/repoperls/installed-perls/host/k93jammy/v5.41.5/322f/lib/5.41.5/Test2/Event/Waiting.pm
 - Test2::EventFacet         1.302204 /home/sand/src/perl/repoperls/installed-perls/host/k93jammy/v5.41.5/322f/lib/5.41.5/Test2/EventFacet.pm
 - Test2::EventFacet::About  1.302204 /home/sand/src/perl/repoperls/installed-perls/host/k93jammy/v5.41.5/322f/lib/5.41.5/Test2/EventFacet/About.pm
 - Test2::EventFacet::Amnesty 1.302204 /home/sand/src/perl/repoperls/installed-perls/host/k93jammy/v5.41.5/322f/lib/5.41.5/Test2/EventFacet/Amnesty.pm
 - Test2::EventFacet::Assert 1.302204 /home/sand/src/perl/repoperls/installed-perls/host/k93jammy/v5.41.5/322f/lib/5.41.5/Test2/EventFacet/Assert.pm
 - Test2::EventFacet::Control 1.302204 /home/sand/src/perl/repoperls/installed-perls/host/k93jammy/v5.41.5/322f/lib/5.41.5/Test2/EventFacet/Control.pm
 - Test2::EventFacet::Error  1.302204 /home/sand/src/perl/repoperls/installed-perls/host/k93jammy/v5.41.5/322f/lib/5.41.5/Test2/EventFacet/Error.pm
 - Test2::EventFacet::Hub    1.302204 /home/sand/src/perl/repoperls/installed-perls/host/k93jammy/v5.41.5/322f/lib/5.41.5/Test2/EventFacet/Hub.pm
 - Test2::EventFacet::Info   1.302204 /home/sand/src/perl/repoperls/installed-perls/host/k93jammy/v5.41.5/322f/lib/5.41.5/Test2/EventFacet/Info.pm
 - Test2::EventFacet::Meta   1.302204 /home/sand/src/perl/repoperls/installed-perls/host/k93jammy/v5.41.5/322f/lib/5.41.5/Test2/EventFacet/Meta.pm
 - Test2::EventFacet::Parent 1.302204 /home/sand/src/perl/repoperls/installed-perls/host/k93jammy/v5.41.5/322f/lib/5.41.5/Test2/EventFacet/Parent.pm
 - Test2::EventFacet::Plan   1.302204 /home/sand/src/perl/repoperls/installed-perls/host/k93jammy/v5.41.5/322f/lib/5.41.5/Test2/EventFacet/Plan.pm
 - Test2::EventFacet::Trace  1.302204 /home/sand/src/perl/repoperls/installed-perls/host/k93jammy/v5.41.5/322f/lib/5.41.5/Test2/EventFacet/Trace.pm
 - Test2::Formatter          1.302204 /home/sand/src/perl/repoperls/installed-perls/host/k93jammy/v5.41.5/322f/lib/5.41.5/Test2/Formatter.pm
 - Test2::Formatter::TAP     1.302204 /home/sand/src/perl/repoperls/installed-perls/host/k93jammy/v5.41.5/322f/lib/5.41.5/Test2/Formatter/TAP.pm
 - Test2::Hub                1.302204 /home/sand/src/perl/repoperls/installed-perls/host/k93jammy/v5.41.5/322f/lib/5.41.5/Test2/Hub.pm
 - Test2::Hub::Interceptor   1.302204 /home/sand/src/perl/repoperls/installed-perls/host/k93jammy/v5.41.5/322f/lib/5.41.5/Test2/Hub/Interceptor.pm
 - Test2::Hub::Interceptor::Terminator 1.302204 /home/sand/src/perl/repoperls/installed-perls/host/k93jammy/v5.41.5/322f/lib/5.41.5/Test2/Hub/Interceptor/Terminator.pm
 - Test2::Hub::Subtest       1.302204 /home/sand/src/perl/repoperls/installed-perls/host/k93jammy/v5.41.5/322f/lib/5.41.5/Test2/Hub/Subtest.pm
 - Test2::Util               1.302204 /home/sand/src/perl/repoperls/installed-perls/host/k93jammy/v5.41.5/322f/lib/5.41.5/Test2/Util.pm
 - Test2::Util::ExternalMeta 1.302204 /home/sand/src/perl/repoperls/installed-perls/host/k93jammy/v5.41.5/322f/lib/5.41.5/Test2/Util/ExternalMeta.pm
 - Test2::Util::Facets2Legacy 1.302204 /home/sand/src/perl/repoperls/installed-perls/host/k93jammy/v5.41.5/322f/lib/5.41.5/Test2/Util/Facets2Legacy.pm
 - Test2::Util::HashBase     1.302204 /home/sand/src/perl/repoperls/installed-perls/host/k93jammy/v5.41.5/322f/lib/5.41.5/Test2/Util/HashBase.pm
 - Test2::Util::Trace        1.302204 /home/sand/src/perl/repoperls/installed-perls/host/k93jammy/v5.41.5/322f/lib/5.41.5/Test2/Util/Trace.pm
 - Tie::Hash                 1.06     /home/sand/src/perl/repoperls/installed-perls/host/k93jammy/v5.41.5/322f/lib/5.41.5/Tie/Hash.pm
 - Time::HiRes               1.9777   /home/sand/src/perl/repoperls/installed-perls/host/k93jammy/v5.41.5/322f/lib/5.41.5/x86_64-linux-thread-multi-ld/Time/HiRes.pm
 - XSLoader                  0.32     /home/sand/src/perl/repoperls/installed-perls/host/k93jammy/v5.41.5/322f/lib/5.41.5/XSLoader.pm
 - base                      2.27     /home/sand/src/perl/repoperls/installed-perls/host/k93jammy/v5.41.5/322f/lib/5.41.5/base.pm
 - constant                  1.33     /home/sand/src/perl/repoperls/installed-perls/host/k93jammy/v5.41.5/322f/lib/5.41.5/constant.pm
 - mro                       1.29     /home/sand/src/perl/repoperls/installed-perls/host/k93jammy/v5.41.5/322f/lib/5.41.5/x86_64-linux-thread-multi-ld/mro.pm
 - overloading               0.02     /home/sand/src/perl/repoperls/installed-perls/host/k93jammy/v5.41.5/322f/lib/5.41.5/overloading.pm
 - re                        0.47     /home/sand/src/perl/repoperls/installed-perls/host/k93jammy/v5.41.5/322f/lib/5.41.5/x86_64-linux-thread-multi-ld/re.pm
 - strict                    1.13     /home/sand/src/perl/repoperls/installed-perls/host/k93jammy/v5.41.5/322f/lib/5.41.5/strict.pm
 - vars                      1.05     /home/sand/src/perl/repoperls/installed-perls/host/k93jammy/v5.41.5/322f/lib/5.41.5/vars.pm
 - warnings                  1.70     /home/sand/src/perl/repoperls/installed-perls/host/k93jammy/v5.41.5/322f/lib/5.41.5/warnings.pm
 - warnings::register        1.06     /home/sand/src/perl/repoperls/installed-perls/host/k93jammy/v5.41.5/322f/lib/5.41.5/warnings/register.pm

t/pod-coverage.t .. ok
t/pod.t ........... ok
All tests successful.
Files=5, Tests=8,  0 wallclock secs ( 0.02 usr  0.01 sys +  0.29 cusr  0.05 csys =  0.37 CPU)
Result: PASS

------------------------------
PREREQUISITES
------------------------------

Prerequisite modules loaded:

requires:

    Module              Need  Have    
    ------------------- ----- --------
    perl                5.006 5.041005

build_requires:

    Module              Need  Have    
    ------------------- ----- --------
    ExtUtils::MakeMaker 0     7.70    

configure_requires:

    Module              Need  Have    
    ------------------- ----- --------
    ExtUtils::MakeMaker 0     7.70    


------------------------------
ENVIRONMENT AND OTHER CONTEXT
------------------------------

Environment variables:

    AUTOMATED_TESTING = 1
    LANG = en_US.UTF-8
    LC_ADDRESS = de_DE.UTF-8
    LC_IDENTIFICATION = de_DE.UTF-8
    LC_MEASUREMENT = de_DE.UTF-8
    LC_MONETARY = de_DE.UTF-8
    LC_NAME = de_DE.UTF-8
    LC_NUMERIC = de_DE.UTF-8
    LC_PAPER = de_DE.UTF-8
    LC_TELEPHONE = de_DE.UTF-8
    LC_TIME = de_DE.UTF-8
    PATH = /home/sand/bin:/usr/local/bin:/usr/local/sbin:/usr/sbin:/usr/bin:/sbin:/bin:/usr/games:/usr/local/games:/snap/bin:/usr/local/perl/bin:/usr/X11/bin
    PERL5LIB = /tmp/loop_over_bdir-3706976-U9kYr5/NoZone-1.3-0/blib/arch:/tmp/loop_over_bdir-3706976-U9kYr5/NoZone-1.3-0/blib/lib:/tmp/loop_over_bdir-3706976-U9kYr5/DBIx-Migration-Directories-0.12-0/blib/arch:/tmp/loop_over_bdir-3706976-U9kYr5/DBIx-Migration-Directories-0.12-0/blib/lib:/tmp/loop_over_bdir-3706976-U9kYr5/dta-tokwrap-0.98-0/blib/arch:/tmp/loop_over_bdir-3706976-U9kYr5/dta-tokwrap-0.98-0/blib/lib:/tmp/loop_over_bdir-3706976-U9kYr5/CORBA-Python-2.66-0/blib/arch:/tmp/loop_over_bdir-3706976-U9kYr5/CORBA-Python-2.66-0/blib/lib:/tmp/loop_over_bdir-3706976-U9kYr5/Sysync-0.38-0/blib/arch:/tmp/loop_over_bdir-3706976-U9kYr5/Sysync-0.38-0/blib/lib
    PERL5OPT = 
    PERL5_CPANPLUS_IS_RUNNING = 3706984
    PERL5_CPAN_IS_RUNNING = 3706984
    PERL_CANARY_STABILITY_NOPROMPT = 1
    PERL_MM_USE_DEFAULT = 1
    PERL_USE_UNSAFE_INC = 1
    SHELL = /usr/bin/zsh
    TERM = screen

Perl special variables (and OS-specific diagnostics, for MSWin32):

    $^X = /tmp/basesmoker-reloperl-AIuO/bin/perl
    $UID/$EUID = 1005 / 1005
    $GID = 1005 1005
    $EGID = 1005 1005

Perl module toolchain versions installed:

    Module              Have    
    ------------------- --------
    CPAN                2.38    
    CPAN::Meta          2.150010
    Cwd                 3.92    
    ExtUtils::CBuilder  0.280240
    ExtUtils::Command   7.70    
    ExtUtils::Install   2.22    
    ExtUtils::MakeMaker 7.70    
    ExtUtils::Manifest  1.75    
    ExtUtils::ParseXS   3.55    
    File::Spec          3.93    
    JSON                4.10    
    JSON::PP            4.16    
    Module::Build       0.4234  
    Module::Signature   0.89    
    Parse::CPAN::Meta   2.150010
    Test2               1.302204
    Test::Harness       3.50    
    Test::More          1.302204
    YAML                1.31    
    YAML::Syck          1.34    
    version             0.9933  


--

Summary of my perl5 (revision 5 version 41 subversion 5) configuration:
  Commit id: 49feb78d039f9c146d7060a6b02af643e5b21489
  Platform:
    osname=linux
    osvers=6.8.0-45-generic
    archname=x86_64-linux-thread-multi-ld
    uname='linux k93jammy 6.8.0-45-generic #45~22.04.1-ubuntu smp preempt_dynamic wed sep 11 15:25:05 utc 2 x86_64 x86_64 x86_64 gnulinux '
    config_args='-Dprefix=/home/sand/src/perl/repoperls/installed-perls/host/k93jammy/v5.41.5/322f -Dmyhostname=k93jammy -Dinstallusrbinperl=n -Uversiononly -Dusedevel -des -Ui_db -Dlibswanted=cl pthread socket inet nsl gdbm dbm malloc dl ld sun m crypt sec util c cposix posix ucb BSD gdbm_compat -Duseithreads -Duselongdouble -DEBUGGING=-g'
    hint=recommended
    useposix=true
    d_sigaction=define
    useithreads=define
    usemultiplicity=define
    use64bitint=define
    use64bitall=define
    uselongdouble=define
    usemymalloc=n
    default_inc_excludes_dot=define
  Compiler:
    cc='cc'
    ccflags ='-D_REENTRANT -D_GNU_SOURCE -fwrapv -fno-strict-aliasing -pipe -fstack-protector-strong -I/usr/local/include -D_LARGEFILE_SOURCE -D_FILE_OFFSET_BITS=64'
    optimize='-O2 -g'
    cppflags='-D_REENTRANT -D_GNU_SOURCE -fwrapv -fno-strict-aliasing -pipe -fstack-protector-strong -I/usr/local/include'
    ccversion=''
    gccversion='11.4.0'
    gccosandvers=''
    intsize=4
    longsize=8
    ptrsize=8
    doublesize=8
    byteorder=12345678
    doublekind=3
    d_longlong=define
    longlongsize=8
    d_longdbl=define
    longdblsize=16
    longdblkind=3
    ivtype='long'
    ivsize=8
    nvtype='long double'
    nvsize=16
    Off_t='off_t'
    lseeksize=8
    alignbytes=16
    prototype=define
  Linker and Libraries:
    ld='cc'
    ldflags =' -fstack-protector-strong -L/usr/local/lib'
    libpth=/usr/local/lib /usr/lib/x86_64-linux-gnu /usr/lib /usr/lib64
    libs=-lpthread -lnsl -ldl -lm -lcrypt -lutil -lc
    perllibs=-lpthread -lnsl -ldl -lm -lcrypt -lutil -lc
    libc=/lib/x86_64-linux-gnu/libc.so.6
    so=so
    useshrplib=false
    libperl=libperl.a
    gnulibc_version='2.35'
  Dynamic Linking:
    dlsrc=dl_dlopen.xs
    dlext=so
    d_dlsymun=undef
    ccdlflags='-Wl,-E'
    cccdlflags='-fPIC'
    lddlflags='-shared -O2 -g -L/usr/local/lib -fstack-protector-strong'


Characteristics of this binary (from libperl): 
  Compile-time options:
    HAS_LONG_DOUBLE
    HAS_STRTOLD
    HAS_TIMES
    MULTIPLICITY
    PERLIO_LAYERS
    PERL_COPY_ON_WRITE
    PERL_DONT_CREATE_GVSV
    PERL_HASH_FUNC_SIPHASH13
    PERL_HASH_USE_SBOX32
    PERL_MALLOC_WRAP
    PERL_OP_PARENT
    PERL_PRESERVE_IVUV
    PERL_USE_DEVEL
    PERL_USE_SAFE_PUTENV
    USE_64_BIT_ALL
    USE_64_BIT_INT
    USE_ITHREADS
    USE_LARGE_FILES
    USE_LOCALE
    USE_LOCALE_COLLATE
    USE_LOCALE_CTYPE
    USE_LOCALE_NUMERIC
    USE_LOCALE_TIME
    USE_LONG_DOUBLE
    USE_PERLIO
    USE_PERL_ATOF
    USE_REENTRANT_API
    USE_THREAD_SAFE_LOCALE
  Built under linux
  Compiled at Oct 21 2024 05:44:38
  %ENV:
    PERL5LIB="/tmp/loop_over_bdir-3706976-U9kYr5/NoZone-1.3-0/blib/arch:/tmp/loop_over_bdir-3706976-U9kYr5/NoZone-1.3-0/blib/lib:/tmp/loop_over_bdir-3706976-U9kYr5/DBIx-Migration-Directories-0.12-0/blib/arch:/tmp/loop_over_bdir-3706976-U9kYr5/DBIx-Migration-Directories-0.12-0/blib/lib:/tmp/loop_over_bdir-3706976-U9kYr5/dta-tokwrap-0.98-0/blib/arch:/tmp/loop_over_bdir-3706976-U9kYr5/dta-tokwrap-0.98-0/blib/lib:/tmp/loop_over_bdir-3706976-U9kYr5/CORBA-Python-2.66-0/blib/arch:/tmp/loop_over_bdir-3706976-U9kYr5/CORBA-Python-2.66-0/blib/lib:/tmp/loop_over_bdir-3706976-U9kYr5/Sysync-0.38-0/blib/arch:/tmp/loop_over_bdir-3706976-U9kYr5/Sysync-0.38-0/blib/lib"
    PERL5OPT=""
    PERL5_CPANPLUS_IS_RUNNING="3706984"
    PERL5_CPAN_IS_RUNNING="3706984"
    PERL_CANARY_STABILITY_NOPROMPT="1"
    PERL_MM_USE_DEFAULT="1"
    PERL_USE_UNSAFE_INC="1"
  @INC:
    /tmp/loop_over_bdir-3706976-U9kYr5/NoZone-1.3-0/blib/arch
    /tmp/loop_over_bdir-3706976-U9kYr5/NoZone-1.3-0/blib/lib
    /tmp/loop_over_bdir-3706976-U9kYr5/DBIx-Migration-Directories-0.12-0/blib/arch
    /tmp/loop_over_bdir-3706976-U9kYr5/DBIx-Migration-Directories-0.12-0/blib/lib
    /tmp/loop_over_bdir-3706976-U9kYr5/dta-tokwrap-0.98-0/blib/arch
    /tmp/loop_over_bdir-3706976-U9kYr5/dta-tokwrap-0.98-0/blib/lib
    /tmp/loop_over_bdir-3706976-U9kYr5/CORBA-Python-2.66-0/blib/arch
    /tmp/loop_over_bdir-3706976-U9kYr5/CORBA-Python-2.66-0/blib/lib
    /tmp/loop_over_bdir-3706976-U9kYr5/Sysync-0.38-0/blib/arch
    /tmp/loop_over_bdir-3706976-U9kYr5/Sysync-0.38-0/blib/lib
    /home/sand/src/perl/repoperls/installed-perls/host/k93jammy/v5.41.5/322f/lib/site_perl/5.41.5/x86_64-linux-thread-multi-ld
    /home/sand/src/perl/repoperls/installed-perls/host/k93jammy/v5.41.5/322f/lib/site_perl/5.41.5
    /home/sand/src/perl/repoperls/installed-perls/host/k93jammy/v5.41.5/322f/lib/5.41.5/x86_64-linux-thread-multi-ld
    /home/sand/src/perl/repoperls/installed-perls/host/k93jammy/v5.41.5/322f/lib/5.41.5
    .