Class-Method-Modifiers v2.15 Perl 5 v5.37.8 x86_64-linux

Status
Pass
From
Nigel Horne
Dist
Class-Method-Modifiers v2.15
Platform
Perl 5 v5.37.8 x86_64-linux
Date
2023-03-07 05:27:22
ID
bcaa04d6-bca8-11ed-8e09-0fba1392f26b
This distribution has been tested as part of the CPAN Testers
project, supporting the Perl programming language.  See
http://wiki.cpantesters.org/ for more information or email
questions to cpan-testers-discuss@perl.org


--
Dear Karen Etheridge,

This is a computer-generated report for Class-Method-Modifiers-2.15
on perl 5.37.8, created by CPAN-Reporter-1.2018.

Thank you for uploading your work to CPAN.  Congratulations!
All tests were successful.

Sections of this report:

    * Tester comments
    * Program output
    * Prerequisites
    * Environment and other context

------------------------------
TESTER COMMENTS
------------------------------

Additional comments from tester:

this report is from an automated smoke testing program
and was not reviewed by a human for accuracy

------------------------------
PROGRAM OUTPUT
------------------------------

Output from '/usr/bin/make test':

PERL_DL_NONLAZY=1 "/home/opc/perl5/perlbrew/perls/perl-5.37.8/bin/perl5.37.8" "-MExtUtils::Command::MM" "-MTest::Harness" "-e" "undef *Test::Harness::Switches; test_harness(0, 'blib/lib', 'blib/arch')" t/*.t
# 
# Versions for all modules listed in MYMETA.json (including optional ones):
# 
# === Configure Requires ===
# 
#     Module               Want     Have
#     ------------------- ----- --------
#     ExtUtils::MakeMaker   any  7.67_02
#     perl                5.006 5.037008
# 
# === Build Requires ===
# 
#     Module              Want    Have
#     ------------------- ---- -------
#     ExtUtils::MakeMaker  any 7.67_02
# 
# === Test Requires ===
# 
#     Module               Want     Have
#     ------------------- ----- --------
#     ExtUtils::MakeMaker   any  7.67_02
#     File::Spec            any     3.88
#     Test::More           0.88 1.302191
#     if                    any   0.0610
#     perl                5.006 5.037008
# 
# === Test Recommends ===
# 
#     Module         Want     Have
#     ---------- -------- --------
#     CPAN::Meta 2.120900 2.150010
# 
# === Runtime Requires ===
# 
#     Module    Want     Have
#     -------- ----- --------
#     B          any     1.87
#     Carp       any     1.54
#     Exporter   any     5.77
#     base       any     2.27
#     perl     5.006 5.037008
#     strict     any     1.12
#     warnings   any     1.61
# 
# === Other Modules ===
# 
#     Module                  Have
#     -------------------- -------
#     Encode                  3.19
#     File::Temp            0.2311
#     JSON::PP                4.16
#     Module::Runtime        0.016
#     Moo                  missing
#     Moose                missing
#     Pod::Coverage           0.23
#     Role::Tiny           missing
#     Sub::Install           0.929
#     Sub::Name               0.26
#     YAML                    1.30
#     autodie                 2.36
#     namespace::autoclean missing
#     namespace::clean        0.27
# 
t/00-report-prereqs.t ............... ok
t/000-load.t ........................ ok
t/001-error.t ....................... ok
t/002-cache.t ....................... ok
t/003-basic.t ....................... ok
t/004-around.t ...................... ok
t/005-return.t ...................... ok
t/010-before-args.t ................. ok
t/011-after-args.t .................. ok
t/012-around-args.t ................. ok
t/020-multiple-inheritance.t ........ ok
t/030-multiple-before.t ............. ok
t/031-multiple-after.t .............. ok
t/032-multiple-around.t ............. ok
t/034-multiple-everything.t ......... ok
t/035-multiple-everything-twice.t ... ok
t/040-twice-orig.t .................. ok
t/041-modify-parent.t ............... ok
t/051-undef-list-ctxt.t ............. ok
t/060-caller.t ...................... ok
t/070-modify-multiple-at-once.t ..... ok
t/080-multiple-modifiers.t .......... ok
t/081-sub-and-modifier.t ............ ok
t/090-diamond.t ..................... ok
t/100-class-mop-method-modifiers.t .. ok
t/110-namespace-clean.t ............. ok
t/120-fresh.t ....................... ok
t/130-clean-underscore.t ............ ok
t/140-lvalue.t ...................... ok
All tests successful.
Files=29, Tests=131,  6 wallclock secs ( 0.09 usr  0.03 sys +  1.93 cusr  0.47 csys =  2.52 CPU)
Result: PASS

------------------------------
PREREQUISITES
------------------------------

Prerequisite modules loaded:

requires:

    Module              Need     Have    
    ------------------- -------- --------
    B                   0        1.87    
    base                0        2.27    
    Carp                0        1.54    
    Exporter            0        5.77    
    perl                5.006    5.037008
    strict              0        1.12    
    warnings            0        1.61    

build_requires:

    Module              Need     Have    
    ------------------- -------- --------
    ExtUtils::MakeMaker 0        7.67_02 
    File::Spec          0        3.88    
    if                  0        0.0610  
    Test::More          0.88     1.302191

configure_requires:

    Module              Need     Have    
    ------------------- -------- --------
    ExtUtils::MakeMaker 0        7.67_02 
    perl                5.006    5.037008

opt_build_requires:

    Module              Need     Have    
    ------------------- -------- --------
    CPAN::Meta          2.120900 2.150010


------------------------------
ENVIRONMENT AND OTHER CONTEXT
------------------------------

Environment variables:

    AUTOMATED_TESTING = 1
    LANG = en_US.UTF-8
    PATH = /home/opc/perl5/perlbrew/bin:/home/opc/perl5/perlbrew/perls/perl-5.37.8/bin:/home/opc/perl5/perlbrew/bin:/home/opc/src/njh/smoker/bin:/usr/bin:/bin
    PERL5LIB = /home/opc/.cpan/build/ExtUtils-MakeMaker-7.67_02-0/blib/arch:/home/opc/.cpan/build/ExtUtils-MakeMaker-7.67_02-0/blib/lib:/home/opc/.cpan/build/XAO-FS-1.26-0/blib/arch:/home/opc/.cpan/build/XAO-FS-1.26-0/blib/lib:/home/opc/.cpan/build/XAO-Base-1.28-0/blib/arch:/home/opc/.cpan/build/XAO-Base-1.28-0/blib/lib:/home/opc/.cpan/build/Test-Unit-Lite-0.1202-0/blib/arch:/home/opc/.cpan/build/Test-Unit-Lite-0.1202-0/blib/lib:/home/opc/.cpan/build/JSON-XS-4.03-0/blib/arch:/home/opc/.cpan/build/JSON-XS-4.03-0/blib/lib:/home/opc/.cpan/build/Types-Serialiser-1.01-1/blib/arch:/home/opc/.cpan/build/Types-Serialiser-1.01-1/blib/lib:/home/opc/.cpan/build/common-sense-3.75-0/blib/arch:/home/opc/.cpan/build/common-sense-3.75-0/blib/lib:/home/opc/.cpan/build/Canary-Stability-2013-0/blib/arch:/home/opc/.cpan/build/Canary-Stability-2013-0/blib/lib:/home/opc/.cpan/build/JSON-4.10-0/blib/arch:/home/opc/.cpan/build/JSON-4.10-0/blib/lib
    PERL5OPT = 
    PERL5_CPANPLUS_IS_RUNNING = 8069
    PERL5_CPAN_IS_RUNNING = 8069
    PERL5_CPAN_IS_RUNNING_IN_RECURSION = 8059,8069
    PERLBREW_LIB = 
    PERLBREW_MANPATH = /home/opc/perl5/perlbrew/perls/perl-5.37.8/man
    PERLBREW_PATH = /home/opc/perl5/perlbrew/bin:/home/opc/perl5/perlbrew/perls/perl-5.37.8/bin
    PERLBREW_PERL = perl-5.37.8
    PERLBREW_ROOT = /home/opc/perl5/perlbrew
    PERLBREW_SHELLRC_VERSION = 0.96
    PERLBREW_VERSION = 0.96
    PERL_LOCAL_LIB_ROOT = 
    PERL_MM_USE_DEFAULT = 1
    PERL_USE_UNSAFE_INC = 1
    SHELL = /usr/bin/bash
    TMPDIR = /tmp/testwrapper.8062

Perl special variables (and OS-specific diagnostics, for MSWin32):

    $^X = /home/opc/perl5/perlbrew/perls/perl-5.37.8/bin/perl5.37.8
    $UID/$EUID = 1000 / 1000
    $GID = 1000 4 10 190 1000
    $EGID = 1000 4 10 190 1000

Perl module toolchain versions installed:

    Module              Have    
    ------------------- --------
    CPAN                2.34    
    CPAN::Meta          2.150010
    Cwd                 3.88    
    ExtUtils::CBuilder  0.280238
    ExtUtils::Command   7.67_02 
    ExtUtils::Install   2.22    
    ExtUtils::MakeMaker 7.67_02 
    ExtUtils::Manifest  1.73    
    ExtUtils::ParseXS   3.49    
    File::Spec          3.88    
    JSON                4.10    
    JSON::PP            4.16    
    Module::Build       0.4232  
    Module::Signature   n/a     
    Parse::CPAN::Meta   2.150010
    Test::Harness       3.44    
    Test::More          1.302191
    YAML                1.30    
    YAML::Syck          1.34    
    version             0.9929  


--

Summary of my perl5 (revision 5 version 37 subversion 8) configuration:
   
  Platform:
    osname=linux
    osvers=5.4.17-2136.315.5.el7uek.x86_64
    archname=x86_64-linux
    uname='linux oracle2.bandsman.co.uk 5.4.17-2136.315.5.el7uek.x86_64 #2 smp wed dec 21 19:57:57 pst 2022 x86_64 x86_64 x86_64 gnulinux '
    config_args='-de -Dprefix=/home/opc/perl5/perlbrew/perls/perl-5.37.8 -Dusedevel -Aeval:scriptdir=/home/opc/perl5/perlbrew/perls/perl-5.37.8/bin'
    hint=recommended
    useposix=true
    d_sigaction=define
    useithreads=undef
    usemultiplicity=undef
    use64bitint=define
    use64bitall=define
    uselongdouble=undef
    usemymalloc=n
    default_inc_excludes_dot=define
  Compiler:
    cc='cc'
    ccflags ='-std=gnu99 -fwrapv -fno-strict-aliasing -pipe -fstack-protector-strong -I/usr/local/include -D_LARGEFILE_SOURCE -D_FILE_OFFSET_BITS=64 -D_FORTIFY_SOURCE=2'
    optimize='-O2'
    cppflags='-std=gnu99 -fwrapv -fno-strict-aliasing -pipe -fstack-protector-strong -I/usr/local/include'
    ccversion=''
    gccversion='4.8.5 20150623 (Red Hat 4.8.5-44.0.3)'
    gccosandvers=''
    intsize=4
    longsize=8
    ptrsize=8
    doublesize=8
    byteorder=12345678
    doublekind=3
    d_longlong=define
    longlongsize=8
    d_longdbl=define
    longdblsize=16
    longdblkind=3
    ivtype='long'
    ivsize=8
    nvtype='double'
    nvsize=8
    Off_t='off_t'
    lseeksize=8
    alignbytes=8
    prototype=define
  Linker and Libraries:
    ld='cc'
    ldflags =' -fstack-protector-strong -L/usr/local/lib'
    libpth=/usr/local/lib /usr/lib /usr/lib64 /usr/local/lib64
    libs=-lpthread -lgdbm -ldb -ldl -lm -lcrypt -lutil -lc -lgdbm_compat
    perllibs=-lpthread -ldl -lm -lcrypt -lutil -lc
    libc=libc-2.17.so
    so=so
    useshrplib=false
    libperl=libperl.a
    gnulibc_version='2.17'
  Dynamic Linking:
    dlsrc=dl_dlopen.xs
    dlext=so
    d_dlsymun=undef
    ccdlflags='-Wl,-E'
    cccdlflags='-fPIC'
    lddlflags='-shared -O2 -L/usr/local/lib -fstack-protector-strong'


Characteristics of this binary (from libperl): 
  Compile-time options:
    HAS_TIMES
    PERLIO_LAYERS
    PERL_COPY_ON_WRITE
    PERL_DONT_CREATE_GVSV
    PERL_HASH_FUNC_SIPHASH13
    PERL_HASH_USE_SBOX32
    PERL_MALLOC_WRAP
    PERL_OP_PARENT
    PERL_PRESERVE_IVUV
    PERL_USE_DEVEL
    PERL_USE_SAFE_PUTENV
    USE_64_BIT_ALL
    USE_64_BIT_INT
    USE_LARGE_FILES
    USE_LOCALE
    USE_LOCALE_COLLATE
    USE_LOCALE_CTYPE
    USE_LOCALE_NUMERIC
    USE_LOCALE_TIME
    USE_PERLIO
    USE_PERL_ATOF
  Built under linux
  Compiled at Feb  1 2023 10:26:22
  %ENV:
    PERL5LIB="/home/opc/.cpan/build/ExtUtils-MakeMaker-7.67_02-0/blib/arch:/home/opc/.cpan/build/ExtUtils-MakeMaker-7.67_02-0/blib/lib:/home/opc/.cpan/build/XAO-FS-1.26-0/blib/arch:/home/opc/.cpan/build/XAO-FS-1.26-0/blib/lib:/home/opc/.cpan/build/XAO-Base-1.28-0/blib/arch:/home/opc/.cpan/build/XAO-Base-1.28-0/blib/lib:/home/opc/.cpan/build/Test-Unit-Lite-0.1202-0/blib/arch:/home/opc/.cpan/build/Test-Unit-Lite-0.1202-0/blib/lib:/home/opc/.cpan/build/JSON-XS-4.03-0/blib/arch:/home/opc/.cpan/build/JSON-XS-4.03-0/blib/lib:/home/opc/.cpan/build/Types-Serialiser-1.01-1/blib/arch:/home/opc/.cpan/build/Types-Serialiser-1.01-1/blib/lib:/home/opc/.cpan/build/common-sense-3.75-0/blib/arch:/home/opc/.cpan/build/common-sense-3.75-0/blib/lib:/home/opc/.cpan/build/Canary-Stability-2013-0/blib/arch:/home/opc/.cpan/build/Canary-Stability-2013-0/blib/lib:/home/opc/.cpan/build/JSON-4.10-0/blib/arch:/home/opc/.cpan/build/JSON-4.10-0/blib/lib"
    PERL5OPT=""
    PERL5_CPANPLUS_IS_RUNNING="8069"
    PERL5_CPAN_IS_RUNNING="8069"
    PERL5_CPAN_IS_RUNNING_IN_RECURSION="8059,8069"
    PERLBREW_LIB=""
    PERLBREW_MANPATH="/home/opc/perl5/perlbrew/perls/perl-5.37.8/man"
    PERLBREW_PATH="/home/opc/perl5/perlbrew/bin:/home/opc/perl5/perlbrew/perls/perl-5.37.8/bin"
    PERLBREW_PERL="perl-5.37.8"
    PERLBREW_ROOT="/home/opc/perl5/perlbrew"
    PERLBREW_SHELLRC_VERSION="0.96"
    PERLBREW_VERSION="0.96"
    PERL_LOCAL_LIB_ROOT=""
    PERL_MM_USE_DEFAULT="1"
    PERL_USE_UNSAFE_INC="1"
  @INC:
    /home/opc/.cpan/build/ExtUtils-MakeMaker-7.67_02-0/blib/arch
    /home/opc/.cpan/build/ExtUtils-MakeMaker-7.67_02-0/blib/lib
    /home/opc/.cpan/build/XAO-FS-1.26-0/blib/arch
    /home/opc/.cpan/build/XAO-FS-1.26-0/blib/lib
    /home/opc/.cpan/build/XAO-Base-1.28-0/blib/arch
    /home/opc/.cpan/build/XAO-Base-1.28-0/blib/lib
    /home/opc/.cpan/build/Test-Unit-Lite-0.1202-0/blib/arch
    /home/opc/.cpan/build/Test-Unit-Lite-0.1202-0/blib/lib
    /home/opc/.cpan/build/JSON-XS-4.03-0/blib/arch
    /home/opc/.cpan/build/JSON-XS-4.03-0/blib/lib
    /home/opc/.cpan/build/Types-Serialiser-1.01-1/blib/arch
    /home/opc/.cpan/build/Types-Serialiser-1.01-1/blib/lib
    /home/opc/.cpan/build/common-sense-3.75-0/blib/arch
    /home/opc/.cpan/build/common-sense-3.75-0/blib/lib
    /home/opc/.cpan/build/Canary-Stability-2013-0/blib/arch
    /home/opc/.cpan/build/Canary-Stability-2013-0/blib/lib
    /home/opc/.cpan/build/JSON-4.10-0/blib/arch
    /home/opc/.cpan/build/JSON-4.10-0/blib/lib
    /home/opc/perl5/perlbrew/perls/perl-5.37.8/lib/site_perl/5.37.8/x86_64-linux
    /home/opc/perl5/perlbrew/perls/perl-5.37.8/lib/site_perl/5.37.8
    /home/opc/perl5/perlbrew/perls/perl-5.37.8/lib/5.37.8/x86_64-linux
    /home/opc/perl5/perlbrew/perls/perl-5.37.8/lib/5.37.8
    .