Vim-Debug v0.904 Perl 5 v5.39.10 amd64-midnightbsd-thread-multi

Status
Pass
From
Carlos Guevara
Dist
Vim-Debug v0.904
Platform
Perl 5 v5.39.10 amd64-midnightbsd-thread-multi
Date
2024-03-29 13:10:38
ID
bca7ebd6-edcd-11ee-a642-e78ef026c5be
This distribution has been tested as part of the CPAN Testers
project, supporting the Perl programming language.  See
http://wiki.cpantesters.org/ for more information or email
questions to cpan-testers-discuss@perl.org


--
Dear Eric D Johnson,

This is a computer-generated report for Vim-Debug-0.904
on perl 5.39.10, created by CPAN-Reporter-1.2019.

Thank you for uploading your work to CPAN.  Congratulations!
All tests were successful.

Sections of this report:

    * Tester comments
    * Program output
    * Prerequisites
    * Environment and other context

------------------------------
TESTER COMMENTS
------------------------------

Additional comments from tester:

this report is from an automated smoke testing program
and was not reviewed by a human for accuracy

------------------------------
PROGRAM OUTPUT
------------------------------

Output from '/usr/bin/make test':

PERL_DL_NONLAZY=1 "/usr/home/cpan/bin/perl/bin/perl5.39.10" "-MExtUtils::Command::MM" "-MTest::Harness" "-e" "undef *Test::Harness::Switches; test_harness(0, 'blib/lib', 'blib/arch')" t/*.t
t/00-compile.t ......... ok
# Prerequisite Report:
#      Version Module                     
#   ---------- ---------------------------
#         1.54 Carp                       
#         0.11 Dir::Self                  
#         7.70 ExtUtils::MakeMaker        
#         2.86 File::Basename             
#         0.45 File::Copy::Recursive      
#         1.44 File::Find                 
#         2.18 File::Path                 
#         3.91 File::Spec::Functions      
#       0.2311 File::Temp                 
#         2.57 Getopt::Long               
#         1.20 IO::Pty                    
#   20231003.0 IPC::Run                   
#         1.63 List::Util                 
#       2.2207 Moose                      
#       2.2207 Moose::Role                
#       2.2207 Moose::Util                
#         0.29 MooseX::ClassAttribute     
#         3.05 Net::Telnet                
#        1.370 POE                        
#        1.370 POE::Component::Server::TCP
#     1.302198 Test::More                 
#         0.31 Try::Tiny                  
#         1.13 strict                     
#         1.68 warnings                   
t/00-report-prereqs.t .. ok
t/perl.parseOutput.t ... ok
Unescaped left brace in regex is passed through in regex; marked by <-- HERE in m/ { <-- HERE -VDEOR-} / at t/lib/Vim/Debug/Client.pm line 68.
Unescaped left brace in regex is passed through in regex; marked by <-- HERE in m/ { <-- HERE -VDEOR-} / at t/lib/Vim/Debug/Client.pm line 68.
t/perl.stop.t .......... ok
Unescaped left brace in regex is passed through in regex; marked by <-- HERE in m/ { <-- HERE -VDEOR-} / at t/lib/Vim/Debug/Client.pm line 68.
t/perl.t ............... ok
t/pod.t ................ ok
All tests successful.
Files=6, Tests=76, 10 wallclock secs ( 0.03 usr  0.01 sys +  2.09 cusr  0.20 csys =  2.33 CPU)
Result: PASS

------------------------------
PREREQUISITES
------------------------------

Prerequisite modules loaded:

requires:

    Module                      Need Have      
    --------------------------- ---- ----------
    Carp                        0    1.54      
    Dir::Self                   0    0.11      
    File::Basename              0    2.86      
    File::Copy::Recursive       0    0.45      
    File::Path                  0    2.18      
    Getopt::Long                0    2.57      
    IO::Pty                     0    1.20      
    IPC::Run                    0    20231003.0
    Moose                       0    2.2207    
    Moose::Role                 0    2.2207    
    Moose::Util                 0    2.2207    
    MooseX::ClassAttribute      0    0.29      
    POE                         0    1.370     
    POE::Component::Server::TCP 0    1.370     
    strict                      0    1.13      
    Try::Tiny                   0    0.31      
    warnings                    0    1.68      

build_requires:

    Module                      Need Have      
    --------------------------- ---- ----------
    ExtUtils::MakeMaker         0    7.70      
    File::Find                  0    1.44      
    File::Spec::Functions       0    3.91      
    File::Temp                  0    0.2311    
    List::Util                  0    1.63      
    Net::Telnet                 0    3.05      
    Test::More                  0    1.302198  

configure_requires:

    Module                      Need Have      
    --------------------------- ---- ----------
    ExtUtils::MakeMaker         6.30 7.70      


------------------------------
ENVIRONMENT AND OTHER CONTEXT
------------------------------

Environment variables:

    AUTOMATED_TESTING = 1
    DATE_MANIP_TEST_DM5 = 1
    LC_ALL = C
    NONINTERACTIVE_TESTING = 1
    NO_NETWORK_TESTING = 1
    PATH = /home/cpan/bin/perl/bin:/home/cpan/bin:/sbin:/bin:/usr/sbin:/usr/bin:/usr/games:/usr/local/sbin:/usr/local/bin:/home/cpan/bin
    PERL5LIB = 
    PERL5OPT = 
    PERL5_CPANPLUS_IS_RUNNING = 23241
    PERL5_CPAN_IS_RUNNING = 23241
    PERL_MM_USE_DEFAULT = 1
    PERL_USE_UNSAFE_INC = 1
    SHELL = /usr/local/bin/bash
    TERM = screen
    TMPDIR = /home/cpan/tmp

Perl special variables (and OS-specific diagnostics, for MSWin32):

    $^X = /usr/home/cpan/bin/perl/bin/perl5.39.10
    $UID/$EUID = 1002 / 1002
    $GID = 1002 1002
    $EGID = 1002 1002

Perl module toolchain versions installed:

    Module              Have    
    ------------------- --------
    CPAN                2.36    
    CPAN::Meta          2.150010
    Cwd                 3.90    
    ExtUtils::CBuilder  0.280240
    ExtUtils::Command   7.70    
    ExtUtils::Install   2.22    
    ExtUtils::MakeMaker 7.70    
    ExtUtils::Manifest  1.75    
    ExtUtils::ParseXS   3.51    
    File::Spec          3.90    
    JSON                4.10    
    JSON::PP            4.16    
    Module::Build       0.4234  
    Module::Signature   n/a     
    Parse::CPAN::Meta   2.150010
    Test2               1.302198
    Test::Harness       3.48    
    Test::More          1.302198
    YAML                1.31    
    YAML::Syck          1.34    
    version             0.9930  


--

Summary of my perl5 (revision 5 version 39 subversion 10) configuration:
  Commit id: 1c90da2f774d7d8c9a984e56746a7b6635c5b518
  Platform:
    osname=midnightbsd
    osvers=3.1.3
    archname=amd64-midnightbsd-thread-multi
    uname='midnightbsd cjg-midnightbsd3 3.1.3 midnightbsd 3.1.3 #9n12826-9619ab86ba(stable3.1)-dirty: mon dec 25 14:57:58 est 2023 root@m3164:usrobjusrsrcamd64.amd64sysgeneric amd64 '
    config_args='-des -Dprefix=/home/cpan/bin/perl -Dscriptdir=/home/cpan/bin/perl/bin -Dusedevel -Duse64bitall -Duseithreads'
    hint=recommended
    useposix=true
    d_sigaction=define
    useithreads=define
    usemultiplicity=define
    use64bitint=define
    use64bitall=define
    uselongdouble=undef
    usemymalloc=n
    default_inc_excludes_dot=define
  Compiler:
    cc='cc'
    ccflags ='-DHAS_FPSETMASK -DHAS_FLOATINGPOINT_H -fno-strict-aliasing -pipe -fstack-protector-strong -I/usr/local/include'
    optimize='-O'
    cppflags='-DHAS_FPSETMASK -DHAS_FLOATINGPOINT_H -fno-strict-aliasing -pipe -fstack-protector-strong -I/usr/local/include'
    ccversion=''
    gccversion='MidnightBSD Clang 13.0.0 (git@github.com:llvm/llvm-project.git llvmorg-13.0.0-0-gd7b669b3a303)'
    gccosandvers=''
    intsize=4
    longsize=8
    ptrsize=8
    doublesize=8
    byteorder=12345678
    doublekind=3
    d_longlong=define
    longlongsize=8
    d_longdbl=define
    longdblsize=16
    longdblkind=3
    ivtype='long'
    ivsize=8
    nvtype='double'
    nvsize=8
    Off_t='off_t'
    lseeksize=8
    alignbytes=8
    prototype=define
  Linker and Libraries:
    ld='cc'
    ldflags ='-pthread -Wl,-E  -fstack-protector-strong -L/usr/local/lib'
    libpth=/usr/lib /usr/local/lib /usr/lib/clang/13.0.0/lib
    libs=-lpthread -ldl -lm -lcrypt
    perllibs=-lpthread -ldl -lm -lcrypt
    libc=
    so=so
    useshrplib=false
    libperl=libperl.a
    gnulibc_version=''
  Dynamic Linking:
    dlsrc=dl_dlopen.xs
    dlext=so
    d_dlsymun=undef
    ccdlflags=' '
    cccdlflags='-DPIC -fPIC'
    lddlflags='-shared  -L/usr/local/lib -fstack-protector-strong'


Characteristics of this binary (from libperl): 
  Compile-time options:
    HAS_LONG_DOUBLE
    HAS_STRTOLD
    HAS_TIMES
    MULTIPLICITY
    PERLIO_LAYERS
    PERL_COPY_ON_WRITE
    PERL_DONT_CREATE_GVSV
    PERL_HASH_FUNC_SIPHASH13
    PERL_HASH_USE_SBOX32
    PERL_MALLOC_WRAP
    PERL_OP_PARENT
    PERL_PRESERVE_IVUV
    PERL_USE_DEVEL
    PERL_USE_SAFE_PUTENV
    USE_64_BIT_ALL
    USE_64_BIT_INT
    USE_ITHREADS
    USE_LARGE_FILES
    USE_LOCALE
    USE_LOCALE_COLLATE
    USE_LOCALE_CTYPE
    USE_LOCALE_NUMERIC
    USE_LOCALE_TIME
    USE_PERLIO
    USE_PERL_ATOF
    USE_REENTRANT_API
    USE_THREAD_SAFE_LOCALE
  Built under midnightbsd
  Compiled at Mar 29 2024 03:49:48
  %ENV:
    PERL5LIB=""
    PERL5OPT=""
    PERL5_CPANPLUS_IS_RUNNING="23241"
    PERL5_CPAN_IS_RUNNING="23241"
    PERL_MM_USE_DEFAULT="1"
    PERL_USE_UNSAFE_INC="1"
  @INC:
    /home/cpan/bin/perl/lib/site_perl/5.39.10/amd64-midnightbsd-thread-multi
    /home/cpan/bin/perl/lib/site_perl/5.39.10
    /home/cpan/bin/perl/lib/5.39.10/amd64-midnightbsd-thread-multi
    /home/cpan/bin/perl/lib/5.39.10
    .