Report for XML-RSS-1.56

Back
From: metabase:user:fd1f9e1e-2c23-11e4-bc91-b2a8667c122d
Subject: PASS XML-RSS-1.56 v5.22.0 RC2 Mac OS X
Date: 2015-05-26T16:53:30Z

This distribution has been tested as part of the CPAN Testers
project, supporting the Perl programming language.  See
http://wiki.cpantesters.org/ for more information or email
questions to cpan-testers-discuss@perl.org


--
Dear SHLOMIF,

This is a computer-generated report for XML-RSS-1.56
on perl 5.22.0, created by App::cpanminus::reporter 0.13 (1.7034).

Thank you for uploading your work to CPAN.  Congratulations!
All tests were successful.

Sections of this report:

    * Tester comments
    * Program output
    * Prerequisites
    * Environment and other context

------------------------------
TESTER COMMENTS
------------------------------

Additional comments from tester:

none provided

------------------------------
PROGRAM OUTPUT
------------------------------

Output from '':

Building and testing XML-RSS-1.56
Building XML-RSS
t/load.t .............................. ok
t/pod.t ............................... ok
t/cpan-changes.t ...................... skipped: Test::CPAN::Changes required for this test
t/style-trailing-space.t .............. skipped: Test::TrailingSpace required for trailing space test.
t/version.t ........................... ok
t/render-upon-init.t .................. ok
t/encoding.t .......................... ok
t/0.9-generate.t ...................... ok
t/0.9-parse.t ......................... ok
t/0.9-strict.t ........................ ok
t/0.91-parse.t ........................ ok
t/1.0-generate.t ...................... ok
t/1.0-gen-errors-on-missing-fields.t .. ok
t/1.0-parse.t ......................... ok
t/1.0-parse-2.t ....................... ok
t/1.0-parse-exotic.t .................. ok
t/2.0-generate.t ...................... ok
t/2.0-modules.t ....................... ok
t/2.0-permalink.t ..................... ok
t/2.0-parse.t ......................... ok
t/2.0-parse-cloud.t ................... ok
t/2.0-parse-2.t ....................... ok
t/2.0-parse-self.t .................... ok
t/2.0-wo-title.t ...................... ok
t/1.0-to-2.0.t ........................ ok
t/auto_add_modules.t .................. ok
t/enclosures.t ........................ ok
t/enclosures2.t ....................... ok
t/enclosures-multi.t .................. ok
t/encode-output.t ..................... ok
t/test-generated-items.t .............. ok
t/pod-coverage.t ...................... ok
t/rss2-gt-encoding.t .................. ok
t/charset1.t .......................... ok
t/xml-header.t ........................ ok
t/add-item-insert-vs-append.t ......... ok
t/guid.t .............................. ok
t/xml-base.t .......................... ok
t/save-while-in-taint-mode.t .......... ok
All tests successful.
Files=39, Tests=454,  7 wallclock secs ( 0.17 usr  0.09 sys +  7.07 cusr  0.49 csys =  7.82 CPU)
Result: PASS

------------------------------
PREREQUISITES
------------------------------

Prerequisite modules loaded:

    No requirements found

------------------------------
ENVIRONMENT AND OTHER CONTEXT
------------------------------

Environment variables:

    LANG = en_US.UTF-8
    LC_ALL = en_US.UTF-8
    PATH = /opt/plenv/versions/5.22.0-RC2/bin:/opt/plenv/libexec:/opt/plenv/plugins/perl-build/bin:/opt/plenv/shims:/opt/plenv/bin:/Users/genehack/bin:/opt/sbt/bin:/opt/scala/bin:/opt/play:/opt/go/bin:/opt/vim/bin:/opt/tmux/bin:/opt/sml/bin:/opt/ruby/bin:/opt/python/bin:/opt/node/bin:/opt/git/bin:/opt/emacs/bin:/opt/local/bin:/usr/bin:/bin:/usr/sbin:/sbin:/usr/local/bin:/usr/X11/bin:/Users/genehack/proj/go/bin
    PERL_CPANM_OPT = --skip-installed --prompt
    SHELL = /bin/zsh
    TERM = screen-256color
    TMPDIR = /var/folders/m0/3sn9zgmd4rv9s_625t4l3gd00000gn/T/

Perl special variables (and OS-specific diagnostics, for MSWin32):

    EGID = 20 20 12 61 79 80 81 98 402 33 100 204 398 399
    EUID = 501
    EXECUTABLE_NAME = /opt/plenv/versions/5.22.0-RC2/bin/perl5.22.0
    GID = 20 20 12 61 79 80 81 98 402 33 100 204 398 399
    UID = 501

Perl module toolchain versions installed:

    Module              Have    
    ------------------- --------
    CPAN                2.11    
    CPAN::Meta          2.150001
    Cwd                 3.56    
    ExtUtils::CBuilder  0.280221
    ExtUtils::Command   1.20    
    ExtUtils::Install   2.04    
    ExtUtils::MakeMaker 7.04_01 
    ExtUtils::Manifest  1.70    
    ExtUtils::ParseXS   3.28    
    File::Spec          3.56    
    JSON                2.90    
    JSON::PP            2.27300 
    Module::Build       0.4212  
    Module::Signature   n/a     
    Parse::CPAN::Meta   1.4414  
    Test::Harness       3.35    
    Test::More          1.001014
    YAML                1.15    
    YAML::Syck          n/a     
    version             0.9909  


--

Summary of my perl5 (revision 5 version 22 subversion 0) configuration:
   
  Platform:
    osname=darwin, osvers=14.3.0, archname=darwin-2level
    uname='darwin phineas.home.genehack.org 14.3.0 darwin kernel version 14.3.0: mon mar 23 11:59:05 pdt 2015; root:xnu-2782.20.48~5release_x86_64 x86_64 i386 macbookair4,2 darwin '
    config_args='-Dprefix=/opt/plenv/versions/5.22.0-RC2 -de -Dusedevel -A'eval:scriptdir=/opt/plenv/versions/5.22.0-RC2/bin''
    hint=recommended, useposix=true, d_sigaction=define
    useithreads=undef, usemultiplicity=undef
    use64bitint=define, use64bitall=define, uselongdouble=undef
    usemymalloc=n, bincompat5005=undef
  Compiler:
    cc='cc', ccflags ='-fno-common -DPERL_DARWIN -fno-strict-aliasing -pipe -fstack-protector-strong -I/opt/local/include',
    optimize='-O3',
    cppflags='-fno-common -DPERL_DARWIN -fno-strict-aliasing -pipe -fstack-protector-strong -I/opt/local/include'
    ccversion='', gccversion='4.2.1 Compatible Apple LLVM 6.1.0 (clang-602.0.53)', gccosandvers=''
    intsize=4, longsize=8, ptrsize=8, doublesize=8, byteorder=12345678, doublekind=3
    d_longlong=define, longlongsize=8, d_longdbl=define, longdblsize=16, longdblkind=3
    ivtype='long', ivsize=8, nvtype='double', nvsize=8, Off_t='off_t', lseeksize=8
    alignbytes=8, prototype=define
  Linker and Libraries:
    ld='env MACOSX_DEPLOYMENT_TARGET=10.3 cc', ldflags =' -fstack-protector-strong -L/usr/local/lib -L/opt/local/lib'
    libpth=/Applications/Xcode.app/Contents/Developer/Toolchains/XcodeDefault.xctoolchain/usr/bin/../lib/clang/6.1.0/lib /Applications/Xcode.app/Contents/Developer/Toolchains/XcodeDefault.xctoolchain/usr/lib /usr/lib /usr/local/lib /opt/local/lib
    libs=-lpthread -ldbm -ldl -lm -lutil -lc
    perllibs=-lpthread -ldl -lm -lutil -lc
    libc=, so=dylib, useshrplib=false, libperl=libperl.a
    gnulibc_version=''
  Dynamic Linking:
    dlsrc=dl_dlopen.xs, dlext=bundle, d_dlsymun=undef, ccdlflags=' '
    cccdlflags=' ', lddlflags=' -bundle -undefined dynamic_lookup -L/usr/local/lib -L/opt/local/lib -fstack-protector-strong'


Characteristics of this binary (from libperl): 
  Compile-time options: HAS_TIMES PERLIO_LAYERS PERL_DONT_CREATE_GVSV
                        PERL_HASH_FUNC_ONE_AT_A_TIME_HARD PERL_MALLOC_WRAP
                        PERL_NEW_COPY_ON_WRITE PERL_PRESERVE_IVUV
                        PERL_USE_DEVEL USE_64_BIT_ALL USE_64_BIT_INT
                        USE_LARGE_FILES USE_LOCALE USE_LOCALE_COLLATE
                        USE_LOCALE_CTYPE USE_LOCALE_NUMERIC USE_LOCALE_TIME
                        USE_PERLIO USE_PERL_ATOF
  Locally applied patches:
	RC2
	Devel::PatchPerl 1.30
  Built under darwin
  Compiled at May 26 2015 07:18:43
  %ENV:
    PERL_CPANM_OPT="--skip-installed --prompt"
  @INC:
    /opt/plenv/versions/5.22.0-RC2/lib/perl5/site_perl/5.22.0/darwin-2level
    /opt/plenv/versions/5.22.0-RC2/lib/perl5/site_perl/5.22.0
    /opt/plenv/versions/5.22.0-RC2/lib/perl5/5.22.0/darwin-2level
    /opt/plenv/versions/5.22.0-RC2/lib/perl5/5.22.0
    .