Report for DataFlow-Proc-URLRetriever-1.121690

Back
From: metabase:user:e7b34f46-36ca-11e0-a826-945c7ca43f85
Subject: PASS DataFlow-Proc-URLRetriever-1.121690 v5.18.0 FreeBSD
Date: 2013-08-20T21:30:29Z

This distribution has been tested as part of the CPAN Testers
project, supporting the Perl programming language.  See
http://wiki.cpantesters.org/ for more information or email
questions to cpan-testers-discuss@perl.org


--
Dear Alexei Znamensky,

This is a computer-generated report for DataFlow-Proc-URLRetriever-1.121690
on perl 5.18.0, created by CPAN-Reporter-1.2010.

Thank you for uploading your work to CPAN.  Congratulations!
All tests were successful.

Sections of this report:

    * Tester comments
    * Program output
    * Prerequisites
    * Environment and other context

------------------------------
TESTER COMMENTS
------------------------------

Additional comments from tester:

this report is from an automated smoke testing program
and was not reviewed by a human for accuracy

------------------------------
PROGRAM OUTPUT
------------------------------

Output from '/usr/bin/make test':

PERL_DL_NONLAZY=1 /usr/home/cpan/perl5/perlbrew/perls/perl-5.18.0/bin/perl "-MExtUtils::Command::MM" "-e" "test_harness(0, 'blib/lib', 'blib/arch')" t/*.t
t/00-compile.t ................ ok
t/00-load.t ................... ok
# 
# 
# perl: v5.18.0 (wanted any version) on freebsd from /usr/home/cpan/perl5/perlbrew/perls/perl-5.18.0/bin/perl
# 
# DataFlow                                      => 1.121830   (want 1.112100)
# DataFlow::Proc                                => 1.121830   (want any version)
# ExtUtils::MakeMaker                           => 6.7311     (want 6.30)   
# File::Find                                    => 1.23       (want any version)
# File::Temp                                    => 0.2301     (want any version)
# LWP::UserAgent                                => 6.05       (want any version)
# Moose                                         => 2.1005     (want any version)
# Test::More                                    => 0.9805     (want 0.88)   
# Test::UseAllModules                           => 0.14       (want any version)
# URI                                           => 1.60       (want any version)
# namespace::autoclean                          => 0.13       (want any version)
# strict                                        => 1.07       (want any version)
# warnings                                      => 1.18       (want any version)
# 
# Thanks for using my code.  I hope it works for you.
# If not, please try and include this output in the bug report.
# That will help me reproduce the issue and solve you problem.
# 
t/000-report-versions-tiny.t .. ok
t/62-urlretriever.t ........... ok
t/author-critic.t ............. skipped: these tests are for testing by the author
t/author-test-eol.t ........... skipped: these tests are for testing by the author
t/release-dist-manifest.t ..... skipped: these tests are for release candidate testing
t/release-distmeta.t .......... skipped: these tests are for release candidate testing
t/release-kwalitee.t .......... skipped: these tests are for release candidate testing
t/release-meta-json.t ......... skipped: these tests are for release candidate testing
t/release-minimum-version.t ... skipped: these tests are for release candidate testing
t/release-mojibake.t .......... skipped: these tests are for release candidate testing
t/release-no-tabs.t ........... skipped: these tests are for release candidate testing
t/release-pod-coverage.t ...... skipped: these tests are for release candidate testing
t/release-pod-linkcheck.t ..... skipped: these tests are for release candidate testing
t/release-pod-syntax.t ........ skipped: these tests are for release candidate testing
t/release-portability.t ....... skipped: these tests are for release candidate testing
t/release-test-version.t ...... skipped: these tests are for release candidate testing
t/release-unused-vars.t ....... skipped: these tests are for release candidate testing
All tests successful.
Files=19, Tests=4,  4 wallclock secs ( 0.09 usr  0.04 sys +  2.99 cusr  0.34 csys =  3.45 CPU)
Result: PASS

------------------------------
PREREQUISITES
------------------------------

Prerequisite modules loaded:

requires:

    Module               Need     Have    
    -------------------- -------- --------
    DataFlow             1.112100 1.121830
    DataFlow::Proc       0        1.121830
    LWP::UserAgent       0        6.05    
    Moose                0        2.1005  
    namespace::autoclean 0        0.13    
    strict               0        1.07    
    URI                  0        1.60    
    warnings             0        1.18    

build_requires:

    Module               Need     Have    
    -------------------- -------- --------
    File::Find           0        1.23    
    File::Temp           0        0.2301  
    Test::More           0.88     0.98_05 
    Test::UseAllModules  0        0.14    

configure_requires:

    Module               Need     Have    
    -------------------- -------- --------
    ExtUtils::MakeMaker  6.30     6.73_11 


------------------------------
ENVIRONMENT AND OTHER CONTEXT
------------------------------

Environment variables:

    AUTOMATED_TESTING = 1
    PATH = /home/cpan/perl5/perlbrew/bin:/home/cpan/perl5/perlbrew/perls/perl-5.18.0/bin:/home/cpan/perl5/bin:/sbin:/bin:/usr/sbin:/usr/bin:/usr/games:/usr/local/sbin:/usr/local/bin:/home/cpan/bin
    PERL5LIB = 
    PERL5OPT = 
    PERL5_CPANPLUS_IS_RUNNING = 79711
    PERL5_CPAN_IS_RUNNING = 79711
    PERL5_CPAN_IS_RUNNING_IN_RECURSION = 41361,79711
    PERLBREW_BASHRC_VERSION = 0.66
    PERLBREW_HOME = /home/cpan/.perlbrew
    PERLBREW_MANPATH = /home/cpan/perl5/perlbrew/perls/perl-5.18.0/man
    PERLBREW_PATH = /home/cpan/perl5/perlbrew/bin:/home/cpan/perl5/perlbrew/perls/perl-5.18.0/bin
    PERLBREW_PERL = perl-5.18.0
    PERLBREW_ROOT = /home/cpan/perl5/perlbrew
    PERLBREW_VERSION = 0.66
    PERL_CR_SMOKER_CURRENT = Task-DataFlow-0.008
    PERL_EXTUTILS_AUTOINSTALL = --defaultdeps
    PERL_LOCAL_LIB_ROOT = 
    PERL_MB_OPT = 
    PERL_MM_OPT = 
    PERL_MM_USE_DEFAULT = 1
    SHELL = /usr/local/bin/bash
    TERM = xterm-256color

Perl special variables (and OS-specific diagnostics, for MSWin32):

    $^X = /usr/home/cpan/perl5/perlbrew/perls/perl-5.18.0/bin/perl
    $UID/$EUID = 1002 / 1002
    $GID = 1002 1002
    $EGID = 1002 1002

Perl module toolchain versions installed:

    Module              Have    
    ------------------- --------
    CPAN                2.00    
    CPAN::Meta          2.132140
    Cwd                 3.40    
    ExtUtils::CBuilder  0.280210
    ExtUtils::Command   1.17    
    ExtUtils::Install   1.59    
    ExtUtils::MakeMaker 6.73_11 
    ExtUtils::Manifest  1.61    
    ExtUtils::ParseXS   3.21    
    File::Spec          3.40    
    JSON                2.59    
    JSON::PP            2.27202 
    Module::Build       0.4005  
    Module::Signature   n/a     
    Parse::CPAN::Meta   1.4405  
    Test::Harness       3.28    
    Test::More          0.98_05 
    YAML                0.84    
    YAML::Syck          1.27    
    version             0.9903  


--

Summary of my perl5 (revision 5 version 18 subversion 0) configuration:
   
  Platform:
    osname=freebsd, osvers=9.0-release, archname=amd64-freebsd
    uname='freebsd freebsd90 9.0-release freebsd 9.0-release #0: tue jan 3 07:46:30 utc 2012 root@farrell.cse.buffalo.edu:usrobjusrsrcsysgeneric amd64 '
    config_args='-de -Dprefix=/home/cpan/perl5/perlbrew/perls/perl-5.18.0 -Aeval:scriptdir=/home/cpan/perl5/perlbrew/perls/perl-5.18.0/bin'
    hint=recommended, useposix=true, d_sigaction=define
    useithreads=undef, usemultiplicity=undef
    useperlio=define, d_sfio=undef, uselargefiles=define, usesocks=undef
    use64bitint=define, use64bitall=define, uselongdouble=undef
    usemymalloc=n, bincompat5005=undef
  Compiler:
    cc='cc', ccflags ='-DHAS_FPSETMASK -DHAS_FLOATINGPOINT_H -fno-strict-aliasing -pipe -fstack-protector -I/usr/local/include',
    optimize='-O',
    cppflags='-DHAS_FPSETMASK -DHAS_FLOATINGPOINT_H -fno-strict-aliasing -pipe -fstack-protector -I/usr/local/include'
    ccversion='', gccversion='4.2.1 20070831 patched [FreeBSD]', gccosandvers=''
    intsize=4, longsize=8, ptrsize=8, doublesize=8, byteorder=12345678
    d_longlong=define, longlongsize=8, d_longdbl=define, longdblsize=16
    ivtype='long', ivsize=8, nvtype='double', nvsize=8, Off_t='off_t', lseeksize=8
    alignbytes=8, prototype=define
  Linker and Libraries:
    ld='cc', ldflags ='-Wl,-E  -fstack-protector -L/usr/local/lib'
    libpth=/usr/lib /usr/local/lib
    libs=-lm -lcrypt -lutil -lc
    perllibs=-lm -lcrypt -lutil -lc
    libc=, so=so, useshrplib=false, libperl=libperl.a
    gnulibc_version=''
  Dynamic Linking:
    dlsrc=dl_dlopen.xs, dlext=so, d_dlsymun=undef, ccdlflags=' '
    cccdlflags='-DPIC -fPIC', lddlflags='-shared  -L/usr/local/lib -fstack-protector'


Characteristics of this binary (from libperl): 
  Compile-time options: HAS_TIMES PERLIO_LAYERS PERL_DONT_CREATE_GVSV
                        PERL_HASH_FUNC_ONE_AT_A_TIME_HARD PERL_MALLOC_WRAP
                        PERL_PRESERVE_IVUV PERL_SAWAMPERSAND USE_64_BIT_ALL
                        USE_64_BIT_INT USE_LARGE_FILES USE_LOCALE
                        USE_LOCALE_COLLATE USE_LOCALE_CTYPE
                        USE_LOCALE_NUMERIC USE_PERLIO USE_PERL_ATOF
  Built under freebsd
  Compiled at Aug  9 2013 19:40:59
  %ENV:
    PERL5LIB=""
    PERL5OPT=""
    PERL5_CPANPLUS_IS_RUNNING="79711"
    PERL5_CPAN_IS_RUNNING="79711"
    PERL5_CPAN_IS_RUNNING_IN_RECURSION="41361,79711"
    PERLBREW_BASHRC_VERSION="0.66"
    PERLBREW_HOME="/home/cpan/.perlbrew"
    PERLBREW_MANPATH="/home/cpan/perl5/perlbrew/perls/perl-5.18.0/man"
    PERLBREW_PATH="/home/cpan/perl5/perlbrew/bin:/home/cpan/perl5/perlbrew/perls/perl-5.18.0/bin"
    PERLBREW_PERL="perl-5.18.0"
    PERLBREW_ROOT="/home/cpan/perl5/perlbrew"
    PERLBREW_VERSION="0.66"
    PERL_CR_SMOKER_CURRENT="Task-DataFlow-0.008"
    PERL_EXTUTILS_AUTOINSTALL="--defaultdeps"
    PERL_LOCAL_LIB_ROOT=""
    PERL_MB_OPT=""
    PERL_MM_OPT=""
    PERL_MM_USE_DEFAULT="1"
  @INC:
    /home/cpan/perl5/perlbrew/perls/perl-5.18.0/lib/site_perl/5.18.0/amd64-freebsd
    /home/cpan/perl5/perlbrew/perls/perl-5.18.0/lib/site_perl/5.18.0
    /home/cpan/perl5/perlbrew/perls/perl-5.18.0/lib/5.18.0/amd64-freebsd
    /home/cpan/perl5/perlbrew/perls/perl-5.18.0/lib/5.18.0
    .