Text-Template-Simple v0.91 Perl 5 v5.30.0 cygwin-thread-multi
- Status
- Pass
- From
- Nigel Horne
- Dist
-
Text-Template-Simple v0.91
- Platform
- Perl 5 v5.30.0 cygwin-thread-multi
- Date
- 2019-07-06 17:16:04
- ID
- bc151ba8-a011-11e9-8fa9-99a29f1e7dde
This distribution has been tested as part of the CPAN Testers
project, supporting the Perl programming language. See
http://wiki.cpantesters.org/ for more information or email
questions to cpan-testers-discuss@perl.org
--
Dear Burak Gursoy,
This is a computer-generated report for Text-Template-Simple-0.91
on perl 5.30.0, created by CPAN-Reporter-1.2018.
Thank you for uploading your work to CPAN. Congratulations!
All tests were successful.
Sections of this report:
* Tester comments
* Program output
* Prerequisites
* Environment and other context
------------------------------
TESTER COMMENTS
------------------------------
Additional comments from tester:
none provided
------------------------------
PROGRAM OUTPUT
------------------------------
Output from '/usr/bin/make test':
PERL_DL_NONLAZY=1 "/home/Nigel/perl5/perlbrew/perls/perl-5.30.0/bin/perl.exe" "-MExtUtils::Command::MM" "-MTest::Harness" "-e" "undef *Test::Harness::Switches; test_harness(0, 'blib/lib', 'blib/arch')" t/*.t
t/004-extend.t ....................... ok
t/003-simple.t ....................... ok
t/005-safe.t ......................... ok
#
# Versions for all modules listed in MYMETA.json (including optional ones):
#
# === Configure Requires ===
#
# Module Want Have
# ------------------- ---- ----
# ExtUtils::MakeMaker any 7.34
#
# === Build Requires ===
#
# Module Want Have
# ------------------- ---- ----
# ExtUtils::MakeMaker any 7.34
#
# === Test Requires ===
#
# Module Want Have
# ------------------- ---- --------
# ExtUtils::MakeMaker any 7.34
# File::Spec any 3.78
# IO::Handle any 1.40
# IPC::Open3 any 1.20
# Test::More any 1.302162
#
# === Test Recommends ===
#
# Module Want Have
# ---------- -------- --------
# CPAN::Meta 2.120900 2.150010
#
# === Runtime Requires ===
#
# Module Want Have
# ----------- ---- ----
# Digest::MD5 1 2.55
#
# === Runtime Recommends ===
#
# Module Want Have
# ----------- ----- -------
# Devel::Size 0.77 missing
# Perl::Tidy any missing
# Text::Table 1.107 missing
#
t/00-report-prereqs.t ................ ok
t/006-iolayer.t ...................... ok
t/008-escape-delim.t ................. ok
t/009-subclass.t ..................... ok
t/010-subclass-define-bufvar.t ....... ok
t/007-stack.t ........................ ok
t/015-connector.t .................... ok
t/011-cache-mem.t .................... ok
t/012-cache-disk.t ................... ok
t/016-include-static.t ............... ok
t/013-cache-other.t .................. ok
t/017-include-dynamic.t .............. ok
t/019-dynamic-static-interpolate.t ... ok
t/00-compile.t ....................... ok
t/021-comment.t ...................... ok
t/018-include-dynamic-recursive.t .... ok
t/022-monolith.t ..................... ok
t/020-fake-include-recursive.t ....... ok
t/024-include-paths.t ................ ok
t/023-change-delims.t ................ ok
t/025-chomp.t ........................ ok
t/027-include-param.t ................ ok
t/029-block-filter.t ................. ok
t/026-template-name-dollar-zero.t .... ok
t/030-toke-substr.t .................. ok
t/author-pod-coverage.t .............. skipped: these tests are for testing by the author
t/author-pod-syntax.t ................ skipped: these tests are for testing by the author
t/028-include-filter.t ............... ok
t/release-distmeta.t ................. skipped: these tests are for release candidate testing
t/031-capture-warnings.t ............. ok
t/033-dynamic-include-shared-vars.t .. ok
t/032-empty-includes.t ............... ok
All tests successful.
Files=35, Tests=338, 6 wallclock secs ( 0.06 usr 0.23 sys + 5.83 cusr 21.05 csys = 27.18 CPU)
Result: PASS
------------------------------
PREREQUISITES
------------------------------
Prerequisite modules loaded:
requires:
Module Need Have
------------------- ----- --------
Digest::MD5 1 2.55
perl 5.010 5.030000
build_requires:
Module Need Have
------------------- ----- --------
ExtUtils::MakeMaker 0 7.34
File::Spec 0 3.78
IO::Handle 0 1.40
IPC::Open3 0 1.20
Test::More 0 1.302162
configure_requires:
Module Need Have
------------------- ----- --------
ExtUtils::MakeMaker 0 7.34
------------------------------
ENVIRONMENT AND OTHER CONTEXT
------------------------------
Environment variables:
COMSPEC = C:\WINDOWS\system32\cmd.exe
HARNESS_OPTIONS = c:j6
LANG = en_GB.UTF-8
NONINTERACTIVE_TESTING = 1
NUMBER_OF_PROCESSORS = 12
PATH = /home/Nigel/perl5/perlbrew/bin:/home/Nigel/perl5/perlbrew/perls/perl-5.30.0/bin:/home/Nigel/bin::/home/Nigel/bin:/usr/local/bin:/usr/bin:/bin
PERL5LIB =
PERL5OPT =
PERL5_CPANPLUS_IS_RUNNING = 997
PERL5_CPAN_IS_RUNNING = 997
PERLBREW_HOME = /home/Nigel/.perlbrew
PERLBREW_MANPATH = /home/Nigel/perl5/perlbrew/perls/perl-5.30.0/man
PERLBREW_PATH = /home/Nigel/perl5/perlbrew/bin:/home/Nigel/perl5/perlbrew/perls/perl-5.30.0/bin
PERLBREW_PERL = perl-5.30.0
PERLBREW_ROOT = /home/Nigel/perl5/perlbrew
PERLBREW_SHELLRC_VERSION = 0.86
PERLBREW_VERSION = 0.86
PERL_MM_USE_DEFAULT = 1
PERL_USE_UNSAFE_INC = 1
PROCESSOR_IDENTIFIER = Intel64 Family 6 Model 62 Stepping 4, GenuineIntel
SHELL = /bin/bash
TEMP = /cygdrive/j/temp
TERM = xterm
TMPDIR = /cygdrive/j/temp
Perl special variables (and OS-specific diagnostics, for MSWin32):
$^X = /home/Nigel/perl5/perlbrew/perls/perl-5.30.0/bin/perl
$UID/$EUID = 1001 / 1001
$GID = 11001 401408 1002 559 545 4 66049 11 15 68354 113 4095 66048 262180
$EGID = 11001 401408 1002 559 545 4 66049 11 15 68354 113 4095 66048 262180
Perl module toolchain versions installed:
Module Have
------------------- --------
CPAN 2.26
CPAN::Meta 2.150010
Cwd 3.78
ExtUtils::CBuilder 0.280231
ExtUtils::Command 7.34
ExtUtils::Install 2.14
ExtUtils::MakeMaker 7.34
ExtUtils::Manifest 1.72
ExtUtils::ParseXS 3.40
File::Spec 3.78
JSON 4.02
JSON::PP 4.02
Module::Build 0.4229
Module::Signature n/a
Parse::CPAN::Meta 2.150010
Test::Harness 3.42
Test::More 1.302162
YAML 1.29
YAML::Syck 1.31
version 0.9924
--
Summary of my perl5 (revision 5 version 30 subversion 0) configuration:
Platform:
osname=cygwin
osvers=3.0.7(0.33853)
archname=cygwin-thread-multi
uname='cygwin_nt-10.0 cyberpower 3.0.7(0.33853) 2019-04-30 18:08 x86_64 cygwin '
config_args='-de -Dprefix=/home/Nigel/perl5/perlbrew/perls/perl-5.30.0 -Aeval:scriptdir=/home/Nigel/perl5/perlbrew/perls/perl-5.30.0/bin'
hint=recommended
useposix=true
d_sigaction=define
useithreads=define
usemultiplicity=define
use64bitint=define
use64bitall=define
uselongdouble=undef
usemymalloc=n
default_inc_excludes_dot=define
bincompat5005=undef
Compiler:
cc='gcc'
ccflags ='-DPERL_USE_SAFE_PUTENV -U__STRICT_ANSI__ -fwrapv -fno-strict-aliasing -pipe -fstack-protector-strong -D_FORTIFY_SOURCE=2'
optimize='-O3'
cppflags='-DPERL_USE_SAFE_PUTENV -U__STRICT_ANSI__ -fwrapv -fno-strict-aliasing -pipe -fstack-protector-strong'
ccversion=''
gccversion='7.4.0'
gccosandvers=''
intsize=4
longsize=8
ptrsize=8
doublesize=8
byteorder=12345678
doublekind=3
d_longlong=define
longlongsize=8
d_longdbl=define
longdblsize=16
longdblkind=3
ivtype='long'
ivsize=8
nvtype='double'
nvsize=8
Off_t='off_t'
lseeksize=8
alignbytes=8
prototype=define
Linker and Libraries:
ld='g++'
ldflags =' -Wl,--enable-auto-import -Wl,--export-all-symbols -Wl,--enable-auto-image-base -fstack-protector-strong -L/usr/local/lib'
libpth=/usr/lib /usr/lib/gcc/x86_64-pc-cygwin/7.4.0/../../../../lib/../include/w32api /usr/local/lib /lib
libs=-lpthread -ldl
perllibs=-lpthread -ldl
libc=/usr/lib/libc.a
so=dll
useshrplib=true
libperl=cygperl5_30_0.dll
gnulibc_version=''
Dynamic Linking:
dlsrc=dl_dlopen.xs
dlext=dll
d_dlsymun=undef
ccdlflags=' '
cccdlflags=' '
lddlflags=' --shared -Wl,--enable-auto-import -Wl,--export-all-symbols -Wl,--enable-auto-image-base -L/usr/local/lib -fstack-protector-strong'
Characteristics of this binary (from libperl):
Compile-time options:
HAS_TIMES
MULTIPLICITY
PERLIO_LAYERS
PERL_COPY_ON_WRITE
PERL_DONT_CREATE_GVSV
PERL_IMPLICIT_CONTEXT
PERL_OP_PARENT
PERL_PRESERVE_IVUV
PERL_USE_SAFE_PUTENV
USE_64_BIT_ALL
USE_64_BIT_INT
USE_ITHREADS
USE_LARGE_FILES
USE_LOCALE
USE_LOCALE_COLLATE
USE_LOCALE_CTYPE
USE_LOCALE_NUMERIC
USE_LOCALE_TIME
USE_PERLIO
USE_PERL_ATOF
USE_REENTRANT_API
USE_THREAD_SAFE_LOCALE
Built under cygwin
Compiled at May 23 2019 20:42:01
%ENV:
PERL5LIB=""
PERL5OPT=""
PERL5_CPANPLUS_IS_RUNNING="997"
PERL5_CPAN_IS_RUNNING="997"
PERLBREW_HOME="/home/Nigel/.perlbrew"
PERLBREW_MANPATH="/home/Nigel/perl5/perlbrew/perls/perl-5.30.0/man"
PERLBREW_PATH="/home/Nigel/perl5/perlbrew/bin:/home/Nigel/perl5/perlbrew/perls/perl-5.30.0/bin"
PERLBREW_PERL="perl-5.30.0"
PERLBREW_ROOT="/home/Nigel/perl5/perlbrew"
PERLBREW_SHELLRC_VERSION="0.86"
PERLBREW_VERSION="0.86"
PERL_MM_USE_DEFAULT="1"
PERL_USE_UNSAFE_INC="1"
@INC:
/home/Nigel/perl5/perlbrew/perls/perl-5.30.0/lib/site_perl/5.30.0/cygwin-thread-multi
/home/Nigel/perl5/perlbrew/perls/perl-5.30.0/lib/site_perl/5.30.0
/home/Nigel/perl5/perlbrew/perls/perl-5.30.0/lib/5.30.0/cygwin-thread-multi
/home/Nigel/perl5/perlbrew/perls/perl-5.30.0/lib/5.30.0
.