Test-CleanNamespaces v0.24 Perl 5 v5.33.4 i86pc-solaris-64

Status
Pass
From
Nigel Horne
Dist
Test-CleanNamespaces v0.24
Platform
Perl 5 v5.33.4 i86pc-solaris-64
Date
2020-11-24 13:27:01
ID
bbf6d4aa-2e58-11eb-a88c-909d06d43fa5
This distribution has been tested as part of the CPAN Testers
project, supporting the Perl programming language.  See
http://wiki.cpantesters.org/ for more information or email
questions to cpan-testers-discuss@perl.org


--
Dear Karen Etheridge,

This is a computer-generated report for Test-CleanNamespaces-0.24
on perl 5.33.4, created by CPAN-Reporter-1.2018.

Thank you for uploading your work to CPAN.  Congratulations!
All tests were successful.

Sections of this report:

    * Tester comments
    * Program output
    * Prerequisites
    * Environment and other context

------------------------------
TESTER COMMENTS
------------------------------

Additional comments from tester:

none provided

------------------------------
PROGRAM OUTPUT
------------------------------

Output from '/usr/bin/make test':

PERL_DL_NONLAZY=1 "/export/home/njh/perl5/perlbrew/perls/perl-5.33.4-64all/bin/perl5.33.4" "-MExtUtils::Command::MM" "-MTest::Harness" "-e" "undef *Test::Harness::Switches; test_harness(0, 'blib/lib', 'blib/arch')" t/*.t
# 
# Versions for all modules listed in MYMETA.json (including optional ones):
# 
# === Configure Requires ===
# 
#     Module                       Want     Have
#     ------------------------ -------- --------
#     CPAN::Meta::Requirements 2.120620    2.140
#     ExtUtils::MakeMaker           any     7.56
#     Module::Metadata              any 1.000037
# 
# === Build Requires ===
# 
#     Module              Want Have
#     ------------------- ---- ----
#     ExtUtils::MakeMaker  any 7.56
# 
# === Test Requires ===
# 
#     Module                 Want     Have
#     --------------------- ----- --------
#     ExtUtils::MakeMaker     any     7.56
#     File::Spec              any     3.79
#     File::Spec::Functions   any     3.79
#     File::pushd             any    1.016
#     Scalar::Util            any     1.55
#     Sub::Exporter           any    0.987
#     Test::Deep              any    1.130
#     Test::More             0.96 1.302183
#     Test::Needs             any 0.002006
#     Test::Tester            any 1.302183
#     Test::Warnings        0.009    0.030
#     constant                any     1.33
#     if                      any   0.0609
#     lib                     any     0.65
#     namespace::clean        any     0.27
#     overload                any     1.33
#     parent                  any    0.238
# 
# === Test Recommends ===
# 
#     Module         Want     Have
#     ---------- -------- --------
#     CPAN::Meta 2.120900 2.150010
# 
# === Test Suggests ===
# 
#     Module                          Want    Have
#     --------------------------- -------- -------
#     Class::MOP::Class                any missing
#     Moo                              any missing
#     Moo::Role                        any missing
#     Moose                            any missing
#     Moose::Exporter                  any missing
#     Moose::Role                      any missing
#     MooseX::Role::Parameterized      any missing
#     Mouse                            any missing
#     Mouse::Role                      any missing
#     Role::Tiny                  1.003000 missing
#     metaclass                        any missing
# 
# === Runtime Requires ===
# 
#     Module          Want     Have
#     --------------- ---- --------
#     Exporter        5.57     5.76
#     File::Find       any     1.37
#     File::Spec       any     3.79
#     Module::Runtime  any    0.016
#     Package::Stash  0.14     0.39
#     Sub::Identify    any     0.14
#     Test::Builder    any 1.302183
#     strict           any     1.12
#     warnings         any     1.48
# 
# === Runtime Recommends ===
# 
#     Module             Want Have
#     ------------------ ---- ----
#     Package::Stash::XS  any 0.29
# 
# === Runtime Suggests ===
# 
#     Module     Want    Have
#     ---------- ---- -------
#     Role::Tiny  any missing
# 
# === Other Modules ===
# 
#     Module             Have
#     --------------- -------
#     Encode             3.07
#     File::Temp       0.2311
#     JSON::PP           4.05
#     Module::Runtime   0.016
#     Pod::Coverage   missing
#     Sub::Name       missing
#     YAML            missing
#     autodie            2.32
# 
t/00-report-prereqs.t ......... ok
t/basic.t ..................... ok
t/class_mop.t ................. skipped: skipping for regular installs, due to possible circular dependency issues
t/clean-namespaces.t .......... ok
t/find_modules.t .............. ok
t/moo.t ....................... skipped: Need Moo 1.000007
t/moose-parameterized-role.t .. skipped: skipping for regular installs, due to possible circular dependency issues
t/moose.t ..................... skipped: skipping for regular installs, due to possible circular dependency issues
t/mouse.t ..................... skipped: Need Mouse
t/overload.t .................. ok
t/role_tiny.t ................. skipped: Need Role::Tiny 1.003000
t/self.t ...................... ok
t/zzz-check-breaks.t .......... ok
All tests successful.
Files=13, Tests=86,  3 wallclock secs ( 0.07 usr  0.04 sys +  1.28 cusr  0.39 csys =  1.78 CPU)
Result: PASS

------------------------------
PREREQUISITES
------------------------------

Prerequisite modules loaded:

requires:

    Module                   Need     Have    
    ------------------------ -------- --------
    Exporter                 5.57     5.76    
    File::Find               0        1.37    
    File::Spec               0        3.79    
    Module::Runtime          0        0.016   
    Package::Stash           0.14     0.39    
    perl                     5.006    5.033004
    strict                   0        1.12    
    Sub::Identify            0        0.14    
    Test::Builder            0        1.302183
    warnings                 0        1.48    

build_requires:

    Module                   Need     Have    
    ------------------------ -------- --------
    constant                 0        1.33    
    ExtUtils::MakeMaker      0        7.56    
    File::pushd              0        1.016   
    File::Spec               0        3.79    
    File::Spec::Functions    0        3.79    
    if                       0        0.0609  
    lib                      0        0.65    
    namespace::clean         0        0.27    
    overload                 0        1.33    
    parent                   0        0.238   
    Scalar::Util             0        1.55    
    Sub::Exporter            0        0.987   
    Test::Deep               0        1.130   
    Test::More               0.96     1.302183
    Test::Needs              0        0.002006
    Test::Tester             0        1.302183
    Test::Warnings           0.009    0.030   

configure_requires:

    Module                   Need     Have    
    ------------------------ -------- --------
    CPAN::Meta::Requirements 2.120620 2.140   
    ExtUtils::MakeMaker      0        7.56    
    Module::Metadata         0        1.000037
    perl                     5.006    5.033004


------------------------------
ENVIRONMENT AND OTHER CONTEXT
------------------------------

Environment variables:

    LANG = C
    NONINTERACTIVE_TESTING = 1
    PATH = /export/home/njh/perl5/perlbrew/bin:/export/home/njh/perl5/perlbrew/perls/perl-5.33.4-64all/bin:/export/home/njh/perl5/perlbrew/bin:/usr/bin:/usr/sbin:/sbin:/usr/gnu/bin
    PERL5LIB = 
    PERL5OPT = 
    PERL5_CPANPLUS_IS_RUNNING = 10323
    PERL5_CPAN_IS_RUNNING = 10323
    PERLBREW_HOME = /export/home/njh/.perlbrew
    PERLBREW_LIB = 
    PERLBREW_MANPATH = /export/home/njh/perl5/perlbrew/perls/perl-5.33.4-64all/man
    PERLBREW_PATH = /export/home/njh/perl5/perlbrew/bin:/export/home/njh/perl5/perlbrew/perls/perl-5.33.4-64all/bin
    PERLBREW_PERL = perl-5.33.4-64all
    PERLBREW_ROOT = /export/home/njh/perl5/perlbrew
    PERLBREW_SHELLRC_VERSION = 0.88
    PERLBREW_VERSION = 0.88
    PERL_LOCAL_LIB_ROOT = 
    PERL_MM_USE_DEFAULT = 1
    PERL_USE_UNSAFE_INC = 1
    SHELL = /bin/bash
    TERM = dumb
    TMPDIR = /var/tmp

Perl special variables (and OS-specific diagnostics, for MSWin32):

    $^X = /export/home/njh/perl5/perlbrew/perls/perl-5.33.4-64all/bin/perl5.33.4
    $UID/$EUID = 101 / 101
    $GID = 10 10
    $EGID = 10 10

Perl module toolchain versions installed:

    Module              Have    
    ------------------- --------
    CPAN                2.28    
    CPAN::Meta          2.150010
    Cwd                 3.79    
    ExtUtils::CBuilder  0.280235
    ExtUtils::Command   7.56    
    ExtUtils::Install   2.18    
    ExtUtils::MakeMaker 7.56    
    ExtUtils::Manifest  1.72    
    ExtUtils::ParseXS   3.41    
    File::Spec          3.79    
    JSON                4.02    
    JSON::PP            4.05    
    Module::Build       0.4231  
    Module::Signature   n/a     
    Parse::CPAN::Meta   2.150010
    Test::Harness       3.42    
    Test::More          1.302183
    YAML                n/a     
    YAML::Syck          n/a     
    version             0.9928  


--

Summary of my perl5 (revision 5 version 33 subversion 4) configuration:
   
  Platform:
    osname=solaris
    osvers=2.11
    archname=i86pc-solaris-64
    uname='sunos vultr1.bandsman.co.uk 5.11 illumos-7d1eae8c55 i86pc i386 i86pc '
    config_args='-de -Dprefix=/export/home/njh/perl5/perlbrew/perls/perl-5.33.4-64all -Dusedevel -Duse64bitall -Dusedevel -Accflags= -Aeval:scriptdir=/export/home/njh/perl5/perlbrew/perls/perl-5.33.4-64all/bin'
    hint=recommended
    useposix=true
    d_sigaction=define
    useithreads=undef
    usemultiplicity=undef
    use64bitint=define
    use64bitall=define
    uselongdouble=undef
    usemymalloc=n
    default_inc_excludes_dot=define
  Compiler:
    cc='/opt/SUNWspro/bin/cc'
    ccflags ='-m64 -I/usr/gnu/include -D_LARGEFILE_SOURCE -D_FILE_OFFSET_BITS=64 -DPERL_USE_SAFE_PUTENV'
    optimize='-O'
    cppflags='-m64 -I/usr/gnu/include'
    ccversion='Sun C 5.10 SunOS_i386 2009/06/03'
    gccversion=''
    gccosandvers=''
    intsize=4
    longsize=8
    ptrsize=8
    doublesize=8
    byteorder=12345678
    doublekind=3
    d_longlong=define
    longlongsize=8
    d_longdbl=define
    longdblsize=16
    longdblkind=3
    ivtype='long'
    ivsize=8
    nvtype='double'
    nvsize=8
    Off_t='off_t'
    lseeksize=8
    alignbytes=8
    prototype=define
  Linker and Libraries:
    ld='/opt/SUNWspro/bin/cc'
    ldflags =' -m64 -L/opt/sunstudio12.1/prod/lib/amd64 -L/lib/64 -L/usr/gnu/lib '
    libpth=/opt/sunstudio12.1/prod/lib/amd64 /lib/64 /usr/gnu/lib /usr/lib /usr/ccs/lib
    libs=-lpthread -lsocket -lnsl -lgdbm -ldb -ldl -lm -lc
    perllibs=-lpthread -lsocket -lnsl -ldl -lm -lc
    libc=/lib/libc.so
    so=so
    useshrplib=true
    libperl=libperl.so
    gnulibc_version=''
  Dynamic Linking:
    dlsrc=dl_dlopen.xs
    dlext=so
    d_dlsymun=undef
    ccdlflags='  -R /export/home/njh/perl5/perlbrew/perls/perl-5.33.4-64all/lib/5.33.4/i86pc-solaris-64/CORE'
    cccdlflags='-KPIC'
    lddlflags=' -G -m64 -L/opt/sunstudio12.1/prod/lib/amd64 -L/lib/64 -L/usr/gnu/lib'


Characteristics of this binary (from libperl): 
  Compile-time options:
    HAS_TIMES
    PERLIO_LAYERS
    PERL_COPY_ON_WRITE
    PERL_DONT_CREATE_GVSV
    PERL_MALLOC_WRAP
    PERL_OP_PARENT
    PERL_PRESERVE_IVUV
    PERL_USE_DEVEL
    PERL_USE_SAFE_PUTENV
    USE_64_BIT_ALL
    USE_64_BIT_INT
    USE_LARGE_FILES
    USE_LOCALE
    USE_LOCALE_COLLATE
    USE_LOCALE_CTYPE
    USE_LOCALE_NUMERIC
    USE_LOCALE_TIME
    USE_PERLIO
    USE_PERL_ATOF
  Locally applied patches:
    Devel::PatchPerl 1.52
  Built under solaris
  Compiled at Nov 21 2020 01:01:30
  %ENV:
    PERL5LIB=""
    PERL5OPT=""
    PERL5_CPANPLUS_IS_RUNNING="10323"
    PERL5_CPAN_IS_RUNNING="10323"
    PERLBREW_HOME="/export/home/njh/.perlbrew"
    PERLBREW_LIB=""
    PERLBREW_MANPATH="/export/home/njh/perl5/perlbrew/perls/perl-5.33.4-64all/man"
    PERLBREW_PATH="/export/home/njh/perl5/perlbrew/bin:/export/home/njh/perl5/perlbrew/perls/perl-5.33.4-64all/bin"
    PERLBREW_PERL="perl-5.33.4-64all"
    PERLBREW_ROOT="/export/home/njh/perl5/perlbrew"
    PERLBREW_SHELLRC_VERSION="0.88"
    PERLBREW_VERSION="0.88"
    PERL_LOCAL_LIB_ROOT=""
    PERL_MM_USE_DEFAULT="1"
    PERL_USE_UNSAFE_INC="1"
  @INC:
    /export/home/njh/perl5/perlbrew/perls/perl-5.33.4-64all/lib/site_perl/5.33.4/i86pc-solaris-64
    /export/home/njh/perl5/perlbrew/perls/perl-5.33.4-64all/lib/site_perl/5.33.4
    /export/home/njh/perl5/perlbrew/perls/perl-5.33.4-64all/lib/5.33.4/i86pc-solaris-64
    /export/home/njh/perl5/perlbrew/perls/perl-5.33.4-64all/lib/5.33.4
    .