Plack-Middleware-Greylist vv0.8.1 Perl 5 v5.38.2 x86_64-linux

Status
Pass
From
Dist
Plack-Middleware-Greylist vv0.8.1
Platform
Perl 5 v5.38.2 x86_64-linux
Date
2024-07-15 12:35:35
ID
bbf16f2c-42a6-11ef-a3bc-c58360119bcc
This distribution has been tested as part of the CPAN Testers
project, supporting the Perl programming language.  See
http://wiki.cpantesters.org/ for more information or email
questions to cpan-testers-discuss@perl.org


--
Dear RRWO,

This is a computer-generated report for Plack-Middleware-Greylist-v0.8.1
on perl 5.38.2, created by App::cpanminus::reporter 0.21 (1.7045).

Thank you for uploading your work to CPAN.  Congratulations!
All tests were successful.

Sections of this report:

    * Tester comments
    * Program output
    * Prerequisites
    * Environment and other context

------------------------------
TESTER COMMENTS
------------------------------

Additional comments from tester:

none provided

------------------------------
PROGRAM OUTPUT
------------------------------

Output from '':

Building and testing Plack-Middleware-Greylist-v0.8.1
cp lib/Plack/Middleware/Greylist.pm blib/lib/Plack/Middleware/Greylist.pm
Manifying 1 pod document
PERL_DL_NONLAZY=1 "/home/rr/perl5/perlbrew/perls/perl-5.38.2/bin/perl" "-MExtUtils::Command::MM" "-MTest::Harness" "-e" "undef *Test::Harness::Switches; test_harness(0, 'blib/lib', 'blib/arch')" t/*.t
# 
# Versions for all modules listed in MYMETA.json (including optional ones):
# 
# === Configure Requires ===
# 
#     Module              Want Have
#     ------------------- ---- ----
#     ExtUtils::MakeMaker  any 7.70
# 
# === Build Requires ===
# 
#     Module              Want Have
#     ------------------- ---- ----
#     ExtUtils::MakeMaker  any 7.70
# 
# === Test Requires ===
# 
#     Module                           Want     Have
#     -------------------------------- ---- --------
#     Cache::FastMmap                  1.52     1.57
#     File::Spec                        any     3.88
#     HTTP::Request::Common             any     6.46
#     IO::Scalar                        any    2.113
#     Module::Metadata                  any 1.000037
#     Path::Tiny                        any    0.146
#     Plack::Builder                    any    undef
#     Plack::Middleware::ContentLength  any    undef
#     Plack::Middleware::Head           any    undef
#     Plack::Middleware::ReverseProxy   any     0.16
#     Plack::Response                   any   1.0051
#     Plack::Test                       any    undef
#     Test2::Tools::Compare             any 0.000163
#     Test2::V0                         any 0.000163
#     Test::More                        any 1.302194
#     strict                            any     1.12
# 
# === Test Recommends ===
# 
#     Module         Want     Have
#     ---------- -------- --------
#     CPAN::Meta 2.120900 2.150010
# 
# === Runtime Requires ===
# 
#     Module                Want     Have
#     ----------------- -------- --------
#     HTTP::Status           any     6.46
#     List::Util            1.29     1.63
#     Module::Load           any     0.36
#     Net::IP::LPM           any     1.10
#     Plack::Middleware      any    undef
#     Ref::Util              any    0.204
#     Time::Seconds          any   1.3401
#     experimental           any    0.031
#     parent                 any    0.241
#     perl              5.020000 5.038002
#     warnings               any     1.65
# 
# === Runtime Recommends ===
# 
#     Module          Want  Have
#     --------------- ---- -----
#     Cache::FastMmap 1.52  1.57
#     Ref::Util::XS    any 0.117
# 
# === Other Modules ===
# 
#     Module   Have
#     ------ ------
#     Plack  1.0051
# 
t/00-report-prereqs.t ....... ok
t/01-greylist.t ............. ok
t/02-rate-codes.t ........... ok
t/03-override.t ............. ok
t/04-ip6.t .................. ok
t/05-callback.t ............. ok
t/author-changes.t .......... skipped: these tests are for testing by the author
t/author-critic.t ........... skipped: these tests are for testing by the author
t/author-eof.t .............. skipped: these tests are for testing by the author
t/author-eol.t .............. skipped: these tests are for testing by the author
t/author-minimum-version.t .. skipped: these tests are for testing by the author
t/author-no-tabs.t .......... skipped: these tests are for testing by the author
t/author-pod-coverage.t ..... skipped: these tests are for testing by the author
t/author-pod-linkcheck.t .... skipped: these tests are for testing by the author
t/author-pod-syntax.t ....... skipped: these tests are for testing by the author
t/author-portability.t ...... skipped: these tests are for testing by the author
t/author-vars.t ............. skipped: these tests are for testing by the author
t/release-dist-manifest.t ... skipped: these tests are for release candidate testing
t/release-fixme.t ........... skipped: these tests are for release candidate testing
t/release-kwalitee.t ........ skipped: these tests are for release candidate testing
t/release-trailing-space.t .. skipped: these tests are for release candidate testing
All tests successful.
Files=21, Tests=17,  2 wallclock secs ( 0.05 usr  0.02 sys +  1.05 cusr  0.16 csys =  1.28 CPU)
Result: PASS

------------------------------
PREREQUISITES
------------------------------

Prerequisite modules loaded:

runtime:

    Module              Need     Have    
    ------------------- -------- --------
    experimental        0        0.031   
    HTTP::Status        0        6.46    
    List::Util          1.29     1.63    
    Module::Load        0        0.36    
    Net::IP::LPM        0        1.10    
    parent              0        0.241   
    perl                5.020000 5.038002
    Plack::Middleware   0        0       
    Ref::Util           0        0.204   
    Time::Seconds       0        1.3401  
    warnings            0        1.65    

build:

    Module              Need     Have    
    ------------------- -------- --------
    ExtUtils::MakeMaker 0        7.70    

configure:

    Module              Need     Have    
    ------------------- -------- --------
    ExtUtils::MakeMaker 0        7.70    


------------------------------
ENVIRONMENT AND OTHER CONTEXT
------------------------------

Environment variables:

    LANG = en_GB.UTF-8
    LANGUAGE = en_GB:en
    PATH = /home/rr/perl5/perlbrew/bin:/home/rr/perl5/perlbrew/perls/perl-5.38.2/bin:/home/rr/bin:/usr/local/sbin:/usr/local/bin:/usr/sbin:/usr/bin:/sbin:/bin:/usr/games:/usr/local/games:/snap/bin
    PERLBREW_HOME = /home/rr/.perlbrew
    PERLBREW_MANPATH = /home/rr/perl5/perlbrew/perls/perl-5.38.2/man
    PERLBREW_PATH = /home/rr/perl5/perlbrew/bin:/home/rr/perl5/perlbrew/perls/perl-5.38.2/bin
    PERLBREW_PERL = perl-5.38.2
    PERLBREW_ROOT = /home/rr/perl5/perlbrew
    PERLBREW_SHELLRC_VERSION = 0.82
    PERLBREW_VERSION = 0.94
    PERL_CPANM_OPT = --from https://www.cpan.org --verify
    PERL_CPAN_MIRROR_TINY_BASE = /home/rr/perl5/perlbrew
    SHELL = /bin/bash
    TERM = xterm-256color

Perl special variables (and OS-specific diagnostics, for MSWin32):

    EGID = 1000 4 7 24 27 30 46 118 126 131 1000
    EUID = 1000
    EXECUTABLE_NAME = /home/rr/perl5/perlbrew/perls/perl-5.38.2/bin/perl
    GID = 1000 4 7 24 27 30 46 118 126 131 1000
    UID = 1000

Perl module toolchain versions installed:

    Module              Have    
    ------------------- --------
    CPAN                2.36    
    CPAN::Meta          2.150010
    Cwd                 3.89    
    ExtUtils::CBuilder  0.280238
    ExtUtils::Command   7.70    
    ExtUtils::Install   2.22    
    ExtUtils::MakeMaker 7.70    
    ExtUtils::Manifest  1.73    
    ExtUtils::ParseXS   3.51    
    File::Spec          3.88    
    JSON                n/a     
    JSON::PP            4.16    
    Module::Build       0.4234  
    Module::Signature   0.88    
    Parse::CPAN::Meta   2.150010
    Test::Harness       3.44    
    Test::More          1.302194
    YAML                n/a     
    YAML::Syck          n/a     
    version             0.9929  


--

Summary of my perl5 (revision 5 version 38 subversion 2) configuration:
   
  Platform:
    osname=linux
    osvers=5.15.0-97-generic
    archname=x86_64-linux
    uname='linux plasmo 5.15.0-97-generic #107-ubuntu smp wed feb 7 13:26:48 utc 2024 x86_64 x86_64 x86_64 gnulinux '
    config_args='-de -Dprefix=/home/rr/perl5/perlbrew/perls/perl-5.38.2 -Aeval:scriptdir=/home/rr/perl5/perlbrew/perls/perl-5.38.2/bin'
    hint=recommended
    useposix=true
    d_sigaction=define
    useithreads=undef
    usemultiplicity=undef
    use64bitint=define
    use64bitall=define
    uselongdouble=undef
    usemymalloc=n
    default_inc_excludes_dot=define
  Compiler:
    cc='cc'
    ccflags ='-fwrapv -fno-strict-aliasing -pipe -fstack-protector-strong -I/usr/local/include -D_LARGEFILE_SOURCE -D_FILE_OFFSET_BITS=64'
    optimize='-O2'
    cppflags='-fwrapv -fno-strict-aliasing -pipe -fstack-protector-strong -I/usr/local/include'
    ccversion=''
    gccversion='11.4.0'
    gccosandvers=''
    intsize=4
    longsize=8
    ptrsize=8
    doublesize=8
    byteorder=12345678
    doublekind=3
    d_longlong=define
    longlongsize=8
    d_longdbl=define
    longdblsize=16
    longdblkind=3
    ivtype='long'
    ivsize=8
    nvtype='double'
    nvsize=8
    Off_t='off_t'
    lseeksize=8
    alignbytes=8
    prototype=define
  Linker and Libraries:
    ld='cc'
    ldflags =' -fstack-protector-strong -L/usr/local/lib'
    libpth=/usr/local/lib /usr/lib/x86_64-linux-gnu /usr/lib /usr/lib64
    libs=-lpthread -ldl -lm -lcrypt -lutil -lc
    perllibs=-lpthread -ldl -lm -lcrypt -lutil -lc
    libc=/lib/x86_64-linux-gnu/libc.so.6
    so=so
    useshrplib=false
    libperl=libperl.a
    gnulibc_version='2.35'
  Dynamic Linking:
    dlsrc=dl_dlopen.xs
    dlext=so
    d_dlsymun=undef
    ccdlflags='-Wl,-E'
    cccdlflags='-fPIC'
    lddlflags='-shared -O2 -L/usr/local/lib -fstack-protector-strong'


Characteristics of this binary (from libperl): 
  Compile-time options:
    HAS_LONG_DOUBLE
    HAS_STRTOLD
    HAS_TIMES
    PERLIO_LAYERS
    PERL_COPY_ON_WRITE
    PERL_DONT_CREATE_GVSV
    PERL_HASH_FUNC_SIPHASH13
    PERL_HASH_USE_SBOX32
    PERL_MALLOC_WRAP
    PERL_OP_PARENT
    PERL_PRESERVE_IVUV
    PERL_USE_SAFE_PUTENV
    USE_64_BIT_ALL
    USE_64_BIT_INT
    USE_LARGE_FILES
    USE_LOCALE
    USE_LOCALE_COLLATE
    USE_LOCALE_CTYPE
    USE_LOCALE_NUMERIC
    USE_LOCALE_TIME
    USE_PERLIO
    USE_PERL_ATOF
  Built under linux
  Compiled at Mar 18 2024 16:14:39
  %ENV:
    PERLBREW_HOME="/home/rr/.perlbrew"
    PERLBREW_MANPATH="/home/rr/perl5/perlbrew/perls/perl-5.38.2/man"
    PERLBREW_PATH="/home/rr/perl5/perlbrew/bin:/home/rr/perl5/perlbrew/perls/perl-5.38.2/bin"
    PERLBREW_PERL="perl-5.38.2"
    PERLBREW_ROOT="/home/rr/perl5/perlbrew"
    PERLBREW_SHELLRC_VERSION="0.82"
    PERLBREW_VERSION="0.94"
    PERL_CPANM_OPT="--from https://www.cpan.org --verify"
    PERL_CPAN_MIRROR_TINY_BASE="/home/rr/perl5/perlbrew"
  @INC:
    /home/rr/perl5/perlbrew/perls/perl-5.38.2/lib/site_perl/5.38.2/x86_64-linux
    /home/rr/perl5/perlbrew/perls/perl-5.38.2/lib/site_perl/5.38.2
    /home/rr/perl5/perlbrew/perls/perl-5.38.2/lib/5.38.2/x86_64-linux
    /home/rr/perl5/perlbrew/perls/perl-5.38.2/lib/5.38.2