Report for Test-Proto-0.027

Back
From: metabase:user:314402c4-2aae-11df-837a-5e0a49663a4f
Subject: PASS Test-Proto-0.027 v5.27.1 GNU/Linux
Date: 2017-06-26T23:54:04Z

This distribution has been tested as part of the CPAN Testers
project, supporting the Perl programming language.  See
http://wiki.cpantesters.org/ for more information or email
questions to cpan-testers-discuss@perl.org


--
Dear Daniel Perrett,

This is a computer-generated report for Test-Proto-0.027
on perl 5.27.1, created by CPAN-Reporter-1.2018.

Thank you for uploading your work to CPAN.  Congratulations!
All tests were successful.

Sections of this report:

    * Tester comments
    * Program output
    * Prerequisites
    * Environment and other context

------------------------------
TESTER COMMENTS
------------------------------

Additional comments from tester:

none provided

------------------------------
PROGRAM OUTPUT
------------------------------

Output from '/usr/bin/make test':

PERL_DL_NONLAZY=1 "/bbbike/perl-5.27.1/bin/perl5.27.1" "-MExtUtils::Command::MM" "-MTest::Harness" "-e" "undef *Test::Harness::Switches; test_harness(0, 'blib/lib', 'blib/arch')" t/*.t
# Testing Test::Proto 0.027, Perl 5.027001, /bbbike/perl-5.27.1/bin/perl5.27.1
t/00-load.t ........................... ok
t/Extras-DPath.t ...................... ok
t/kwalitee.t .......................... skipped: these tests are for release candidate testing
t/manifest.t .......................... skipped: Author tests not required for installation
t/pod-coverage.t ...................... skipped: Author tests not required for installation
t/pod.t ............................... skipped: Author tests not required for installation
t/Test-Proto-ArrayRef.t ............... ok
Use of uninitialized value in string ne at (eval 152) line 1.
Use of uninitialized value in string eq at (eval 154) line 1.
Use of uninitialized value in string ne at (eval 164) line 1.
t/Test-Proto-Base.t ................... ok
t/Test-Proto-CodeRef.t ................ ok
t/Test-Proto-Common.t ................. ok
t/Test-Proto-Compare.t ................ ok
t/Test-Proto-Formatter-TestBuilder.t .. ok
t/Test-Proto-Formatter.t .............. ok
Use of uninitialized value in string eq at (eval 122) line 1.
Use of uninitialized value in string eq at (eval 228) line 1.
t/Test-Proto-HashRef.t ................ ok
t/Test-Proto-Object.t ................. ok
t/Test-Proto-Role-Tagged.t ............ ok
t/Test-Proto-TestCase.t ............... ok
# Warnings follow, deliberately:
Tried to add an event to a TestRunner which is already complete at /tmpfs/.cpan-build-cpansand/2017062621/Test-Proto-0.027-0/blib/lib/Test/Proto/TestRunner.pm line 213.
Tried to complete something that was already complete (a PASS). (Tried with value=> 0, message=>[undefined]) at /tmpfs/.cpan-build-cpansand/2017062621/Test-Proto-0.027-0/blib/lib/Test/Proto/TestRunner.pm line 172.
Tried to add an event to a TestRunner which is already complete at /tmpfs/.cpan-build-cpansand/2017062621/Test-Proto-0.027-0/blib/lib/Test/Proto/TestRunner.pm line 213.
t/Test-Proto-TestRunner.t ............. ok
Use of uninitialized value in string ne at (eval 164) line 1.
Use of uninitialized value in string ne at (eval 166) line 1.
t/Test-Proto.t ........................ ok
t/version.t ........................... ok
All tests successful.

Test Summary Report
-------------------
t/Test-Proto-Base.t                 (Wstat: 0 Tests: 250 Failed: 0)
  TODO passed:   152-156, 158-159
Files=20, Tests=843,  2 wallclock secs ( 0.10 usr  0.08 sys +  1.98 cusr  0.34 csys =  2.50 CPU)
Result: PASS

------------------------------
PREREQUISITES
------------------------------

Prerequisite modules loaded:

requires:

    Module              Need   Have    
    ------------------- ------ --------
    Data::Dumper        0      2.161   
    Moo                 0      2.003002
    Object::ID          v0.0.5 v0.1.2  
    Scalar::Util        1.14   1.47    
    Test::Deep::NoTest  0      0       
    Test::More          0      1.302085

build_requires:

    Module              Need   Have    
    ------------------- ------ --------
    ExtUtils::MakeMaker 0      7.30    

configure_requires:

    Module              Need   Have    
    ------------------- ------ --------
    ExtUtils::MakeMaker 0      7.30    


------------------------------
ENVIRONMENT AND OTHER CONTEXT
------------------------------

Environment variables:

    LANG = C
    LC_ALL = de_DE.UTF-8
    PATH = /usr/local/bin:/usr/bin:/bin:/usr/local/sbin:/usr/sbin:/sbin:/home/cpansand/bin/linux-gnu:/home/cpansand/bin/sh:/home/cpansand/bin:/usr/games:/home/cpansand/devel:/home/eserte/src/srezic-misc/scripts
    PERL5LIB = 
    PERL5OPT = 
    PERL5_CPANPLUS_IS_RUNNING = 28214
    PERL5_CPAN_IS_RUNNING = 28214
    PERL5_CPAN_IS_RUNNING_IN_RECURSION = 7288,28214
    PERLDOC = -MPod::Perldoc::ToTextOverstrike
    PERL_BATCH = yes
    PERL_CANARY_STABILITY_NOPROMPT = 1
    PERL_CPAN_REPORTER_CONFIG = /var/tmp/cpansmoker-1023/2017062621/cpanreporter_002_config.ini
    PERL_EXTUTILS_AUTOINSTALL = --defaultdeps
    PERL_PARALLEL_SMOKER = yes
    PERL_USE_UNSAFE_INC = 1
    SHELL = /bin/zsh
    TERM = screen
    TMPDIR = /var/tmp/cpansmoker-1023/2017062621

Perl special variables (and OS-specific diagnostics, for MSWin32):

    $^X = /bbbike/perl-5.27.1/bin/perl5.27.1
    $UID/$EUID = 1023 / 1023
    $GID = 1023 1023
    $EGID = 1023 1023

Perl module toolchain versions installed:

    Module              Have    
    ------------------- --------
    CPAN                2.16    
    CPAN::Meta          2.150010
    Cwd                 3.62    
    ExtUtils::CBuilder  0.280224
    ExtUtils::Command   7.30    
    ExtUtils::Install   2.14    
    ExtUtils::MakeMaker 7.30    
    ExtUtils::Manifest  1.70    
    ExtUtils::ParseXS   3.30    
    File::Spec          3.62    
    JSON                2.94    
    JSON::PP            2.94    
    Module::Build       0.4224  
    Module::Signature   0.81    
    Parse::CPAN::Meta   2.150010
    Test::Harness       3.39    
    Test::More          1.302085
    YAML                1.23    
    YAML::Syck          1.30    
    version             0.9918  


--

Summary of my perl5 (revision 5 version 27 subversion 1) configuration:
   
  Platform:
    osname=linux
    osvers=3.16.0-4-amd64
    archname=x86_64-linux
    uname='linux eserte 3.16.0-4-amd64 #1 smp debian 3.16.43-2 (2017-04-30) x86_64 gnulinux '
    config_args='-ds -e -Dprefix=/opt/perl-5.27.1 -Dusedevel -Dusemallocwrap=no -Dcf_email=srezic@cpan.org'
    hint=recommended
    useposix=true
    d_sigaction=define
    useithreads=undef
    usemultiplicity=undef
    use64bitint=define
    use64bitall=define
    uselongdouble=undef
    usemymalloc=n
    default_inc_excludes_dot=define
    bincompat5005=undef
  Compiler:
    cc='cc'
    ccflags ='-fwrapv -fno-strict-aliasing -pipe -fstack-protector-strong -I/usr/local/include -D_LARGEFILE_SOURCE -D_FILE_OFFSET_BITS=64 -D_FORTIFY_SOURCE=2'
    optimize='-O2'
    cppflags='-fwrapv -fno-strict-aliasing -pipe -fstack-protector-strong -I/usr/local/include'
    ccversion=''
    gccversion='4.9.2'
    gccosandvers=''
    intsize=4
    longsize=8
    ptrsize=8
    doublesize=8
    byteorder=12345678
    doublekind=3
    d_longlong=define
    longlongsize=8
    d_longdbl=define
    longdblsize=16
    longdblkind=3
    ivtype='long'
    ivsize=8
    nvtype='double'
    nvsize=8
    Off_t='off_t'
    lseeksize=8
    alignbytes=8
    prototype=define
  Linker and Libraries:
    ld='cc'
    ldflags =' -fstack-protector-strong -L/usr/local/lib'
    libpth=/usr/local/lib /usr/lib/gcc/x86_64-linux-gnu/4.9/include-fixed /usr/include/x86_64-linux-gnu /usr/lib /lib/x86_64-linux-gnu /lib/../lib /usr/lib/x86_64-linux-gnu /usr/lib/../lib /lib
    libs=-lpthread -lnsl -lgdbm -ldb -ldl -lm -lcrypt -lutil -lc -lgdbm_compat
    perllibs=-lpthread -lnsl -ldl -lm -lcrypt -lutil -lc
    libc=libc-2.19.so
    so=so
    useshrplib=false
    libperl=libperl.a
    gnulibc_version='2.19'
  Dynamic Linking:
    dlsrc=dl_dlopen.xs
    dlext=so
    d_dlsymun=undef
    ccdlflags='-Wl,-E'
    cccdlflags='-fPIC'
    lddlflags='-shared -O2 -L/usr/local/lib -fstack-protector-strong'


Characteristics of this binary (from libperl): 
  Compile-time options:
    HAS_TIMES
    PERLIO_LAYERS
    PERL_COPY_ON_WRITE
    PERL_DONT_CREATE_GVSV
    PERL_OP_PARENT
    PERL_PRESERVE_IVUV
    PERL_USE_DEVEL
    USE_64_BIT_ALL
    USE_64_BIT_INT
    USE_LARGE_FILES
    USE_LOCALE
    USE_LOCALE_COLLATE
    USE_LOCALE_CTYPE
    USE_LOCALE_NUMERIC
    USE_LOCALE_TIME
    USE_PERLIO
    USE_PERL_ATOF
  Built under linux
  Compiled at Jun 20 2017 19:53:24
  %ENV:
    PERL5LIB=""
    PERL5OPT=""
    PERL5_CPANPLUS_IS_RUNNING="28214"
    PERL5_CPAN_IS_RUNNING="28214"
    PERL5_CPAN_IS_RUNNING_IN_RECURSION="7288,28214"
    PERLDOC="-MPod::Perldoc::ToTextOverstrike"
    PERL_BATCH="yes"
    PERL_CANARY_STABILITY_NOPROMPT="1"
    PERL_CPAN_REPORTER_CONFIG="/var/tmp/cpansmoker-1023/2017062621/cpanreporter_002_config.ini"
    PERL_EXTUTILS_AUTOINSTALL="--defaultdeps"
    PERL_PARALLEL_SMOKER="yes"
    PERL_USE_UNSAFE_INC="1"
  @INC:
    /opt/perl-5.27.1/lib/site_perl/5.27.1/x86_64-linux
    /opt/perl-5.27.1/lib/site_perl/5.27.1
    /opt/perl-5.27.1/lib/5.27.1/x86_64-linux
    /opt/perl-5.27.1/lib/5.27.1
    .