Report for File-Dropbox-0.5

Back
From: metabase:user:5cdeb204-f309-11e2-bd07-4d68c2968487
Subject: PASS File-Dropbox-0.5 v5.18.1 GNU/Linux
Date: 2013-08-14T21:01:48Z

This distribution has been tested as part of the CPAN Testers
project, supporting the Perl programming language.  See
http://wiki.cpantesters.org/ for more information or email
questions to cpan-testers-discuss@perl.org


--
Dear Alexander Nazarov,

This is a computer-generated report for File-Dropbox-0.5
on perl 5.18.1, created by CPAN-Reporter-1.2010.

Thank you for uploading your work to CPAN.  Congratulations!
All tests were successful.

Sections of this report:

    * Tester comments
    * Program output
    * Prerequisites
    * Environment and other context

------------------------------
TESTER COMMENTS
------------------------------

Additional comments from tester:

this report is from an automated smoke testing program
and was not reviewed by a human for accuracy

------------------------------
PROGRAM OUTPUT
------------------------------

Output from './Build test':

given is experimental at /home/fperrad/.cpan/build/File-Dropbox-0.5-m6VSzF/blib/lib/File/Dropbox.pm line 93.
when is experimental at /home/fperrad/.cpan/build/File-Dropbox-0.5-m6VSzF/blib/lib/File/Dropbox.pm line 94.
when is experimental at /home/fperrad/.cpan/build/File-Dropbox-0.5-m6VSzF/blib/lib/File/Dropbox.pm line 96.
when is experimental at /home/fperrad/.cpan/build/File-Dropbox-0.5-m6VSzF/blib/lib/File/Dropbox.pm line 101.
when is experimental at /home/fperrad/.cpan/build/File-Dropbox-0.5-m6VSzF/blib/lib/File/Dropbox.pm line 108.
given is experimental at /home/fperrad/.cpan/build/File-Dropbox-0.5-m6VSzF/blib/lib/File/Dropbox.pm line 216.
when is experimental at /home/fperrad/.cpan/build/File-Dropbox-0.5-m6VSzF/blib/lib/File/Dropbox.pm line 217.
when is experimental at /home/fperrad/.cpan/build/File-Dropbox-0.5-m6VSzF/blib/lib/File/Dropbox.pm line 221.
when is experimental at /home/fperrad/.cpan/build/File-Dropbox-0.5-m6VSzF/blib/lib/File/Dropbox.pm line 225.
given is experimental at /home/fperrad/.cpan/build/File-Dropbox-0.5-m6VSzF/blib/lib/File/Dropbox.pm line 307.
when is experimental at /home/fperrad/.cpan/build/File-Dropbox-0.5-m6VSzF/blib/lib/File/Dropbox.pm line 308.
when is experimental at /home/fperrad/.cpan/build/File-Dropbox-0.5-m6VSzF/blib/lib/File/Dropbox.pm line 310.
when is experimental at /home/fperrad/.cpan/build/File-Dropbox-0.5-m6VSzF/blib/lib/File/Dropbox.pm line 314.
given is experimental at /home/fperrad/.cpan/build/File-Dropbox-0.5-m6VSzF/blib/lib/File/Dropbox.pm line 409.
when is experimental at /home/fperrad/.cpan/build/File-Dropbox-0.5-m6VSzF/blib/lib/File/Dropbox.pm line 410.
when is experimental at /home/fperrad/.cpan/build/File-Dropbox-0.5-m6VSzF/blib/lib/File/Dropbox.pm line 415.
when is experimental at /home/fperrad/.cpan/build/File-Dropbox-0.5-m6VSzF/blib/lib/File/Dropbox.pm line 420.
when is experimental at /home/fperrad/.cpan/build/File-Dropbox-0.5-m6VSzF/blib/lib/File/Dropbox.pm line 427.
when is experimental at /home/fperrad/.cpan/build/File-Dropbox-0.5-m6VSzF/blib/lib/File/Dropbox.pm line 433.
when is experimental at /home/fperrad/.cpan/build/File-Dropbox-0.5-m6VSzF/blib/lib/File/Dropbox.pm line 438.
given is experimental at /home/fperrad/.cpan/build/File-Dropbox-0.5-m6VSzF/blib/lib/File/Dropbox.pm line 471.
when is experimental at /home/fperrad/.cpan/build/File-Dropbox-0.5-m6VSzF/blib/lib/File/Dropbox.pm line 472.
when is experimental at /home/fperrad/.cpan/build/File-Dropbox-0.5-m6VSzF/blib/lib/File/Dropbox.pm line 477.
when is experimental at /home/fperrad/.cpan/build/File-Dropbox-0.5-m6VSzF/blib/lib/File/Dropbox.pm line 482.
when is experimental at /home/fperrad/.cpan/build/File-Dropbox-0.5-m6VSzF/blib/lib/File/Dropbox.pm line 487.
when is experimental at /home/fperrad/.cpan/build/File-Dropbox-0.5-m6VSzF/blib/lib/File/Dropbox.pm line 494.
when is experimental at /home/fperrad/.cpan/build/File-Dropbox-0.5-m6VSzF/blib/lib/File/Dropbox.pm line 500.
when is experimental at /home/fperrad/.cpan/build/File-Dropbox-0.5-m6VSzF/blib/lib/File/Dropbox.pm line 504.
given is experimental at /home/fperrad/.cpan/build/File-Dropbox-0.5-m6VSzF/blib/lib/File/Dropbox.pm line 561.
when is experimental at /home/fperrad/.cpan/build/File-Dropbox-0.5-m6VSzF/blib/lib/File/Dropbox.pm line 562.
when is experimental at /home/fperrad/.cpan/build/File-Dropbox-0.5-m6VSzF/blib/lib/File/Dropbox.pm line 567.
when is experimental at /home/fperrad/.cpan/build/File-Dropbox-0.5-m6VSzF/blib/lib/File/Dropbox.pm line 572.
when is experimental at /home/fperrad/.cpan/build/File-Dropbox-0.5-m6VSzF/blib/lib/File/Dropbox.pm line 579.
when is experimental at /home/fperrad/.cpan/build/File-Dropbox-0.5-m6VSzF/blib/lib/File/Dropbox.pm line 585.
when is experimental at /home/fperrad/.cpan/build/File-Dropbox-0.5-m6VSzF/blib/lib/File/Dropbox.pm line 590.
t/01-basic.t ..... ok
given is experimental at /home/fperrad/.cpan/build/File-Dropbox-0.5-m6VSzF/blib/lib/File/Dropbox.pm line 93.
when is experimental at /home/fperrad/.cpan/build/File-Dropbox-0.5-m6VSzF/blib/lib/File/Dropbox.pm line 94.
when is experimental at /home/fperrad/.cpan/build/File-Dropbox-0.5-m6VSzF/blib/lib/File/Dropbox.pm line 96.
when is experimental at /home/fperrad/.cpan/build/File-Dropbox-0.5-m6VSzF/blib/lib/File/Dropbox.pm line 101.
when is experimental at /home/fperrad/.cpan/build/File-Dropbox-0.5-m6VSzF/blib/lib/File/Dropbox.pm line 108.
given is experimental at /home/fperrad/.cpan/build/File-Dropbox-0.5-m6VSzF/blib/lib/File/Dropbox.pm line 216.
when is experimental at /home/fperrad/.cpan/build/File-Dropbox-0.5-m6VSzF/blib/lib/File/Dropbox.pm line 217.
when is experimental at /home/fperrad/.cpan/build/File-Dropbox-0.5-m6VSzF/blib/lib/File/Dropbox.pm line 221.
when is experimental at /home/fperrad/.cpan/build/File-Dropbox-0.5-m6VSzF/blib/lib/File/Dropbox.pm line 225.
given is experimental at /home/fperrad/.cpan/build/File-Dropbox-0.5-m6VSzF/blib/lib/File/Dropbox.pm line 307.
when is experimental at /home/fperrad/.cpan/build/File-Dropbox-0.5-m6VSzF/blib/lib/File/Dropbox.pm line 308.
when is experimental at /home/fperrad/.cpan/build/File-Dropbox-0.5-m6VSzF/blib/lib/File/Dropbox.pm line 310.
when is experimental at /home/fperrad/.cpan/build/File-Dropbox-0.5-m6VSzF/blib/lib/File/Dropbox.pm line 314.
given is experimental at /home/fperrad/.cpan/build/File-Dropbox-0.5-m6VSzF/blib/lib/File/Dropbox.pm line 409.
when is experimental at /home/fperrad/.cpan/build/File-Dropbox-0.5-m6VSzF/blib/lib/File/Dropbox.pm line 410.
when is experimental at /home/fperrad/.cpan/build/File-Dropbox-0.5-m6VSzF/blib/lib/File/Dropbox.pm line 415.
when is experimental at /home/fperrad/.cpan/build/File-Dropbox-0.5-m6VSzF/blib/lib/File/Dropbox.pm line 420.
when is experimental at /home/fperrad/.cpan/build/File-Dropbox-0.5-m6VSzF/blib/lib/File/Dropbox.pm line 427.
when is experimental at /home/fperrad/.cpan/build/File-Dropbox-0.5-m6VSzF/blib/lib/File/Dropbox.pm line 433.
when is experimental at /home/fperrad/.cpan/build/File-Dropbox-0.5-m6VSzF/blib/lib/File/Dropbox.pm line 438.
given is experimental at /home/fperrad/.cpan/build/File-Dropbox-0.5-m6VSzF/blib/lib/File/Dropbox.pm line 471.
when is experimental at /home/fperrad/.cpan/build/File-Dropbox-0.5-m6VSzF/blib/lib/File/Dropbox.pm line 472.
when is experimental at /home/fperrad/.cpan/build/File-Dropbox-0.5-m6VSzF/blib/lib/File/Dropbox.pm line 477.
when is experimental at /home/fperrad/.cpan/build/File-Dropbox-0.5-m6VSzF/blib/lib/File/Dropbox.pm line 482.
when is experimental at /home/fperrad/.cpan/build/File-Dropbox-0.5-m6VSzF/blib/lib/File/Dropbox.pm line 487.
when is experimental at /home/fperrad/.cpan/build/File-Dropbox-0.5-m6VSzF/blib/lib/File/Dropbox.pm line 494.
when is experimental at /home/fperrad/.cpan/build/File-Dropbox-0.5-m6VSzF/blib/lib/File/Dropbox.pm line 500.
when is experimental at /home/fperrad/.cpan/build/File-Dropbox-0.5-m6VSzF/blib/lib/File/Dropbox.pm line 504.
given is experimental at /home/fperrad/.cpan/build/File-Dropbox-0.5-m6VSzF/blib/lib/File/Dropbox.pm line 561.
when is experimental at /home/fperrad/.cpan/build/File-Dropbox-0.5-m6VSzF/blib/lib/File/Dropbox.pm line 562.
when is experimental at /home/fperrad/.cpan/build/File-Dropbox-0.5-m6VSzF/blib/lib/File/Dropbox.pm line 567.
when is experimental at /home/fperrad/.cpan/build/File-Dropbox-0.5-m6VSzF/blib/lib/File/Dropbox.pm line 572.
when is experimental at /home/fperrad/.cpan/build/File-Dropbox-0.5-m6VSzF/blib/lib/File/Dropbox.pm line 579.
when is experimental at /home/fperrad/.cpan/build/File-Dropbox-0.5-m6VSzF/blib/lib/File/Dropbox.pm line 585.
when is experimental at /home/fperrad/.cpan/build/File-Dropbox-0.5-m6VSzF/blib/lib/File/Dropbox.pm line 590.
t/02-open.t ...... ok
given is experimental at /home/fperrad/.cpan/build/File-Dropbox-0.5-m6VSzF/blib/lib/File/Dropbox.pm line 93.
when is experimental at /home/fperrad/.cpan/build/File-Dropbox-0.5-m6VSzF/blib/lib/File/Dropbox.pm line 94.
when is experimental at /home/fperrad/.cpan/build/File-Dropbox-0.5-m6VSzF/blib/lib/File/Dropbox.pm line 96.
when is experimental at /home/fperrad/.cpan/build/File-Dropbox-0.5-m6VSzF/blib/lib/File/Dropbox.pm line 101.
when is experimental at /home/fperrad/.cpan/build/File-Dropbox-0.5-m6VSzF/blib/lib/File/Dropbox.pm line 108.
given is experimental at /home/fperrad/.cpan/build/File-Dropbox-0.5-m6VSzF/blib/lib/File/Dropbox.pm line 216.
when is experimental at /home/fperrad/.cpan/build/File-Dropbox-0.5-m6VSzF/blib/lib/File/Dropbox.pm line 217.
when is experimental at /home/fperrad/.cpan/build/File-Dropbox-0.5-m6VSzF/blib/lib/File/Dropbox.pm line 221.
when is experimental at /home/fperrad/.cpan/build/File-Dropbox-0.5-m6VSzF/blib/lib/File/Dropbox.pm line 225.
given is experimental at /home/fperrad/.cpan/build/File-Dropbox-0.5-m6VSzF/blib/lib/File/Dropbox.pm line 307.
when is experimental at /home/fperrad/.cpan/build/File-Dropbox-0.5-m6VSzF/blib/lib/File/Dropbox.pm line 308.
when is experimental at /home/fperrad/.cpan/build/File-Dropbox-0.5-m6VSzF/blib/lib/File/Dropbox.pm line 310.
when is experimental at /home/fperrad/.cpan/build/File-Dropbox-0.5-m6VSzF/blib/lib/File/Dropbox.pm line 314.
given is experimental at /home/fperrad/.cpan/build/File-Dropbox-0.5-m6VSzF/blib/lib/File/Dropbox.pm line 409.
when is experimental at /home/fperrad/.cpan/build/File-Dropbox-0.5-m6VSzF/blib/lib/File/Dropbox.pm line 410.
when is experimental at /home/fperrad/.cpan/build/File-Dropbox-0.5-m6VSzF/blib/lib/File/Dropbox.pm line 415.
when is experimental at /home/fperrad/.cpan/build/File-Dropbox-0.5-m6VSzF/blib/lib/File/Dropbox.pm line 420.
when is experimental at /home/fperrad/.cpan/build/File-Dropbox-0.5-m6VSzF/blib/lib/File/Dropbox.pm line 427.
when is experimental at /home/fperrad/.cpan/build/File-Dropbox-0.5-m6VSzF/blib/lib/File/Dropbox.pm line 433.
when is experimental at /home/fperrad/.cpan/build/File-Dropbox-0.5-m6VSzF/blib/lib/File/Dropbox.pm line 438.
given is experimental at /home/fperrad/.cpan/build/File-Dropbox-0.5-m6VSzF/blib/lib/File/Dropbox.pm line 471.
when is experimental at /home/fperrad/.cpan/build/File-Dropbox-0.5-m6VSzF/blib/lib/File/Dropbox.pm line 472.
when is experimental at /home/fperrad/.cpan/build/File-Dropbox-0.5-m6VSzF/blib/lib/File/Dropbox.pm line 477.
when is experimental at /home/fperrad/.cpan/build/File-Dropbox-0.5-m6VSzF/blib/lib/File/Dropbox.pm line 482.
when is experimental at /home/fperrad/.cpan/build/File-Dropbox-0.5-m6VSzF/blib/lib/File/Dropbox.pm line 487.
when is experimental at /home/fperrad/.cpan/build/File-Dropbox-0.5-m6VSzF/blib/lib/File/Dropbox.pm line 494.
when is experimental at /home/fperrad/.cpan/build/File-Dropbox-0.5-m6VSzF/blib/lib/File/Dropbox.pm line 500.
when is experimental at /home/fperrad/.cpan/build/File-Dropbox-0.5-m6VSzF/blib/lib/File/Dropbox.pm line 504.
given is experimental at /home/fperrad/.cpan/build/File-Dropbox-0.5-m6VSzF/blib/lib/File/Dropbox.pm line 561.
when is experimental at /home/fperrad/.cpan/build/File-Dropbox-0.5-m6VSzF/blib/lib/File/Dropbox.pm line 562.
when is experimental at /home/fperrad/.cpan/build/File-Dropbox-0.5-m6VSzF/blib/lib/File/Dropbox.pm line 567.
when is experimental at /home/fperrad/.cpan/build/File-Dropbox-0.5-m6VSzF/blib/lib/File/Dropbox.pm line 572.
when is experimental at /home/fperrad/.cpan/build/File-Dropbox-0.5-m6VSzF/blib/lib/File/Dropbox.pm line 579.
when is experimental at /home/fperrad/.cpan/build/File-Dropbox-0.5-m6VSzF/blib/lib/File/Dropbox.pm line 585.
when is experimental at /home/fperrad/.cpan/build/File-Dropbox-0.5-m6VSzF/blib/lib/File/Dropbox.pm line 590.
t/03-write.t ..... ok
given is experimental at /home/fperrad/.cpan/build/File-Dropbox-0.5-m6VSzF/blib/lib/File/Dropbox.pm line 93.
when is experimental at /home/fperrad/.cpan/build/File-Dropbox-0.5-m6VSzF/blib/lib/File/Dropbox.pm line 94.
when is experimental at /home/fperrad/.cpan/build/File-Dropbox-0.5-m6VSzF/blib/lib/File/Dropbox.pm line 96.
when is experimental at /home/fperrad/.cpan/build/File-Dropbox-0.5-m6VSzF/blib/lib/File/Dropbox.pm line 101.
when is experimental at /home/fperrad/.cpan/build/File-Dropbox-0.5-m6VSzF/blib/lib/File/Dropbox.pm line 108.
given is experimental at /home/fperrad/.cpan/build/File-Dropbox-0.5-m6VSzF/blib/lib/File/Dropbox.pm line 216.
when is experimental at /home/fperrad/.cpan/build/File-Dropbox-0.5-m6VSzF/blib/lib/File/Dropbox.pm line 217.
when is experimental at /home/fperrad/.cpan/build/File-Dropbox-0.5-m6VSzF/blib/lib/File/Dropbox.pm line 221.
when is experimental at /home/fperrad/.cpan/build/File-Dropbox-0.5-m6VSzF/blib/lib/File/Dropbox.pm line 225.
given is experimental at /home/fperrad/.cpan/build/File-Dropbox-0.5-m6VSzF/blib/lib/File/Dropbox.pm line 307.
when is experimental at /home/fperrad/.cpan/build/File-Dropbox-0.5-m6VSzF/blib/lib/File/Dropbox.pm line 308.
when is experimental at /home/fperrad/.cpan/build/File-Dropbox-0.5-m6VSzF/blib/lib/File/Dropbox.pm line 310.
when is experimental at /home/fperrad/.cpan/build/File-Dropbox-0.5-m6VSzF/blib/lib/File/Dropbox.pm line 314.
given is experimental at /home/fperrad/.cpan/build/File-Dropbox-0.5-m6VSzF/blib/lib/File/Dropbox.pm line 409.
when is experimental at /home/fperrad/.cpan/build/File-Dropbox-0.5-m6VSzF/blib/lib/File/Dropbox.pm line 410.
when is experimental at /home/fperrad/.cpan/build/File-Dropbox-0.5-m6VSzF/blib/lib/File/Dropbox.pm line 415.
when is experimental at /home/fperrad/.cpan/build/File-Dropbox-0.5-m6VSzF/blib/lib/File/Dropbox.pm line 420.
when is experimental at /home/fperrad/.cpan/build/File-Dropbox-0.5-m6VSzF/blib/lib/File/Dropbox.pm line 427.
when is experimental at /home/fperrad/.cpan/build/File-Dropbox-0.5-m6VSzF/blib/lib/File/Dropbox.pm line 433.
when is experimental at /home/fperrad/.cpan/build/File-Dropbox-0.5-m6VSzF/blib/lib/File/Dropbox.pm line 438.
given is experimental at /home/fperrad/.cpan/build/File-Dropbox-0.5-m6VSzF/blib/lib/File/Dropbox.pm line 471.
when is experimental at /home/fperrad/.cpan/build/File-Dropbox-0.5-m6VSzF/blib/lib/File/Dropbox.pm line 472.
when is experimental at /home/fperrad/.cpan/build/File-Dropbox-0.5-m6VSzF/blib/lib/File/Dropbox.pm line 477.
when is experimental at /home/fperrad/.cpan/build/File-Dropbox-0.5-m6VSzF/blib/lib/File/Dropbox.pm line 482.
when is experimental at /home/fperrad/.cpan/build/File-Dropbox-0.5-m6VSzF/blib/lib/File/Dropbox.pm line 487.
when is experimental at /home/fperrad/.cpan/build/File-Dropbox-0.5-m6VSzF/blib/lib/File/Dropbox.pm line 494.
when is experimental at /home/fperrad/.cpan/build/File-Dropbox-0.5-m6VSzF/blib/lib/File/Dropbox.pm line 500.
when is experimental at /home/fperrad/.cpan/build/File-Dropbox-0.5-m6VSzF/blib/lib/File/Dropbox.pm line 504.
given is experimental at /home/fperrad/.cpan/build/File-Dropbox-0.5-m6VSzF/blib/lib/File/Dropbox.pm line 561.
when is experimental at /home/fperrad/.cpan/build/File-Dropbox-0.5-m6VSzF/blib/lib/File/Dropbox.pm line 562.
when is experimental at /home/fperrad/.cpan/build/File-Dropbox-0.5-m6VSzF/blib/lib/File/Dropbox.pm line 567.
when is experimental at /home/fperrad/.cpan/build/File-Dropbox-0.5-m6VSzF/blib/lib/File/Dropbox.pm line 572.
when is experimental at /home/fperrad/.cpan/build/File-Dropbox-0.5-m6VSzF/blib/lib/File/Dropbox.pm line 579.
when is experimental at /home/fperrad/.cpan/build/File-Dropbox-0.5-m6VSzF/blib/lib/File/Dropbox.pm line 585.
when is experimental at /home/fperrad/.cpan/build/File-Dropbox-0.5-m6VSzF/blib/lib/File/Dropbox.pm line 590.
t/04-read.t ...... ok
given is experimental at /home/fperrad/.cpan/build/File-Dropbox-0.5-m6VSzF/blib/lib/File/Dropbox.pm line 93.
when is experimental at /home/fperrad/.cpan/build/File-Dropbox-0.5-m6VSzF/blib/lib/File/Dropbox.pm line 94.
when is experimental at /home/fperrad/.cpan/build/File-Dropbox-0.5-m6VSzF/blib/lib/File/Dropbox.pm line 96.
when is experimental at /home/fperrad/.cpan/build/File-Dropbox-0.5-m6VSzF/blib/lib/File/Dropbox.pm line 101.
when is experimental at /home/fperrad/.cpan/build/File-Dropbox-0.5-m6VSzF/blib/lib/File/Dropbox.pm line 108.
given is experimental at /home/fperrad/.cpan/build/File-Dropbox-0.5-m6VSzF/blib/lib/File/Dropbox.pm line 216.
when is experimental at /home/fperrad/.cpan/build/File-Dropbox-0.5-m6VSzF/blib/lib/File/Dropbox.pm line 217.
when is experimental at /home/fperrad/.cpan/build/File-Dropbox-0.5-m6VSzF/blib/lib/File/Dropbox.pm line 221.
when is experimental at /home/fperrad/.cpan/build/File-Dropbox-0.5-m6VSzF/blib/lib/File/Dropbox.pm line 225.
given is experimental at /home/fperrad/.cpan/build/File-Dropbox-0.5-m6VSzF/blib/lib/File/Dropbox.pm line 307.
when is experimental at /home/fperrad/.cpan/build/File-Dropbox-0.5-m6VSzF/blib/lib/File/Dropbox.pm line 308.
when is experimental at /home/fperrad/.cpan/build/File-Dropbox-0.5-m6VSzF/blib/lib/File/Dropbox.pm line 310.
when is experimental at /home/fperrad/.cpan/build/File-Dropbox-0.5-m6VSzF/blib/lib/File/Dropbox.pm line 314.
given is experimental at /home/fperrad/.cpan/build/File-Dropbox-0.5-m6VSzF/blib/lib/File/Dropbox.pm line 409.
when is experimental at /home/fperrad/.cpan/build/File-Dropbox-0.5-m6VSzF/blib/lib/File/Dropbox.pm line 410.
when is experimental at /home/fperrad/.cpan/build/File-Dropbox-0.5-m6VSzF/blib/lib/File/Dropbox.pm line 415.
when is experimental at /home/fperrad/.cpan/build/File-Dropbox-0.5-m6VSzF/blib/lib/File/Dropbox.pm line 420.
when is experimental at /home/fperrad/.cpan/build/File-Dropbox-0.5-m6VSzF/blib/lib/File/Dropbox.pm line 427.
when is experimental at /home/fperrad/.cpan/build/File-Dropbox-0.5-m6VSzF/blib/lib/File/Dropbox.pm line 433.
when is experimental at /home/fperrad/.cpan/build/File-Dropbox-0.5-m6VSzF/blib/lib/File/Dropbox.pm line 438.
given is experimental at /home/fperrad/.cpan/build/File-Dropbox-0.5-m6VSzF/blib/lib/File/Dropbox.pm line 471.
when is experimental at /home/fperrad/.cpan/build/File-Dropbox-0.5-m6VSzF/blib/lib/File/Dropbox.pm line 472.
when is experimental at /home/fperrad/.cpan/build/File-Dropbox-0.5-m6VSzF/blib/lib/File/Dropbox.pm line 477.
when is experimental at /home/fperrad/.cpan/build/File-Dropbox-0.5-m6VSzF/blib/lib/File/Dropbox.pm line 482.
when is experimental at /home/fperrad/.cpan/build/File-Dropbox-0.5-m6VSzF/blib/lib/File/Dropbox.pm line 487.
when is experimental at /home/fperrad/.cpan/build/File-Dropbox-0.5-m6VSzF/blib/lib/File/Dropbox.pm line 494.
when is experimental at /home/fperrad/.cpan/build/File-Dropbox-0.5-m6VSzF/blib/lib/File/Dropbox.pm line 500.
when is experimental at /home/fperrad/.cpan/build/File-Dropbox-0.5-m6VSzF/blib/lib/File/Dropbox.pm line 504.
given is experimental at /home/fperrad/.cpan/build/File-Dropbox-0.5-m6VSzF/blib/lib/File/Dropbox.pm line 561.
when is experimental at /home/fperrad/.cpan/build/File-Dropbox-0.5-m6VSzF/blib/lib/File/Dropbox.pm line 562.
when is experimental at /home/fperrad/.cpan/build/File-Dropbox-0.5-m6VSzF/blib/lib/File/Dropbox.pm line 567.
when is experimental at /home/fperrad/.cpan/build/File-Dropbox-0.5-m6VSzF/blib/lib/File/Dropbox.pm line 572.
when is experimental at /home/fperrad/.cpan/build/File-Dropbox-0.5-m6VSzF/blib/lib/File/Dropbox.pm line 579.
when is experimental at /home/fperrad/.cpan/build/File-Dropbox-0.5-m6VSzF/blib/lib/File/Dropbox.pm line 585.
when is experimental at /home/fperrad/.cpan/build/File-Dropbox-0.5-m6VSzF/blib/lib/File/Dropbox.pm line 590.
t/05-meta.t ...... ok
given is experimental at /home/fperrad/.cpan/build/File-Dropbox-0.5-m6VSzF/blib/lib/File/Dropbox.pm line 93.
when is experimental at /home/fperrad/.cpan/build/File-Dropbox-0.5-m6VSzF/blib/lib/File/Dropbox.pm line 94.
when is experimental at /home/fperrad/.cpan/build/File-Dropbox-0.5-m6VSzF/blib/lib/File/Dropbox.pm line 96.
when is experimental at /home/fperrad/.cpan/build/File-Dropbox-0.5-m6VSzF/blib/lib/File/Dropbox.pm line 101.
when is experimental at /home/fperrad/.cpan/build/File-Dropbox-0.5-m6VSzF/blib/lib/File/Dropbox.pm line 108.
given is experimental at /home/fperrad/.cpan/build/File-Dropbox-0.5-m6VSzF/blib/lib/File/Dropbox.pm line 216.
when is experimental at /home/fperrad/.cpan/build/File-Dropbox-0.5-m6VSzF/blib/lib/File/Dropbox.pm line 217.
when is experimental at /home/fperrad/.cpan/build/File-Dropbox-0.5-m6VSzF/blib/lib/File/Dropbox.pm line 221.
when is experimental at /home/fperrad/.cpan/build/File-Dropbox-0.5-m6VSzF/blib/lib/File/Dropbox.pm line 225.
given is experimental at /home/fperrad/.cpan/build/File-Dropbox-0.5-m6VSzF/blib/lib/File/Dropbox.pm line 307.
when is experimental at /home/fperrad/.cpan/build/File-Dropbox-0.5-m6VSzF/blib/lib/File/Dropbox.pm line 308.
when is experimental at /home/fperrad/.cpan/build/File-Dropbox-0.5-m6VSzF/blib/lib/File/Dropbox.pm line 310.
when is experimental at /home/fperrad/.cpan/build/File-Dropbox-0.5-m6VSzF/blib/lib/File/Dropbox.pm line 314.
given is experimental at /home/fperrad/.cpan/build/File-Dropbox-0.5-m6VSzF/blib/lib/File/Dropbox.pm line 409.
when is experimental at /home/fperrad/.cpan/build/File-Dropbox-0.5-m6VSzF/blib/lib/File/Dropbox.pm line 410.
when is experimental at /home/fperrad/.cpan/build/File-Dropbox-0.5-m6VSzF/blib/lib/File/Dropbox.pm line 415.
when is experimental at /home/fperrad/.cpan/build/File-Dropbox-0.5-m6VSzF/blib/lib/File/Dropbox.pm line 420.
when is experimental at /home/fperrad/.cpan/build/File-Dropbox-0.5-m6VSzF/blib/lib/File/Dropbox.pm line 427.
when is experimental at /home/fperrad/.cpan/build/File-Dropbox-0.5-m6VSzF/blib/lib/File/Dropbox.pm line 433.
when is experimental at /home/fperrad/.cpan/build/File-Dropbox-0.5-m6VSzF/blib/lib/File/Dropbox.pm line 438.
given is experimental at /home/fperrad/.cpan/build/File-Dropbox-0.5-m6VSzF/blib/lib/File/Dropbox.pm line 471.
when is experimental at /home/fperrad/.cpan/build/File-Dropbox-0.5-m6VSzF/blib/lib/File/Dropbox.pm line 472.
when is experimental at /home/fperrad/.cpan/build/File-Dropbox-0.5-m6VSzF/blib/lib/File/Dropbox.pm line 477.
when is experimental at /home/fperrad/.cpan/build/File-Dropbox-0.5-m6VSzF/blib/lib/File/Dropbox.pm line 482.
when is experimental at /home/fperrad/.cpan/build/File-Dropbox-0.5-m6VSzF/blib/lib/File/Dropbox.pm line 487.
when is experimental at /home/fperrad/.cpan/build/File-Dropbox-0.5-m6VSzF/blib/lib/File/Dropbox.pm line 494.
when is experimental at /home/fperrad/.cpan/build/File-Dropbox-0.5-m6VSzF/blib/lib/File/Dropbox.pm line 500.
when is experimental at /home/fperrad/.cpan/build/File-Dropbox-0.5-m6VSzF/blib/lib/File/Dropbox.pm line 504.
given is experimental at /home/fperrad/.cpan/build/File-Dropbox-0.5-m6VSzF/blib/lib/File/Dropbox.pm line 561.
when is experimental at /home/fperrad/.cpan/build/File-Dropbox-0.5-m6VSzF/blib/lib/File/Dropbox.pm line 562.
when is experimental at /home/fperrad/.cpan/build/File-Dropbox-0.5-m6VSzF/blib/lib/File/Dropbox.pm line 567.
when is experimental at /home/fperrad/.cpan/build/File-Dropbox-0.5-m6VSzF/blib/lib/File/Dropbox.pm line 572.
when is experimental at /home/fperrad/.cpan/build/File-Dropbox-0.5-m6VSzF/blib/lib/File/Dropbox.pm line 579.
when is experimental at /home/fperrad/.cpan/build/File-Dropbox-0.5-m6VSzF/blib/lib/File/Dropbox.pm line 585.
when is experimental at /home/fperrad/.cpan/build/File-Dropbox-0.5-m6VSzF/blib/lib/File/Dropbox.pm line 590.
t/06-putfile.t ... ok
given is experimental at /home/fperrad/.cpan/build/File-Dropbox-0.5-m6VSzF/blib/lib/File/Dropbox.pm line 93.
when is experimental at /home/fperrad/.cpan/build/File-Dropbox-0.5-m6VSzF/blib/lib/File/Dropbox.pm line 94.
when is experimental at /home/fperrad/.cpan/build/File-Dropbox-0.5-m6VSzF/blib/lib/File/Dropbox.pm line 96.
when is experimental at /home/fperrad/.cpan/build/File-Dropbox-0.5-m6VSzF/blib/lib/File/Dropbox.pm line 101.
when is experimental at /home/fperrad/.cpan/build/File-Dropbox-0.5-m6VSzF/blib/lib/File/Dropbox.pm line 108.
given is experimental at /home/fperrad/.cpan/build/File-Dropbox-0.5-m6VSzF/blib/lib/File/Dropbox.pm line 216.
when is experimental at /home/fperrad/.cpan/build/File-Dropbox-0.5-m6VSzF/blib/lib/File/Dropbox.pm line 217.
when is experimental at /home/fperrad/.cpan/build/File-Dropbox-0.5-m6VSzF/blib/lib/File/Dropbox.pm line 221.
when is experimental at /home/fperrad/.cpan/build/File-Dropbox-0.5-m6VSzF/blib/lib/File/Dropbox.pm line 225.
given is experimental at /home/fperrad/.cpan/build/File-Dropbox-0.5-m6VSzF/blib/lib/File/Dropbox.pm line 307.
when is experimental at /home/fperrad/.cpan/build/File-Dropbox-0.5-m6VSzF/blib/lib/File/Dropbox.pm line 308.
when is experimental at /home/fperrad/.cpan/build/File-Dropbox-0.5-m6VSzF/blib/lib/File/Dropbox.pm line 310.
when is experimental at /home/fperrad/.cpan/build/File-Dropbox-0.5-m6VSzF/blib/lib/File/Dropbox.pm line 314.
given is experimental at /home/fperrad/.cpan/build/File-Dropbox-0.5-m6VSzF/blib/lib/File/Dropbox.pm line 409.
when is experimental at /home/fperrad/.cpan/build/File-Dropbox-0.5-m6VSzF/blib/lib/File/Dropbox.pm line 410.
when is experimental at /home/fperrad/.cpan/build/File-Dropbox-0.5-m6VSzF/blib/lib/File/Dropbox.pm line 415.
when is experimental at /home/fperrad/.cpan/build/File-Dropbox-0.5-m6VSzF/blib/lib/File/Dropbox.pm line 420.
when is experimental at /home/fperrad/.cpan/build/File-Dropbox-0.5-m6VSzF/blib/lib/File/Dropbox.pm line 427.
when is experimental at /home/fperrad/.cpan/build/File-Dropbox-0.5-m6VSzF/blib/lib/File/Dropbox.pm line 433.
when is experimental at /home/fperrad/.cpan/build/File-Dropbox-0.5-m6VSzF/blib/lib/File/Dropbox.pm line 438.
given is experimental at /home/fperrad/.cpan/build/File-Dropbox-0.5-m6VSzF/blib/lib/File/Dropbox.pm line 471.
when is experimental at /home/fperrad/.cpan/build/File-Dropbox-0.5-m6VSzF/blib/lib/File/Dropbox.pm line 472.
when is experimental at /home/fperrad/.cpan/build/File-Dropbox-0.5-m6VSzF/blib/lib/File/Dropbox.pm line 477.
when is experimental at /home/fperrad/.cpan/build/File-Dropbox-0.5-m6VSzF/blib/lib/File/Dropbox.pm line 482.
when is experimental at /home/fperrad/.cpan/build/File-Dropbox-0.5-m6VSzF/blib/lib/File/Dropbox.pm line 487.
when is experimental at /home/fperrad/.cpan/build/File-Dropbox-0.5-m6VSzF/blib/lib/File/Dropbox.pm line 494.
when is experimental at /home/fperrad/.cpan/build/File-Dropbox-0.5-m6VSzF/blib/lib/File/Dropbox.pm line 500.
when is experimental at /home/fperrad/.cpan/build/File-Dropbox-0.5-m6VSzF/blib/lib/File/Dropbox.pm line 504.
given is experimental at /home/fperrad/.cpan/build/File-Dropbox-0.5-m6VSzF/blib/lib/File/Dropbox.pm line 561.
when is experimental at /home/fperrad/.cpan/build/File-Dropbox-0.5-m6VSzF/blib/lib/File/Dropbox.pm line 562.
when is experimental at /home/fperrad/.cpan/build/File-Dropbox-0.5-m6VSzF/blib/lib/File/Dropbox.pm line 567.
when is experimental at /home/fperrad/.cpan/build/File-Dropbox-0.5-m6VSzF/blib/lib/File/Dropbox.pm line 572.
when is experimental at /home/fperrad/.cpan/build/File-Dropbox-0.5-m6VSzF/blib/lib/File/Dropbox.pm line 579.
when is experimental at /home/fperrad/.cpan/build/File-Dropbox-0.5-m6VSzF/blib/lib/File/Dropbox.pm line 585.
when is experimental at /home/fperrad/.cpan/build/File-Dropbox-0.5-m6VSzF/blib/lib/File/Dropbox.pm line 590.
t/07-contents.t .. ok
given is experimental at /home/fperrad/.cpan/build/File-Dropbox-0.5-m6VSzF/blib/lib/File/Dropbox.pm line 93.
when is experimental at /home/fperrad/.cpan/build/File-Dropbox-0.5-m6VSzF/blib/lib/File/Dropbox.pm line 94.
when is experimental at /home/fperrad/.cpan/build/File-Dropbox-0.5-m6VSzF/blib/lib/File/Dropbox.pm line 96.
when is experimental at /home/fperrad/.cpan/build/File-Dropbox-0.5-m6VSzF/blib/lib/File/Dropbox.pm line 101.
when is experimental at /home/fperrad/.cpan/build/File-Dropbox-0.5-m6VSzF/blib/lib/File/Dropbox.pm line 108.
given is experimental at /home/fperrad/.cpan/build/File-Dropbox-0.5-m6VSzF/blib/lib/File/Dropbox.pm line 216.
when is experimental at /home/fperrad/.cpan/build/File-Dropbox-0.5-m6VSzF/blib/lib/File/Dropbox.pm line 217.
when is experimental at /home/fperrad/.cpan/build/File-Dropbox-0.5-m6VSzF/blib/lib/File/Dropbox.pm line 221.
when is experimental at /home/fperrad/.cpan/build/File-Dropbox-0.5-m6VSzF/blib/lib/File/Dropbox.pm line 225.
given is experimental at /home/fperrad/.cpan/build/File-Dropbox-0.5-m6VSzF/blib/lib/File/Dropbox.pm line 307.
when is experimental at /home/fperrad/.cpan/build/File-Dropbox-0.5-m6VSzF/blib/lib/File/Dropbox.pm line 308.
when is experimental at /home/fperrad/.cpan/build/File-Dropbox-0.5-m6VSzF/blib/lib/File/Dropbox.pm line 310.
when is experimental at /home/fperrad/.cpan/build/File-Dropbox-0.5-m6VSzF/blib/lib/File/Dropbox.pm line 314.
given is experimental at /home/fperrad/.cpan/build/File-Dropbox-0.5-m6VSzF/blib/lib/File/Dropbox.pm line 409.
when is experimental at /home/fperrad/.cpan/build/File-Dropbox-0.5-m6VSzF/blib/lib/File/Dropbox.pm line 410.
when is experimental at /home/fperrad/.cpan/build/File-Dropbox-0.5-m6VSzF/blib/lib/File/Dropbox.pm line 415.
when is experimental at /home/fperrad/.cpan/build/File-Dropbox-0.5-m6VSzF/blib/lib/File/Dropbox.pm line 420.
when is experimental at /home/fperrad/.cpan/build/File-Dropbox-0.5-m6VSzF/blib/lib/File/Dropbox.pm line 427.
when is experimental at /home/fperrad/.cpan/build/File-Dropbox-0.5-m6VSzF/blib/lib/File/Dropbox.pm line 433.
when is experimental at /home/fperrad/.cpan/build/File-Dropbox-0.5-m6VSzF/blib/lib/File/Dropbox.pm line 438.
given is experimental at /home/fperrad/.cpan/build/File-Dropbox-0.5-m6VSzF/blib/lib/File/Dropbox.pm line 471.
when is experimental at /home/fperrad/.cpan/build/File-Dropbox-0.5-m6VSzF/blib/lib/File/Dropbox.pm line 472.
when is experimental at /home/fperrad/.cpan/build/File-Dropbox-0.5-m6VSzF/blib/lib/File/Dropbox.pm line 477.
when is experimental at /home/fperrad/.cpan/build/File-Dropbox-0.5-m6VSzF/blib/lib/File/Dropbox.pm line 482.
when is experimental at /home/fperrad/.cpan/build/File-Dropbox-0.5-m6VSzF/blib/lib/File/Dropbox.pm line 487.
when is experimental at /home/fperrad/.cpan/build/File-Dropbox-0.5-m6VSzF/blib/lib/File/Dropbox.pm line 494.
when is experimental at /home/fperrad/.cpan/build/File-Dropbox-0.5-m6VSzF/blib/lib/File/Dropbox.pm line 500.
when is experimental at /home/fperrad/.cpan/build/File-Dropbox-0.5-m6VSzF/blib/lib/File/Dropbox.pm line 504.
given is experimental at /home/fperrad/.cpan/build/File-Dropbox-0.5-m6VSzF/blib/lib/File/Dropbox.pm line 561.
when is experimental at /home/fperrad/.cpan/build/File-Dropbox-0.5-m6VSzF/blib/lib/File/Dropbox.pm line 562.
when is experimental at /home/fperrad/.cpan/build/File-Dropbox-0.5-m6VSzF/blib/lib/File/Dropbox.pm line 567.
when is experimental at /home/fperrad/.cpan/build/File-Dropbox-0.5-m6VSzF/blib/lib/File/Dropbox.pm line 572.
when is experimental at /home/fperrad/.cpan/build/File-Dropbox-0.5-m6VSzF/blib/lib/File/Dropbox.pm line 579.
when is experimental at /home/fperrad/.cpan/build/File-Dropbox-0.5-m6VSzF/blib/lib/File/Dropbox.pm line 585.
when is experimental at /home/fperrad/.cpan/build/File-Dropbox-0.5-m6VSzF/blib/lib/File/Dropbox.pm line 590.
t/08-timeout.t ... skipped: DROPBOX_TIMEOUT is not set
All tests successful.
Files=8, Tests=216,  6 wallclock secs ( 0.27 usr  0.02 sys +  3.54 cusr  0.39 csys =  4.22 CPU)
Result: PASS

------------------------------
PREREQUISITES
------------------------------

Prerequisite modules loaded:

requires:

    Module          Need Have  
    --------------- ---- ------
    Furl            2.16 2.18  
    IO::Socket::SSL 1.4  1.953 
    JSON            2.0  2.59  
    Net::DNS::Lite  0.1  0.10  

configure_requires:

    Module          Need Have  
    --------------- ---- ------
    Module::Build   0.40 0.4003


------------------------------
ENVIRONMENT AND OTHER CONTEXT
------------------------------

Environment variables:

    AUTOMATED_TESTING = 1
    LANG = en_US.UTF-8
    LANGUAGE = en_US:en
    LC_ALL = C
    PATH = /home/fperrad/perl5/perlbrew/bin:/home/fperrad/perl5/perlbrew/perls/perl-5.18.1/bin:/usr/local/bin:/usr/bin:/bin:/usr/local/games:/usr/games
    PERL5LIB = /home/fperrad/.cpan/build/Net-DNS-Lite-0.10-nxwkcz/blib/arch:/home/fperrad/.cpan/build/Net-DNS-Lite-0.10-nxwkcz/blib/lib:/home/fperrad/.cpan/build/List-MoreUtils-0.33-ZBxalG/blib/arch:/home/fperrad/.cpan/build/List-MoreUtils-0.33-ZBxalG/blib/lib:/home/fperrad/.cpan/build/Furl-2.18-OLCVwy/blib/arch:/home/fperrad/.cpan/build/Furl-2.18-OLCVwy/blib/lib:/home/fperrad/.cpan/build/HTTP-Parser-XS-0.16-FePEC8/blib/arch:/home/fperrad/.cpan/build/HTTP-Parser-XS-0.16-FePEC8/blib/lib:/home/fperrad/.cpan/build/Class-Accessor-Lite-0.05-OgWEnt/blib/arch:/home/fperrad/.cpan/build/Class-Accessor-Lite-0.05-OgWEnt/blib/lib:/home/fperrad/.cpan/build/Test-TCP-2.00-ONym9f/blib/arch:/home/fperrad/.cpan/build/Test-TCP-2.00-ONym9f/blib/lib:/home/fperrad/.cpan/build/Test-SharedFork-0.21-xR9X8f/blib/arch:/home/fperrad/.cpan/build/Test-SharedFork-0.21-xR9X8f/blib/lib:/home/fperrad/.cpan/build/Test-Requires-0.07-Wde9D3/blib/arch:/home/fperrad/.cpan/build/Test-Requires-0.07-Wde9D3/blib/lib
    PERL5OPT = 
    PERL5_CPANPLUS_IS_RUNNING = 31096
    PERL5_CPAN_IS_RUNNING = 31096
    PERL5_CPAN_IS_RUNNING_IN_RECURSION = 11785,31096
    PERLBREW_BASHRC_VERSION = 0.64
    PERLBREW_HOME = /home/fperrad/.perlbrew
    PERLBREW_MANPATH = /home/fperrad/perl5/perlbrew/perls/perl-5.18.1/man
    PERLBREW_PATH = /home/fperrad/perl5/perlbrew/bin:/home/fperrad/perl5/perlbrew/perls/perl-5.18.1/bin
    PERLBREW_PERL = perl-5.18.1
    PERLBREW_ROOT = /home/fperrad/perl5/perlbrew
    PERLBREW_VERSION = 0.64
    PERL_CR_SMOKER_CURRENT = File-Dropbox-0.5
    PERL_EXTUTILS_AUTOINSTALL = --defaultdeps
    PERL_MM_USE_DEFAULT = 1
    SHELL = /bin/bash
    TERM = linux

Perl special variables (and OS-specific diagnostics, for MSWin32):

    $^X = /home/fperrad/perl5/perlbrew/perls/perl-5.18.1/bin/perl
    $UID/$EUID = 1000 / 1000
    $GID = 1000 24 25 29 30 44 46 1000
    $EGID = 1000 24 25 29 30 44 46 1000

Perl module toolchain versions installed:

    Module              Have    
    ------------------- --------
    CPAN                2.00    
    CPAN::Meta          2.120921
    Cwd                 3.40    
    ExtUtils::CBuilder  0.280210
    ExtUtils::Command   1.17    
    ExtUtils::Install   1.59    
    ExtUtils::MakeMaker 6.66    
    ExtUtils::Manifest  1.63    
    ExtUtils::ParseXS   3.18    
    File::Spec          3.40    
    JSON                2.59    
    JSON::PP            2.27202 
    Module::Build       0.4003  
    Module::Signature   n/a     
    Parse::CPAN::Meta   1.4404  
    Test::Harness       3.26    
    Test::More          0.98    
    YAML                0.84    
    YAML::Syck          n/a     
    version             0.9902  


--

Summary of my perl5 (revision 5 version 18 subversion 1) configuration:
   
  Platform:
    osname=linux, osvers=3.2.0-4-486, archname=i686-linux
    uname='linux etx 3.2.0-4-486 #1 debian 3.2.46-1 i686 gnulinux '
    config_args='-de -Dprefix=/home/fperrad/perl5/perlbrew/perls/perl-5.18.1 -Aeval:scriptdir=/home/fperrad/perl5/perlbrew/perls/perl-5.18.1/bin'
    hint=recommended, useposix=true, d_sigaction=define
    useithreads=undef, usemultiplicity=undef
    useperlio=define, d_sfio=undef, uselargefiles=define, usesocks=undef
    use64bitint=undef, use64bitall=undef, uselongdouble=undef
    usemymalloc=n, bincompat5005=undef
  Compiler:
    cc='cc', ccflags ='-fno-strict-aliasing -pipe -fstack-protector -I/usr/local/include -D_LARGEFILE_SOURCE -D_FILE_OFFSET_BITS=64',
    optimize='-O2',
    cppflags='-fno-strict-aliasing -pipe -fstack-protector -I/usr/local/include'
    ccversion='', gccversion='4.7.2', gccosandvers=''
    intsize=4, longsize=4, ptrsize=4, doublesize=8, byteorder=1234
    d_longlong=define, longlongsize=8, d_longdbl=define, longdblsize=12
    ivtype='long', ivsize=4, nvtype='double', nvsize=8, Off_t='off_t', lseeksize=8
    alignbytes=4, prototype=define
  Linker and Libraries:
    ld='cc', ldflags =' -fstack-protector -L/usr/local/lib'
    libpth=/usr/local/lib /lib/i386-linux-gnu /lib/../lib /usr/lib/i386-linux-gnu /usr/lib/../lib /lib /usr/lib
    libs=-lnsl -lgdbm -ldb -ldl -lm -lcrypt -lutil -lc -lgdbm_compat
    perllibs=-lnsl -ldl -lm -lcrypt -lutil -lc
    libc=, so=so, useshrplib=false, libperl=libperl.a
    gnulibc_version='2.13'
  Dynamic Linking:
    dlsrc=dl_dlopen.xs, dlext=so, d_dlsymun=undef, ccdlflags='-Wl,-E'
    cccdlflags='-fPIC', lddlflags='-shared -O2 -L/usr/local/lib -fstack-protector'


Characteristics of this binary (from libperl): 
  Compile-time options: HAS_TIMES PERLIO_LAYERS PERL_DONT_CREATE_GVSV
                        PERL_HASH_FUNC_ONE_AT_A_TIME_HARD PERL_MALLOC_WRAP
                        PERL_PRESERVE_IVUV PERL_SAWAMPERSAND USE_LARGE_FILES
                        USE_LOCALE USE_LOCALE_COLLATE USE_LOCALE_CTYPE
                        USE_LOCALE_NUMERIC USE_PERLIO USE_PERL_ATOF
  Built under linux
  Compiled at Aug 13 2013 13:38:39
  %ENV:
    PERL5LIB="/home/fperrad/.cpan/build/Net-DNS-Lite-0.10-nxwkcz/blib/arch:/home/fperrad/.cpan/build/Net-DNS-Lite-0.10-nxwkcz/blib/lib:/home/fperrad/.cpan/build/List-MoreUtils-0.33-ZBxalG/blib/arch:/home/fperrad/.cpan/build/List-MoreUtils-0.33-ZBxalG/blib/lib:/home/fperrad/.cpan/build/Furl-2.18-OLCVwy/blib/arch:/home/fperrad/.cpan/build/Furl-2.18-OLCVwy/blib/lib:/home/fperrad/.cpan/build/HTTP-Parser-XS-0.16-FePEC8/blib/arch:/home/fperrad/.cpan/build/HTTP-Parser-XS-0.16-FePEC8/blib/lib:/home/fperrad/.cpan/build/Class-Accessor-Lite-0.05-OgWEnt/blib/arch:/home/fperrad/.cpan/build/Class-Accessor-Lite-0.05-OgWEnt/blib/lib:/home/fperrad/.cpan/build/Test-TCP-2.00-ONym9f/blib/arch:/home/fperrad/.cpan/build/Test-TCP-2.00-ONym9f/blib/lib:/home/fperrad/.cpan/build/Test-SharedFork-0.21-xR9X8f/blib/arch:/home/fperrad/.cpan/build/Test-SharedFork-0.21-xR9X8f/blib/lib:/home/fperrad/.cpan/build/Test-Requires-0.07-Wde9D3/blib/arch:/home/fperrad/.cpan/build/Test-Requires-0.07-Wde9D3/blib/lib"
    PERL5OPT=""
    PERL5_CPANPLUS_IS_RUNNING="31096"
    PERL5_CPAN_IS_RUNNING="31096"
    PERL5_CPAN_IS_RUNNING_IN_RECURSION="11785,31096"
    PERLBREW_BASHRC_VERSION="0.64"
    PERLBREW_HOME="/home/fperrad/.perlbrew"
    PERLBREW_MANPATH="/home/fperrad/perl5/perlbrew/perls/perl-5.18.1/man"
    PERLBREW_PATH="/home/fperrad/perl5/perlbrew/bin:/home/fperrad/perl5/perlbrew/perls/perl-5.18.1/bin"
    PERLBREW_PERL="perl-5.18.1"
    PERLBREW_ROOT="/home/fperrad/perl5/perlbrew"
    PERLBREW_VERSION="0.64"
    PERL_CR_SMOKER_CURRENT="File-Dropbox-0.5"
    PERL_EXTUTILS_AUTOINSTALL="--defaultdeps"
    PERL_MM_USE_DEFAULT="1"
  @INC:
    /home/fperrad/.cpan/build/Net-DNS-Lite-0.10-nxwkcz/blib/arch
    /home/fperrad/.cpan/build/Net-DNS-Lite-0.10-nxwkcz/blib/lib
    /home/fperrad/.cpan/build/List-MoreUtils-0.33-ZBxalG/blib/arch
    /home/fperrad/.cpan/build/List-MoreUtils-0.33-ZBxalG/blib/lib
    /home/fperrad/.cpan/build/Furl-2.18-OLCVwy/blib/arch
    /home/fperrad/.cpan/build/Furl-2.18-OLCVwy/blib/lib
    /home/fperrad/.cpan/build/HTTP-Parser-XS-0.16-FePEC8/blib/arch
    /home/fperrad/.cpan/build/HTTP-Parser-XS-0.16-FePEC8/blib/lib
    /home/fperrad/.cpan/build/Class-Accessor-Lite-0.05-OgWEnt/blib/arch
    /home/fperrad/.cpan/build/Class-Accessor-Lite-0.05-OgWEnt/blib/lib
    /home/fperrad/.cpan/build/Test-TCP-2.00-ONym9f/blib/arch
    /home/fperrad/.cpan/build/Test-TCP-2.00-ONym9f/blib/lib
    /home/fperrad/.cpan/build/Test-SharedFork-0.21-xR9X8f/blib/arch
    /home/fperrad/.cpan/build/Test-SharedFork-0.21-xR9X8f/blib/lib
    /home/fperrad/.cpan/build/Test-Requires-0.07-Wde9D3/blib/arch
    /home/fperrad/.cpan/build/Test-Requires-0.07-Wde9D3/blib/lib
    /home/fperrad/perl5/perlbrew/perls/perl-5.18.1/lib/site_perl/5.18.1/i686-linux
    /home/fperrad/perl5/perlbrew/perls/perl-5.18.1/lib/site_perl/5.18.1
    /home/fperrad/perl5/perlbrew/perls/perl-5.18.1/lib/5.18.1/i686-linux
    /home/fperrad/perl5/perlbrew/perls/perl-5.18.1/lib/5.18.1
    .