Module-Metadata v1.000036 Perl 5 v5.20.3 arm-freebsd-64int

Status
Pass
From
Nigel Horne
Dist
Module-Metadata v1.000036
Platform
Perl 5 v5.20.3 arm-freebsd-64int
Date
2019-07-01 14:37:21
ID
bbe8b53e-9c0d-11e9-8fa9-99a29f1e7dde
This distribution has been tested as part of the CPAN Testers
project, supporting the Perl programming language.  See
http://wiki.cpantesters.org/ for more information or email
questions to cpan-testers-discuss@perl.org


--
Dear Karen Etheridge,

This is a computer-generated report for Module-Metadata-1.000036
on perl 5.20.3, created by CPAN-Reporter-1.2018.

Thank you for uploading your work to CPAN.  Congratulations!
All tests were successful.

Sections of this report:

    * Tester comments
    * Program output
    * Prerequisites
    * Environment and other context

------------------------------
TESTER COMMENTS
------------------------------

Additional comments from tester:

this report is from an automated smoke testing program
and was not reviewed by a human for accuracy

------------------------------
PROGRAM OUTPUT
------------------------------

Output from '/usr/bin/make test':

PERL_DL_NONLAZY=1 "/mnt/nas/home/pi2b/njh/perl5/perlbrew/perls/perl-5.20.3-64int/bin/perl5.20.3" "-MExtUtils::Command::MM" "-MTest::Harness" "-e" "undef *Test::Harness::Switches; test_harness(0, 'blib/lib', 'blib/arch')" t/*.t
t/endpod.t ............. ok
t/contains_pod.t ....... ok
t/encoding.t ........... ok
# Got: '_private'
# Module contents:
# package _private;
# $::VERSION = 0.01;
# $VERSION = '999';
# Got: '_private'
# Module contents:
# package _private;
# $VERSION = '999';
# $::VERSION = 0.01;
t/extract-package.t .... ok
t/metadata.t ........... ok
# 
# Versions for all modules listed in MYMETA.json (including optional ones):
# 
# === Configure Requires ===
# 
#     Module              Want Have
#     ------------------- ---- ----
#     ExtUtils::MakeMaker  any 7.34
# 
# === Build Requires ===
# 
#     Module              Want Have
#     ------------------- ---- ----
#     ExtUtils::MakeMaker  any 7.34
# 
# === Test Requires ===
# 
#     Module              Want     Have
#     ------------------- ---- --------
#     Cwd                  any     3.75
#     ExtUtils::MakeMaker  any     7.34
#     File::Basename       any     2.85
#     File::Path           any     2.09
#     File::Spec           any     3.75
#     File::Temp           any   0.2304
#     IO::File             any     1.16
#     Test::More          0.88 1.302162
#     lib                  any     0.63
# 
# === Test Recommends ===
# 
#     Module         Want     Have
#     ---------- -------- --------
#     CPAN::Meta 2.120900 2.143240
# 
# === Runtime Requires ===
# 
#     Module     Want   Have
#     ---------- ---- ------
#     Carp        any 1.3301
#     Fcntl       any   1.11
#     File::Find  any   1.27
#     File::Spec  any   3.75
#     strict      any   1.08
#     version    0.87 0.9909
#     warnings    any   1.23
# 
# === Other Modules ===
# 
#     Module             Have
#     --------------- -------
#     Encode             2.60
#     File::Temp       0.2304
#     JSON::PP           4.04
#     Module::Runtime   0.016
#     Pod::Coverage   missing
#     Sub::Name       missing
#     YAML               1.27
#     autodie            2.29
# 
t/00-report-prereqs.t .. ok
# parsed module: bless( {
#   'collect_pod' => undef,
#   'filename' => '/tmp/testwrapper.39501/MMD-zQavmpiO/Simple51/Simple.pm',
#   'inc' => undef,
#   'module' => 'Simple',
#   'packages' => [
#     'Simple'
#   ],
#   'pod' => {},
#   'pod_headings' => [],
#   'version' => bless( {
#     'original' => '0',
#     'version' => [
#       0
#     ]
#   }, 'version' ),
#   'versions' => {
#     'Simple' => $VAR1->{'version'}
#   }
# }, 'Module::Metadata' )
# parsed module: bless( {
#   'collect_pod' => undef,
#   'filename' => '/tmp/testwrapper.39501/MMD-zQavmpiO/Simple52/Simple.pm',
#   'inc' => undef,
#   'module' => 'Simple',
#   'packages' => [
#     'main',
#     'Simple'
#   ],
#   'pod' => {},
#   'pod_headings' => [],
#   'version' => bless( {
#     'original' => '0',
#     'version' => [
#       0
#     ]
#   }, 'version' ),
#   'versions' => {
#     'Simple' => $VAR1->{'version'},
#     'main' => ''
#   }
# }, 'Module::Metadata' )
# parsed module: bless( {
#   'collect_pod' => undef,
#   'filename' => '/tmp/testwrapper.39501/MMD-zQavmpiO/Simple54/Simple.pm',
#   'inc' => undef,
#   'module' => undef,
#   'packages' => [
#     'main'
#   ],
#   'pod' => {},
#   'pod_headings' => [],
#   'version' => undef,
#   'versions' => {
#     'main' => bless( {
#       'original' => '1.23',
#       'version' => [
#         1,
#         230
#       ]
#     }, 'version' )
#   }
# }, 'Module::Metadata' )
# parsed module: bless( {
#   'collect_pod' => undef,
#   'filename' => '/tmp/testwrapper.39501/MMD-zQavmpiO/Simple55/Simple.pm',
#   'inc' => undef,
#   'module' => undef,
#   'packages' => [
#     'main'
#   ],
#   'pod' => {},
#   'pod_headings' => [],
#   'version' => undef,
#   'versions' => {
#     'main' => bless( {
#       'original' => '1.23',
#       'version' => [
#         1,
#         230
#       ]
#     }, 'version' )
#   }
# }, 'Module::Metadata' )
t/extract-version.t .... ok
t/taint.t .............. ok
t/version.t ............ ok
All tests successful.
Files=9, Tests=349,  8 wallclock secs ( 1.16 usr  0.28 sys + 13.30 cusr  6.86 csys = 21.60 CPU)
Result: PASS

------------------------------
PREREQUISITES
------------------------------

Prerequisite modules loaded:

requires:

    Module              Need  Have    
    ------------------- ----- --------
    Carp                0     1.3301  
    Fcntl               0     1.11    
    File::Find          0     1.27    
    File::Spec          0     3.75    
    perl                5.006 5.020003
    strict              0     1.08    
    version             0.87  0.9909  
    warnings            0     1.23    

build_requires:

    Module              Need  Have    
    ------------------- ----- --------
    Cwd                 0     3.75    
    ExtUtils::MakeMaker 0     7.34    
    File::Basename      0     2.85    
    File::Path          0     2.09    
    File::Spec          0     3.75    
    File::Temp          0     0.2304  
    IO::File            0     1.16    
    lib                 0     0.63    
    Test::More          0.88  1.302162

configure_requires:

    Module              Need  Have    
    ------------------- ----- --------
    ExtUtils::MakeMaker 0     7.34    
    perl                5.006 5.020003


------------------------------
ENVIRONMENT AND OTHER CONTEXT
------------------------------

Environment variables:

    AUTOMATED_TESTING = 1
    HARNESS_OPTIONS = j4
    PATH = /home/njh/perl5/perlbrew/bin:/home/njh/perl5/perlbrew/perls/perl-5.20.3-64int/bin:/sbin:/bin:/usr/sbin:/usr/bin:/usr/local/sbin:/usr/local/bin:/home/njh/src/njh/smoker/bin
    PERL5LIB = /var/tmp/build/JSON-MaybeXS-1.004000-10/blib/arch:/var/tmp/build/JSON-MaybeXS-1.004000-10/blib/lib:/var/tmp/build/JSON-PP-4.04-1/blib/arch:/var/tmp/build/JSON-PP-4.04-1/blib/lib:/var/tmp/build/Cpanel-JSON-XS-4.12-10/blib/arch:/var/tmp/build/Cpanel-JSON-XS-4.12-10/blib/lib:/var/tmp/build/IO-Async-0.74-7/blib/arch:/var/tmp/build/IO-Async-0.74-7/blib/lib:/var/tmp/build/Struct-Dumb-0.09-7/blib/arch:/var/tmp/build/Struct-Dumb-0.09-7/blib/lib:/var/tmp/build/Future-0.41-7/blib/arch:/var/tmp/build/Future-0.41-7/blib/lib:/var/tmp/build/Test-Refcount-0.10-7/blib/arch:/var/tmp/build/Test-Refcount-0.10-7/blib/lib:/var/tmp/build/Test-Identity-0.01-7/blib/arch:/var/tmp/build/Test-Identity-0.01-7/blib/lib
    PERL5OPT = 
    PERL5_CPANPLUS_IS_RUNNING = 39514
    PERL5_CPAN_IS_RUNNING = 39514
    PERL5_CPAN_IS_RUNNING_IN_RECURSION = 39499,39514
    PERLBREW_HOME = /home/njh/.perlbrew
    PERLBREW_MANPATH = /home/njh/perl5/perlbrew/perls/perl-5.20.3-64int/man
    PERLBREW_PATH = /home/njh/perl5/perlbrew/bin:/home/njh/perl5/perlbrew/perls/perl-5.20.3-64int/bin
    PERLBREW_PERL = perl-5.20.3-64int
    PERLBREW_ROOT = /home/njh/perl5/perlbrew
    PERLBREW_SHELLRC_VERSION = 0.84
    PERLBREW_VERSION = 0.84
    PERL_USE_UNSAFE_INC = 1
    SHELL = /bin/sh
    TMPDIR = /tmp/testwrapper.39501

Perl special variables (and OS-specific diagnostics, for MSWin32):

    $^X = /mnt/nas/home/pi2b/njh/perl5/perlbrew/perls/perl-5.20.3-64int/bin/perl5.20.3
    $UID/$EUID = 1000 / 1000
    $GID = 1000 1000 0
    $EGID = 1000 1000 0

Perl module toolchain versions installed:

    Module              Have    
    ------------------- --------
    CPAN                2.26    
    CPAN::Meta          2.143240
    Cwd                 3.75    
    ExtUtils::CBuilder  0.280217
    ExtUtils::Command   7.34    
    ExtUtils::Install   2.06    
    ExtUtils::MakeMaker 7.34    
    ExtUtils::Manifest  1.70    
    ExtUtils::ParseXS   3.24    
    File::Spec          3.75    
    JSON                4.02    
    JSON::PP            4.04    
    Module::Build       0.4224  
    Module::Signature   n/a     
    Parse::CPAN::Meta   1.4414  
    Test::Harness       3.42    
    Test::More          1.302162
    YAML                1.27    
    YAML::Syck          1.31    
    version             0.9909  


--

Summary of my perl5 (revision 5 version 20 subversion 3) configuration:
   
  Platform:
    osname=freebsd, osvers=12.0-release, archname=arm-freebsd-64int
    uname='freebsd pi2b 12.0-release freebsd 12.0-release r341666 generic arm '
    config_args='-de -Dprefix=/home/njh/perl5/perlbrew/perls/perl-5.20.3-64int -Dusedevel -Duse64bitint -Accflags=-O2 -W -Wformat=2 -Wswitch -Wshadow -Wwrite-strings -Wuninitialized -Wall -pipe -fomit-frame-pointer -D_FORTIFY_SOURCE=2 -Wpointer-arith -Wstrict-prototypes -fstack-protector -Wstack-protector -Wextra -Wbad-function-cast -Wcast-align -Wcast-qual -Wdisabled-optimization -Wendif-labels -Wfloat-equal -Wformat-nonliteral -Winline -Wmissing-declarations -Wmissing-prototypes -Wnested-externs -Wpointer-arith -Wundef -Wformat-security -mfloat-abi=hard -mfpu=neon-vfpv4 -mtune=cortex-a7 -fdiagnostics-color=auto -mtune=native -Aeval:scriptdir=/home/njh/perl5/perlbrew/perls/perl-5.20.3-64int/bin'
    hint=recommended, useposix=true, d_sigaction=define
    useithreads=undef, usemultiplicity=undef
    use64bitint=define, use64bitall=undef, uselongdouble=undef
    usemymalloc=n, bincompat5005=undef
  Compiler:
    cc='cc', ccflags ='-DHAS_FPSETMASK -DHAS_FLOATINGPOINT_H -O2 -W -Wformat=2 -Wswitch -Wshadow -Wwrite-strings -Wuninitialized -Wall -pipe -fomit-frame-pointer -D_FORTIFY_SOURCE=2 -Wpointer-arith -Wstrict-prototypes -fstack-protector -Wstack-protector -Wextra -Wbad-function-cast -Wcast-align -Wcast-qual -Wdisabled-optimization -Wendif-labels -Wfloat-equal -Wformat-nonliteral -Winline -Wmissing-declarations -Wmissing-prototypes -Wnested-externs -Wpointer-arith -Wundef -Wformat-security -mfloat-abi=hard -mfpu=neon-vfpv4 -mtune=cortex-a7 -fdiagnostics-color=auto -mtune=native -fno-strict-aliasing -I/usr/local/include',
    optimize='-O2',
    cppflags='-DHAS_FPSETMASK -DHAS_FLOATINGPOINT_H -O2 -W -Wformat=2 -Wswitch -Wshadow -Wwrite-strings -Wuninitialized -Wall -pipe -fomit-frame-pointer -D_FORTIFY_SOURCE=2 -Wpointer-arith -Wstrict-prototypes -fstack-protector -Wstack-protector -Wextra -Wbad-function-cast -Wcast-align -Wcast-qual -Wdisabled-optimization -Wendif-labels -Wfloat-equal -Wformat-nonliteral -Winline -Wmissing-declarations -Wmissing-prototypes -Wnested-externs -Wpointer-arith -Wundef -Wformat-security -mfloat-abi=hard -mfpu=neon-vfpv4 -mtune=cortex-a7 -fdiagnostics-color=auto -mtune=native -fno-strict-aliasing -I/usr/local/include'
    ccversion='', gccversion='4.2.1 Compatible FreeBSD Clang 6.0.1 (tags/RELEASE_601/final 335540)', gccosandvers=''
    intsize=4, longsize=4, ptrsize=4, doublesize=8, byteorder=12345678
    d_longlong=define, longlongsize=8, d_longdbl=define, longdblsize=8
    ivtype='long long', ivsize=8, nvtype='double', nvsize=8, Off_t='off_t', lseeksize=8
    alignbytes=8, prototype=define
  Linker and Libraries:
    ld='cc', ldflags ='-Wl,-E  -fstack-protector -L/usr/local/lib'
    libpth=/usr/lib /usr/local/lib /usr/lib/clang/6.0.1/lib /usr/lib
    libs=-lpthread -ldl -lm -lcrypt -lutil -lc
    perllibs=-lpthread -ldl -lm -lcrypt -lutil -lc
    libc=, so=so, useshrplib=false, libperl=libperl.a
    gnulibc_version=''
  Dynamic Linking:
    dlsrc=dl_dlopen.xs, dlext=so, d_dlsymun=undef, ccdlflags=' '
    cccdlflags='-DPIC -fPIC', lddlflags='-shared  -L/usr/local/lib -fstack-protector'


Characteristics of this binary (from libperl): 
  Compile-time options: HAS_TIMES PERLIO_LAYERS PERL_DONT_CREATE_GVSV
                        PERL_HASH_FUNC_ONE_AT_A_TIME_HARD PERL_MALLOC_WRAP
                        PERL_NEW_COPY_ON_WRITE PERL_PRESERVE_IVUV
                        PERL_USE_DEVEL USE_64_BIT_INT USE_LARGE_FILES
                        USE_LOCALE USE_LOCALE_COLLATE USE_LOCALE_CTYPE
                        USE_LOCALE_NUMERIC USE_PERLIO USE_PERL_ATOF
  Locally applied patches:
	Devel::PatchPerl 1.52
  Built under freebsd
  Compiled at Feb 18 2019 00:09:16
  %ENV:
    PERL5LIB="/var/tmp/build/JSON-MaybeXS-1.004000-10/blib/arch:/var/tmp/build/JSON-MaybeXS-1.004000-10/blib/lib:/var/tmp/build/JSON-PP-4.04-1/blib/arch:/var/tmp/build/JSON-PP-4.04-1/blib/lib:/var/tmp/build/Cpanel-JSON-XS-4.12-10/blib/arch:/var/tmp/build/Cpanel-JSON-XS-4.12-10/blib/lib:/var/tmp/build/IO-Async-0.74-7/blib/arch:/var/tmp/build/IO-Async-0.74-7/blib/lib:/var/tmp/build/Struct-Dumb-0.09-7/blib/arch:/var/tmp/build/Struct-Dumb-0.09-7/blib/lib:/var/tmp/build/Future-0.41-7/blib/arch:/var/tmp/build/Future-0.41-7/blib/lib:/var/tmp/build/Test-Refcount-0.10-7/blib/arch:/var/tmp/build/Test-Refcount-0.10-7/blib/lib:/var/tmp/build/Test-Identity-0.01-7/blib/arch:/var/tmp/build/Test-Identity-0.01-7/blib/lib"
    PERL5OPT=""
    PERL5_CPANPLUS_IS_RUNNING="39514"
    PERL5_CPAN_IS_RUNNING="39514"
    PERL5_CPAN_IS_RUNNING_IN_RECURSION="39499,39514"
    PERLBREW_HOME="/home/njh/.perlbrew"
    PERLBREW_MANPATH="/home/njh/perl5/perlbrew/perls/perl-5.20.3-64int/man"
    PERLBREW_PATH="/home/njh/perl5/perlbrew/bin:/home/njh/perl5/perlbrew/perls/perl-5.20.3-64int/bin"
    PERLBREW_PERL="perl-5.20.3-64int"
    PERLBREW_ROOT="/home/njh/perl5/perlbrew"
    PERLBREW_SHELLRC_VERSION="0.84"
    PERLBREW_VERSION="0.84"
    PERL_USE_UNSAFE_INC="1"
  @INC:
    /var/tmp/build/JSON-MaybeXS-1.004000-10/blib/arch
    /var/tmp/build/JSON-MaybeXS-1.004000-10/blib/lib
    /var/tmp/build/JSON-PP-4.04-1/blib/arch
    /var/tmp/build/JSON-PP-4.04-1/blib/lib
    /var/tmp/build/Cpanel-JSON-XS-4.12-10/blib/arch
    /var/tmp/build/Cpanel-JSON-XS-4.12-10/blib/lib
    /var/tmp/build/IO-Async-0.74-7/blib/arch
    /var/tmp/build/IO-Async-0.74-7/blib/lib
    /var/tmp/build/Struct-Dumb-0.09-7/blib/arch
    /var/tmp/build/Struct-Dumb-0.09-7/blib/lib
    /var/tmp/build/Future-0.41-7/blib/arch
    /var/tmp/build/Future-0.41-7/blib/lib
    /var/tmp/build/Test-Refcount-0.10-7/blib/arch
    /var/tmp/build/Test-Refcount-0.10-7/blib/lib
    /var/tmp/build/Test-Identity-0.01-7/blib/arch
    /var/tmp/build/Test-Identity-0.01-7/blib/lib
    /home/njh/perl5/perlbrew/perls/perl-5.20.3-64int/lib/site_perl/5.20.3/arm-freebsd-64int
    /home/njh/perl5/perlbrew/perls/perl-5.20.3-64int/lib/site_perl/5.20.3
    /home/njh/perl5/perlbrew/perls/perl-5.20.3-64int/lib/5.20.3/arm-freebsd-64int
    /home/njh/perl5/perlbrew/perls/perl-5.20.3-64int/lib/5.20.3
    .