Report for PerlPoint-Package-0.452

Back
From: metabase:user:3198cbe2-2aae-11df-837a-5e0a49663a4f
Subject: PASS PerlPoint-Package-0.452 v5.12.1 GNU/Linux
Date: 2010-09-19T10:29:07Z

This distribution has been tested as part of the CPAN Testers
project, supporting the Perl programming language.  See
http://wiki.cpantesters.org/ for more information or email
questions to cpan-testers-discuss@perl.org


--
Dear Jochen Stenzel,

This is a computer-generated report for PerlPoint-Package-0.452
on perl 5.12.1, created by CPAN-Reporter-1.1801.

Thank you for uploading your work to CPAN.  Congratulations!
All tests were successful.

Sections of this report:

    * Tester comments
    * Program output
    * Prerequisites
    * Environment and other context

------------------------------
TESTER COMMENTS
------------------------------

Additional comments from tester:

this report is from an automated smoke testing program
and was not reviewed by a human for accuracy

------------------------------
PROGRAM OUTPUT
------------------------------

Output from '/usr/bin/make test':

PERL_DL_NONLAZY=1 /home/graham/perltest/th_ld_perl5121/perl/bin/perl "-MExtUtils::Command::MM" "-e" "test_harness(0, 'blib/lib', 'blib/arch')" t/*.t
t/l0_backend-base.t ... ok
t/l0_backend-modes.t .. ok
t/l0_backend-navi.t ... ok
Use of uninitialized value within @_ in uc at /home/graham/perltest/th_ld_perl5121/cpan/build/PerlPoint-Package-0.452-qGQkJi/blib/lib/PerlPoint/Tags.pm line 502.
Use of uninitialized value within @_ in uc at /home/graham/perltest/th_ld_perl5121/cpan/build/PerlPoint-Package-0.452-qGQkJi/blib/lib/PerlPoint/Tags.pm line 502.
t/l0_backend-toc.t .... ok
Use of uninitialized value within @_ in uc at /home/graham/perltest/th_ld_perl5121/cpan/build/PerlPoint-Package-0.452-qGQkJi/blib/lib/PerlPoint/Tags.pm line 502.
Use of uninitialized value within @_ in uc at /home/graham/perltest/th_ld_perl5121/cpan/build/PerlPoint-Package-0.452-qGQkJi/blib/lib/PerlPoint/Tags.pm line 502.
t/l0_cache-fill.t ..... ok
Use of uninitialized value within @_ in uc at /home/graham/perltest/th_ld_perl5121/cpan/build/PerlPoint-Package-0.452-qGQkJi/blib/lib/PerlPoint/Tags.pm line 502.
Use of uninitialized value within @_ in uc at /home/graham/perltest/th_ld_perl5121/cpan/build/PerlPoint-Package-0.452-qGQkJi/blib/lib/PerlPoint/Tags.pm line 502.
t/l0_cache-hits.t ..... ok
t/l0_cache-remove.t ... ok
t/l0_code.t ........... ok
t/l0_comments.t ....... ok
t/l0_conditions.t ..... ok
t/l0_docstreams1.t .... ok
t/l0_docstreams2.t .... ok
t/l0_docstreams3.t .... ok
t/l0_documents.t ...... ok
t/l0_embedded.t ....... ok
Use of uninitialized value within @_ in uc at /home/graham/perltest/th_ld_perl5121/cpan/build/PerlPoint-Package-0.452-qGQkJi/blib/lib/PerlPoint/Tags.pm line 502.
Use of uninitialized value within @_ in uc at /home/graham/perltest/th_ld_perl5121/cpan/build/PerlPoint-Package-0.452-qGQkJi/blib/lib/PerlPoint/Tags.pm line 502.
t/l0_headlines.t ...... ok
t/l0_ifilters.t ....... ok
t/l0_include1.t ....... ok
t/l0_include2.t ....... ok
t/l0_include3.t ....... ok
t/l0_include6.t ....... ok
Use of uninitialized value within @_ in uc at /home/graham/perltest/th_ld_perl5121/cpan/build/PerlPoint-Package-0.452-qGQkJi/blib/lib/PerlPoint/Tags.pm line 502.
Use of uninitialized value within @_ in uc at /home/graham/perltest/th_ld_perl5121/cpan/build/PerlPoint-Package-0.452-qGQkJi/blib/lib/PerlPoint/Tags.pm line 502.
t/l0_index.t .......... ok
t/l0_linehints.t ...... ok
t/l0_lists.t .......... ok
Use of uninitialized value within @_ in uc at /home/graham/perltest/th_ld_perl5121/cpan/build/PerlPoint-Package-0.452-qGQkJi/blib/lib/PerlPoint/Tags.pm line 502.
Use of uninitialized value within @_ in uc at /home/graham/perltest/th_ld_perl5121/cpan/build/PerlPoint-Package-0.452-qGQkJi/blib/lib/PerlPoint/Tags.pm line 502.
t/l0_macros.t ......... ok
Use of uninitialized value within @_ in uc at /home/graham/perltest/th_ld_perl5121/cpan/build/PerlPoint-Package-0.452-qGQkJi/blib/lib/PerlPoint/Tags.pm line 502.
Use of uninitialized value within @_ in uc at /home/graham/perltest/th_ld_perl5121/cpan/build/PerlPoint-Package-0.452-qGQkJi/blib/lib/PerlPoint/Tags.pm line 502.
t/l0_pfilters.t ....... ok
t/l0_simple.t ......... ok
t/l0_tables.t ......... ok
Use of uninitialized value within @_ in uc at /home/graham/perltest/th_ld_perl5121/cpan/build/PerlPoint-Package-0.452-qGQkJi/blib/lib/PerlPoint/Tags.pm line 502.
Use of uninitialized value within @_ in uc at /home/graham/perltest/th_ld_perl5121/cpan/build/PerlPoint-Package-0.452-qGQkJi/blib/lib/PerlPoint/Tags.pm line 502.
t/l0_tags.t ........... ok
t/l0_text.t ........... ok
t/l0_variables1.t ..... ok
t/l0_variables2.t ..... ok
t/l0_variables3.t ..... ok
t/l0_verbatim.t ....... ok
t/l9_pod-coverage.t ... skipped: Docs not complete yet and TODO doesn't work as expected
t/l9_pod.t ............ ok
All tests successful.
Files=36, Tests=14098, 49 wallclock secs ( 7.86 usr  0.60 sys + 33.60 cusr  2.36 csys = 44.42 CPU)
Result: PASS

------------------------------
PREREQUISITES
------------------------------

Prerequisite modules loaded:

requires:

    Module        Need Have   
    ------------- ---- -------
    Digest::SHA1  1    2.13   
    File::Spec    0.8  3.31_03
    File::Temp    0.12 0.22   
    Getopt::Long  2.24 2.38   
    IO::File      1    1.14   
    Pod::Simple   3.02 3.14   
    Storable      1    2.21   
    Test::Harness 1.25 3.22   
    Test::More    0.11 0.97_01


------------------------------
ENVIRONMENT AND OTHER CONTEXT
------------------------------

Environment variables:

    AUTOMATED_TESTING = 1
    LANG = C
    PATH = /home/graham/perltest/th_ld_perl5121/perl/bin:/bin:/usr/bin:/sbin:/usr/sbin:/opt/java/bin:/opt/java/jre/bin:/opt/kde/bin:/usr/bin/perlbin/site:/usr/bin/perlbin/vendor:/usr/bin/perlbin/core:/opt/qt/bin
    PERL5LIB = 
    PERL5OPT = 
    PERL5_CPANPLUS_IS_RUNNING = 16934
    PERL5_CPAN_IS_RUNNING = 16934
    PERL5_CPAN_IS_RUNNING_IN_RECURSION = 3712,16934
    PERL_CR_SMOKER_CURRENT = PerlPoint-Package-0.452
    PERL_EXTUTILS_AUTOINSTALL = --defaultdeps
    PERL_MM_USE_DEFAULT = 1
    SHELL = /bin/bash
    TERM = xterm

Perl special variables (and OS-specific diagnostics, for MSWin32):

    $^X = /home/graham/perltest/th_ld_perl5121/perl/bin/perl
    $UID/$EUID = 1000 / 1000
    $GID = 1000 7 10 91 92 93 95 98 100 108 1000 1001
    $EGID = 1000 7 10 91 92 93 95 98 100 108 1000 1001

Perl module toolchain versions installed:

    Module              Have   
    ------------------- -------
    CPAN                1.9304 
    Cwd                 3.31_03
    ExtUtils::CBuilder  0.27_05
    ExtUtils::Command   1.16   
    ExtUtils::Install   1.52   
    ExtUtils::MakeMaker 6.57_05
    ExtUtils::Manifest  1.58   
    ExtUtils::ParseXS   2.2206 
    File::Spec          3.31_03
    Module::Build       0.36_16
    Module::Signature   0.66   
    Test::Harness       3.22   
    Test::More          0.97_01
    YAML                0.72   
    YAML::Syck          1.14   
    version             0.82   


--

Summary of my perl5 (revision 5 version 12 subversion 1) configuration:
   
  Platform:
    osname=linux, osvers=2.6.33-arch, archname=i686-linux-thread-multi-64int-ld
    uname='linux lorant 2.6.33-arch #1 smp preempt thu may 13 12:06:25 cest 2010 i686 intel(r) pentium(r) 4 cpu 2.80ghz genuineintel gnulinux '
    config_args=''
    hint=recommended, useposix=true, d_sigaction=define
    useithreads=define, usemultiplicity=define
    useperlio=define, d_sfio=undef, uselargefiles=define, usesocks=undef
    use64bitint=define, use64bitall=undef, uselongdouble=define
    usemymalloc=n, bincompat5005=undef
  Compiler:
    cc='cc', ccflags ='-D_REENTRANT -D_GNU_SOURCE -fno-strict-aliasing -pipe -fstack-protector -I/usr/local/include -D_LARGEFILE_SOURCE -D_FILE_OFFSET_BITS=64',
    optimize='-O2',
    cppflags='-D_REENTRANT -D_GNU_SOURCE -fno-strict-aliasing -pipe -fstack-protector -I/usr/local/include'
    ccversion='', gccversion='4.5.0 20100520 (prerelease)', gccosandvers=''
    intsize=4, longsize=4, ptrsize=4, doublesize=8, byteorder=12345678
    d_longlong=define, longlongsize=8, d_longdbl=define, longdblsize=12
    ivtype='long long', ivsize=8, nvtype='long double', nvsize=12, Off_t='off_t', lseeksize=8
    alignbytes=4, prototype=define
  Linker and Libraries:
    ld='cc', ldflags =' -fstack-protector -L/usr/local/lib'
    libpth=/usr/local/lib /lib /usr/lib
    libs=-lnsl -lgdbm -ldb -ldl -lm -lcrypt -lutil -lpthread -lc -lgdbm_compat
    perllibs=-lnsl -ldl -lm -lcrypt -lutil -lpthread -lc
    libc=/lib/libc-2.12.so, so=so, useshrplib=true, libperl=libperl.so
    gnulibc_version='2.12'
  Dynamic Linking:
    dlsrc=dl_dlopen.xs, dlext=so, d_dlsymun=undef, ccdlflags='-Wl,-E -Wl,-rpath,/home/graham/perltest/th_ld_perl5121/perl/lib/5.12.1/i686-linux-thread-multi-64int-ld/CORE'
    cccdlflags='-fPIC', lddlflags='-shared -O2 -L/usr/local/lib -fstack-protector'


Characteristics of this binary (from libperl): 
  Compile-time options: MULTIPLICITY PERL_DONT_CREATE_GVSV
                        PERL_IMPLICIT_CONTEXT PERL_MALLOC_WRAP USE_64_BIT_INT
                        USE_FAST_STDIO USE_ITHREADS USE_LARGE_FILES
                        USE_LONG_DOUBLE USE_PERLIO USE_PERL_ATOF
                        USE_REENTRANT_API
  Built under linux
  Compiled at Aug  7 2010 12:43:27
  %ENV:
    PERL5LIB=""
    PERL5OPT=""
    PERL5_CPANPLUS_IS_RUNNING="16934"
    PERL5_CPAN_IS_RUNNING="16934"
    PERL5_CPAN_IS_RUNNING_IN_RECURSION="3712,16934"
    PERL_CR_SMOKER_CURRENT="PerlPoint-Package-0.452"
    PERL_EXTUTILS_AUTOINSTALL="--defaultdeps"
    PERL_MM_USE_DEFAULT="1"
  @INC:
    /home/graham/perltest/th_ld_perl5121/perl/lib/site_perl/5.12.1/i686-linux-thread-multi-64int-ld
    /home/graham/perltest/th_ld_perl5121/perl/lib/site_perl/5.12.1
    /home/graham/perltest/th_ld_perl5121/perl/lib/5.12.1/i686-linux-thread-multi-64int-ld
    /home/graham/perltest/th_ld_perl5121/perl/lib/5.12.1
    .