Report for Syntax-Feature-Try-1.005

Back
From: metabase:user:30977d10-2aae-11df-837a-5e0a49663a4f
Subject: PASS Syntax-Feature-Try-1.005 v5.23.0 GNU/Linux
Date: 2016-03-07T16:29:15Z

This distribution has been tested as part of the CPAN Testers
project, supporting the Perl programming language.  See
http://wiki.cpantesters.org/ for more information or email
questions to cpan-testers-discuss@perl.org


--
Dear Tomas Pokorny,

This is a computer-generated report for Syntax-Feature-Try-1.005
on perl 5.23.0, created by CPAN-Reporter-1.2017.

Thank you for uploading your work to CPAN.  Congratulations!
All tests were successful.

Sections of this report:

    * Tester comments
    * Program output
    * Prerequisites
    * Environment and other context

------------------------------
TESTER COMMENTS
------------------------------

Additional comments from tester:

this report is from an automated smoke testing program
and was not reviewed by a human for accuracy

------------------------------
PROGRAM OUTPUT
------------------------------

Output from '/usr/bin/make test':

Running Mkbootstrap for Syntax::Feature::Try ()
chmod 644 "Try.bs"
PERL_DL_NONLAZY=1 "/home/stro/perl/5.23.0t/bin/perl" "-MExtUtils::Command::MM" "-MTest::Harness" "-e" "undef *Test::Harness::Switches; test_harness(0, 'blib/lib', 'blib/arch')" t/*.t
t/01_use_ok.t ..................... ok
t/10_parser_output.t .............. ok
t/15_parser_syntax_ok.t ........... ok
t/20_parser_syntax_errors.t ....... ok
t/20_parser_warnings.t ............ ok
t/author-critic.t ................. skipped: these tests are for testing by the author
t/author-pod-coverage.t ........... skipped: these tests are for testing by the author
t/author-pod-syntax.t ............. skipped: these tests are for testing by the author
t/catch_isa.t ..................... ok
t/catch_moose_type_constraints.t .. ok
t/catch_others.t .................. ok
t/catch_variable.t ................ ok
t/catch_without_variable.t ........ ok
t/customer_exception_matchers.t ... ok
t/exception_class.t ............... ok
t/exit.t .......................... ok
t/finally.t ....................... ok
t/import.t ........................ ok
t/last_op_in_block.t .............. ok
t/line_numbers.t .................. ok
t/localized_error_variable.t ...... ok
t/loops.t ......................... ok
t/memory_leaks.t .................. ok
t/moose_throwable.t ............... ok
t/nested.t ........................ ok
t/recursive.t ..................... ok
t/return.t ........................ ok
t/statement.t ..................... ok
t/subroutine_args.t ............... ok
t/wantarray.t ..................... ok
All tests successful.

Test Summary Report
-------------------
t/loops.t                       (Wstat: 0 Tests: 5 Failed: 0)
  TODO passed:   3, 5
Files=30, Tests=337,  3 wallclock secs ( 0.09 usr  0.01 sys +  2.02 cusr  0.11 csys =  2.23 CPU)
Result: PASS

------------------------------
PREREQUISITES
------------------------------

Prerequisite modules loaded:

requires:

    Module                       Need  Have    
    ---------------------------- ----- --------
    Carp                         0     1.38    
    perl                         5.014 5.023000
    Scalar::Util                 0     1.43    
    strict                       0     1.09    
    syntax                       0.004 0.004   
    warnings                     0     1.32    
    XSLoader                     0     0.20    

build_requires:

    Module                       Need  Have    
    ---------------------------- ----- --------
    base                         0     2.22    
    Exception::Class             0     1.39    
    Exporter                     0     5.72    
    ExtUtils::MakeMaker          0     7.10    
    FindBin                      0     1.51    
    lib                          0     0.63    
    Moose                        0     2.1605  
    Moose::Util::TypeConstraints 0     2.1605  
    syntax                       0.004 0.004   
    Test::Exception              0     0.43    
    Test::LeakTrace              0     0.15    
    Test::More                   0     1.001014
    Test::NoWarnings             0     1.04    
    Test::Spec                   0     0.50    
    Test::Warn                   0     0.30    
    Throwable                    0     0.200013

configure_requires:

    Module                       Need  Have    
    ---------------------------- ----- --------
    ExtUtils::MakeMaker          0     7.10    


------------------------------
ENVIRONMENT AND OTHER CONTEXT
------------------------------

Environment variables:

    AUTOMATED_TESTING = 1
    LANG = en_US.UTF-8
    PATH = /usr/local/bin:/usr/bin:/bin:/usr/local/games:/usr/games
    PERL5LIB = 
    PERL5OPT = 
    PERL5_CPANPLUS_IS_RUNNING = 24579
    PERL5_CPAN_IS_RUNNING = 24579
    PERL5_CPAN_IS_RUNNING_IN_RECURSION = 21651,24579
    PERL_CR_SMOKER_CURRENT = Syntax-Feature-Try-1.005
    PERL_EXTUTILS_AUTOINSTALL = --defaultdeps
    PERL_MM_USE_DEFAULT = 1
    SHELL = /bin/bash
    TERM = xterm

Perl special variables (and OS-specific diagnostics, for MSWin32):

    $^X = /home/stro/perl/5.23.0t/bin/perl
    $UID/$EUID = 1000 / 1000
    $GID = 1000 24 25 29 30 44 46 108 114 1000
    $EGID = 1000 24 25 29 30 44 46 108 114 1000

Perl module toolchain versions installed:

    Module              Have    
    ------------------- --------
    CPAN                2.12    
    CPAN::Meta          2.150005
    Cwd                 3.62    
    ExtUtils::CBuilder  0.280224
    ExtUtils::Command   7.10    
    ExtUtils::Install   2.04    
    ExtUtils::MakeMaker 7.10    
    ExtUtils::Manifest  1.70    
    ExtUtils::ParseXS   3.30    
    File::Spec          3.62    
    JSON                2.90    
    JSON::PP            2.27300 
    Module::Build       0.4216  
    Module::Signature   0.79    
    Parse::CPAN::Meta   1.4417  
    Test::Harness       3.35    
    Test::More          1.001014
    YAML                1.15    
    YAML::Syck          1.29    
    version             0.9915  


--

Summary of my perl5 (revision 5 version 23 subversion 0) configuration:
   
  Platform:
    osname=linux, osvers=3.16.0-4-amd64, archname=x86_64-linux-thread-multi
    uname='linux vm-debian-001 3.16.0-4-amd64 #1 smp debian 3.16.7-ckt11-1 (2015-05-24) x86_64 gnulinux '
    config_args=''
    hint=recommended, useposix=true, d_sigaction=define
    useithreads=define, usemultiplicity=define
    use64bitint=define, use64bitall=define, uselongdouble=undef
    usemymalloc=n, bincompat5005=undef
  Compiler:
    cc='cc', ccflags ='-D_REENTRANT -D_GNU_SOURCE -fwrapv -fno-strict-aliasing -pipe -fstack-protector-strong -I/usr/local/include -D_LARGEFILE_SOURCE -D_FILE_OFFSET_BITS=64 -D_FORTIFY_SOURCE=2',
    optimize='-O2',
    cppflags='-D_REENTRANT -D_GNU_SOURCE -fwrapv -fno-strict-aliasing -pipe -fstack-protector-strong -I/usr/local/include'
    ccversion='', gccversion='4.9.2', gccosandvers=''
    intsize=4, longsize=8, ptrsize=8, doublesize=8, byteorder=12345678, doublekind=3
    d_longlong=define, longlongsize=8, d_longdbl=define, longdblsize=16, longdblkind=3
    ivtype='long', ivsize=8, nvtype='double', nvsize=8, Off_t='off_t', lseeksize=8
    alignbytes=8, prototype=define
  Linker and Libraries:
    ld='cc', ldflags =' -fstack-protector-strong -L/usr/local/lib'
    libpth=/usr/local/lib /usr/lib/gcc/x86_64-linux-gnu/4.9/include-fixed /usr/include/x86_64-linux-gnu /usr/lib /lib/x86_64-linux-gnu /lib/../lib /usr/lib/x86_64-linux-gnu /usr/lib/../lib /lib
    libs=-lpthread -lnsl -ldl -lm -lcrypt -lutil -lc
    perllibs=-lpthread -lnsl -ldl -lm -lcrypt -lutil -lc
    libc=libc-2.19.so, so=so, useshrplib=false, libperl=libperl.a
    gnulibc_version='2.19'
  Dynamic Linking:
    dlsrc=dl_dlopen.xs, dlext=so, d_dlsymun=undef, ccdlflags='-Wl,-E'
    cccdlflags='-fPIC', lddlflags='-shared -O2 -L/usr/local/lib -fstack-protector-strong'


Characteristics of this binary (from libperl): 
  Compile-time options: HAS_TIMES MULTIPLICITY PERLIO_LAYERS
                        PERL_DONT_CREATE_GVSV
                        PERL_HASH_FUNC_ONE_AT_A_TIME_HARD
                        PERL_IMPLICIT_CONTEXT PERL_MALLOC_WRAP
                        PERL_NEW_COPY_ON_WRITE PERL_PRESERVE_IVUV
                        USE_64_BIT_ALL USE_64_BIT_INT USE_ITHREADS
                        USE_LARGE_FILES USE_LOCALE USE_LOCALE_COLLATE
                        USE_LOCALE_CTYPE USE_LOCALE_NUMERIC USE_LOCALE_TIME
                        USE_PERLIO USE_PERL_ATOF USE_REENTRANT_API
  Built under linux
  Compiled at Jul 10 2015 03:39:03
  %ENV:
    PERL5LIB=""
    PERL5OPT=""
    PERL5_CPANPLUS_IS_RUNNING="24579"
    PERL5_CPAN_IS_RUNNING="24579"
    PERL5_CPAN_IS_RUNNING_IN_RECURSION="21651,24579"
    PERL_CR_SMOKER_CURRENT="Syntax-Feature-Try-1.005"
    PERL_EXTUTILS_AUTOINSTALL="--defaultdeps"
    PERL_MM_USE_DEFAULT="1"
  @INC:
    /home/stro/perl/5.23.0t/lib/site_perl/5.23.0/x86_64-linux-thread-multi
    /home/stro/perl/5.23.0t/lib/site_perl/5.23.0
    /home/stro/perl/5.23.0t/lib/5.23.0/x86_64-linux-thread-multi
    /home/stro/perl/5.23.0t/lib/5.23.0
    .