Dist-Zilla-Plugin-InstallGuide v1.200014 Perl 5 v5.41.7 x86_64-linux-ld
- Status
- Pass
- From
- Slaven Rezić
- Dist
-
Dist-Zilla-Plugin-InstallGuide v1.200014
- Platform
- Perl 5 v5.41.7 x86_64-linux-ld
- Date
- 2024-12-26 09:28:15
- ID
- bbbcbb06-c36b-11ef-ad70-1f356e8775ea
This distribution has been tested as part of the CPAN Testers
project, supporting the Perl programming language. See
http://wiki.cpantesters.org/ for more information or email
questions to cpan-testers-discuss@perl.org
--
Dear Karen Etheridge,
This is a computer-generated report for Dist-Zilla-Plugin-InstallGuide-1.200014
on perl 5.41.7, created by CPAN-Reporter-1.2020.
Thank you for uploading your work to CPAN. Congratulations!
All tests were successful.
Sections of this report:
* Tester comments
* Program output
* Prerequisites
* Environment and other context
------------------------------
TESTER COMMENTS
------------------------------
Additional comments from tester:
none provided
------------------------------
PROGRAM OUTPUT
------------------------------
Output from './Build test':
#
# Versions for all modules listed in MYMETA.json (including optional ones):
#
# === Configure Requires ===
#
# Module Want Have
# ------------------- ----- -----
# ExtUtils::MakeMaker any 7.70
# Module::Build::Tiny 0.034 0.051
#
# === Test Requires ===
#
# Module Want Have
# ---------------- ---- --------
# File::Spec any 3.93
# Module::Metadata any 1.000038
# Path::Tiny any 0.146
# Test::DZil any 6.032
# Test::Fatal any 0.017
# Test::More any 1.302206
# if any 0.0610
#
# === Test Recommends ===
#
# Module Want Have
# ---------- -------- --------
# CPAN::Meta 2.120900 2.150010
#
# === Runtime Requires ===
#
# Module Want Have
# --------------------------------- ---- -------
# Dist::Zilla::File::InMemory any 6.032
# Dist::Zilla::Role::FileGatherer any 6.032
# Dist::Zilla::Role::FileMunger any 6.032
# Dist::Zilla::Role::ModuleMetadata any 0.006
# Dist::Zilla::Role::TextTemplate any 6.032
# List::Util 1.33 1.68_01
# Moose any 2.2207
# namespace::autoclean any 0.31
# strict any 1.13
# warnings any 1.72
#
# === Other Modules ===
#
# Module Have
# --------------- -------
# Encode 3.21
# File::Temp 0.2311
# JSON::PP 4.16
# Module::Runtime 0.016
# Pod::Coverage missing
# Sub::Name 0.28
# YAML 1.31
# autodie 2.37
#
t/00-report-prereqs.t .. ok
t/01-basic.t ........... ok
t/zzz-check-breaks.t ... ok
All tests successful.
Files=3, Tests=13, 1 wallclock secs ( 0.02 usr 0.00 sys + 1.02 cusr 0.07 csys = 1.11 CPU)
Result: PASS
------------------------------
PREREQUISITES
------------------------------
Prerequisite modules loaded:
requires:
Module Need Have
--------------------------------- ----- --------
Dist::Zilla::File::InMemory 0 6.032
Dist::Zilla::Role::FileGatherer 0 6.032
Dist::Zilla::Role::FileMunger 0 6.032
Dist::Zilla::Role::ModuleMetadata 0 0.006
Dist::Zilla::Role::TextTemplate 0 6.032
List::Util 1.33 1.68_01
Moose 0 2.2207
namespace::autoclean 0 0.31
perl 5.008 5.041007
strict 0 1.13
warnings 0 1.72
build_requires:
Module Need Have
--------------------------------- ----- --------
File::Spec 0 3.93
if 0 0.0610
Module::Metadata 0 1.000038
Path::Tiny 0 0.146
perl 5.008 5.041007
Test::DZil 0 6.032
Test::Fatal 0 0.017
Test::More 0 1.302206
configure_requires:
Module Need Have
--------------------------------- ----- --------
ExtUtils::MakeMaker 0 7.70
Module::Build::Tiny 0.034 0.051
perl 5.008 5.041007
------------------------------
ENVIRONMENT AND OTHER CONTEXT
------------------------------
Environment variables:
LANG = en_US.UTF-8
PATH = /usr/local/bin:/usr/bin:/bin:/usr/local/sbin:/usr/sbin:/sbin:/home/cpansand/bin/linux-gnu:/home/cpansand/bin/sh:/home/cpansand/bin:/usr/games:/home/cpansand/devel:/home/eserte/src/srezic-misc/scripts
PERL5LIB =
PERL5OPT =
PERL5_CPANPLUS_IS_RUNNING = 3955017
PERL5_CPAN_IS_RUNNING = 3955017
PERL5_CPAN_IS_RUNNING_IN_RECURSION = 3838690,3955017
PERLDOC = -MPod::Perldoc::ToTextOverstrike
PERL_BATCH = yes
PERL_CANARY_STABILITY_NOPROMPT = 1
PERL_CPAN_REPORTER_CONFIG = /var/tmp/cpansmoker-1023/2024122607/cpanreporter_000_config.ini
PERL_EXTUTILS_AUTOINSTALL = --defaultdeps
PERL_USE_UNSAFE_INC = 1
SHELL = /usr/bin/zsh
TERM = screen
TMPDIR = /var/tmp/cpansmoker-1023/2024122607
Perl special variables (and OS-specific diagnostics, for MSWin32):
$^X = /opt/perl-5.41.7D/bin/perl5.41.7
$UID/$EUID = 1023 / 1023
$GID = 1023 1023
$EGID = 1023 1023
Perl module toolchain versions installed:
Module Have
------------------- --------
CPAN 2.38
CPAN::Meta 2.150010
Cwd 3.92
ExtUtils::CBuilder 0.280240
ExtUtils::Command 7.70
ExtUtils::Install 2.22
ExtUtils::MakeMaker 7.70
ExtUtils::Manifest 1.75
ExtUtils::ParseXS 3.56
File::Spec 3.93
JSON 4.10
JSON::PP 4.16
Module::Build 0.4234
Module::Signature n/a
Parse::CPAN::Meta 2.150010
Test2 1.302206
Test::Harness 3.50
Test::More 1.302206
YAML 1.31
YAML::Syck 1.34
version 0.9933
--
Summary of my perl5 (revision 5 version 41 subversion 7) configuration:
Platform:
osname=linux
osvers=5.10.0-33-amd64
archname=x86_64-linux-ld
uname='linux cloud7.bbbike.org 5.10.0-33-amd64 #1 smp debian 5.10.226-1 (2024-10-03) x86_64 gnulinux '
config_args='-ds -e -Dprefix=/opt/perl-5.41.7D -Uinstallusrbinperl -Dusedevel -Dusemallocwrap=no -Duselongdouble -Dcf_email=srezic@cpan.org'
hint=recommended
useposix=true
d_sigaction=define
useithreads=undef
usemultiplicity=undef
use64bitint=define
use64bitall=define
uselongdouble=define
usemymalloc=n
default_inc_excludes_dot=define
Compiler:
cc='cc'
ccflags ='-fwrapv -fno-strict-aliasing -pipe -fstack-protector-strong -I/usr/local/include -D_LARGEFILE_SOURCE -D_FILE_OFFSET_BITS=64 -D_FORTIFY_SOURCE=2'
optimize='-O2'
cppflags='-fwrapv -fno-strict-aliasing -pipe -fstack-protector-strong -I/usr/local/include'
ccversion=''
gccversion='10.2.1 20210110'
gccosandvers=''
intsize=4
longsize=8
ptrsize=8
doublesize=8
byteorder=12345678
doublekind=3
d_longlong=define
longlongsize=8
d_longdbl=define
longdblsize=16
longdblkind=3
ivtype='long'
ivsize=8
nvtype='long double'
nvsize=16
Off_t='off_t'
lseeksize=8
alignbytes=16
prototype=define
Linker and Libraries:
ld='cc'
ldflags =' -fstack-protector-strong -L/usr/local/lib'
libpth=/usr/local/lib /usr/lib/x86_64-linux-gnu /usr/lib /usr/lib64
libs=-lpthread -lgdbm -ldb -ldl -lm -lcrypt -lutil -lc
perllibs=-lpthread -ldl -lm -lcrypt -lutil -lc
libc=libc-2.31.so
so=so
useshrplib=false
libperl=libperl.a
gnulibc_version='2.31'
Dynamic Linking:
dlsrc=dl_dlopen.xs
dlext=so
d_dlsymun=undef
ccdlflags='-Wl,-E'
cccdlflags='-fPIC'
lddlflags='-shared -O2 -L/usr/local/lib -fstack-protector-strong'
Characteristics of this binary (from libperl):
Compile-time options:
HAS_LONG_DOUBLE
HAS_STRTOLD
HAS_TIMES
PERLIO_LAYERS
PERL_COPY_ON_WRITE
PERL_DONT_CREATE_GVSV
PERL_HASH_FUNC_SIPHASH13
PERL_HASH_USE_SBOX32
PERL_OP_PARENT
PERL_PRESERVE_IVUV
PERL_USE_DEVEL
PERL_USE_SAFE_PUTENV
USE_64_BIT_ALL
USE_64_BIT_INT
USE_LARGE_FILES
USE_LOCALE
USE_LOCALE_COLLATE
USE_LOCALE_CTYPE
USE_LOCALE_NUMERIC
USE_LOCALE_TIME
USE_LONG_DOUBLE
USE_PERLIO
USE_PERL_ATOF
Built under linux
Compiled at Dec 23 2024 21:08:10
%ENV:
PERL5LIB=""
PERL5OPT=""
PERL5_CPANPLUS_IS_RUNNING="3955017"
PERL5_CPAN_IS_RUNNING="3955017"
PERL5_CPAN_IS_RUNNING_IN_RECURSION="3838690,3955017"
PERLDOC="-MPod::Perldoc::ToTextOverstrike"
PERL_BATCH="yes"
PERL_CANARY_STABILITY_NOPROMPT="1"
PERL_CPAN_REPORTER_CONFIG="/var/tmp/cpansmoker-1023/2024122607/cpanreporter_000_config.ini"
PERL_EXTUTILS_AUTOINSTALL="--defaultdeps"
PERL_USE_UNSAFE_INC="1"
@INC:
/opt/perl-5.41.7D/lib/site_perl/5.41.7/x86_64-linux-ld
/opt/perl-5.41.7D/lib/site_perl/5.41.7
/opt/perl-5.41.7D/lib/5.41.7/x86_64-linux-ld
/opt/perl-5.41.7D/lib/5.41.7
.