XML-Toolkit v0.15 Perl 5 v5.27.8 OpenBSD.amd64-openbsd

Status
Pass
From
Alceu Rodrigues de Freitas Junior
Dist
XML-Toolkit v0.15
Platform
Perl 5 v5.27.8 OpenBSD.amd64-openbsd
Date
2018-01-28 06:30:29
ID
bbad300c-03f4-11e8-af6f-94abd6fa0a8b
This distribution has been tested as part of the CPAN Testers
project, supporting the Perl programming language.  See
http://wiki.cpantesters.org/ for more information or email
questions to cpan-testers-discuss@perl.org


--
Dear Chris Prather,

This is a computer-generated report for XML-Toolkit-0.15
on perl 5.27.8, created by CPAN-Reporter-1.2018.

Thank you for uploading your work to CPAN.  Congratulations!
All tests were successful.

Sections of this report:

    * Tester comments
    * Program output
    * Prerequisites
    * Environment and other context

------------------------------
TESTER COMMENTS
------------------------------

Additional comments from tester:

this report is from an automated smoke testing program
and was not reviewed by a human for accuracy

------------------------------
PROGRAM OUTPUT
------------------------------

Output from '/usr/bin/make test':

PERL_DL_NONLAZY=1 "/home/vegeta/perl5/perlbrew/perls/perl-5.27.8/bin/perl5.27.8" "-MExtUtils::Command::MM" "-MTest::Harness" "-e" "undef *Test::Harness::Switches; test_harness(0, 'blib/lib', 'blib/arch')" t/*.t t/02.namespaces/*.t t/06.reuse/*.t
t/00-compile.t ................................ ok
Class::MOP::load_class is deprecated at /home/vegeta/perl5/perlbrew/perls/perl-5.27.8/lib/site_perl/5.27.8/OpenBSD.amd64-openbsd/Class/MOP.pm line 69.
	Class::MOP::load_class("MyTest::Note") called at /mnt/cpan_build_dir/vegeta/XML-Toolkit-0.15-0/blib/lib/XML/Toolkit/Loader/Filter.pm line 44
	XML::Toolkit::Loader::Filter::load_class(XML::Toolkit::Loader::Filter=HASH(0x19285d6c25b0), "MyTest::Note") called at /mnt/cpan_build_dir/vegeta/XML-Toolkit-0.15-0/blib/lib/XML/Toolkit/Loader/Filter.pm line 63
	XML::Toolkit::Loader::Filter::start_element(XML::Toolkit::Loader::Filter=HASH(0x19285d6c25b0), HASH(0x192819092f88)) called at /home/vegeta/perl5/perlbrew/perls/perl-5.27.8/lib/site_perl/5.27.8/OpenBSD.amd64-openbsd/XML/SAX/ExpatXS/Preload.pm line 41
	XML::SAX::ExpatXS::Preload::__ANON__(HASH(0x192819092f88)) called at /home/vegeta/perl5/perlbrew/perls/perl-5.27.8/lib/site_perl/5.27.8/OpenBSD.amd64-openbsd/XML/SAX/ExpatXS.pm line 163
	XML::SAX::ExpatXS::_parse(XML::SAX::ExpatXS=HASH(0x1927f75d4760)) called at /home/vegeta/perl5/perlbrew/perls/perl-5.27.8/lib/site_perl/5.27.8/OpenBSD.amd64-openbsd/XML/SAX/ExpatXS.pm line 102
	XML::SAX::ExpatXS::_parse_string(XML::SAX::ExpatXS=HASH(0x1927f75d4760), "<?xml version=\"1.0\"?>\x{a}<note>\x{a}    <to>Tove</to>\x{a}    <from>Jani"...) called at /home/vegeta/perl5/perlbrew/perls/perl-5.27.8/lib/site_perl/5.27.8/XML/SAX/Base.pm line 2614
	XML::SAX::Base::parse(XML::SAX::ExpatXS=HASH(0x1927f75d4760), HASH(0x192847fbdd78)) called at /home/vegeta/perl5/perlbrew/perls/perl-5.27.8/lib/site_perl/5.27.8/XML/SAX/Base.pm line 2659
	XML::SAX::Base::parse_string(XML::SAX::ExpatXS=HASH(0x1927f75d4760), "<?xml version=\"1.0\"?>\x{a}<note>\x{a}    <to>Tove</to>\x{a}    <from>Jani"...) called at inline delegation in XML::Toolkit::Loader for parser->parse_string (attribute declared in /mnt/cpan_build_dir/vegeta/XML-Toolkit-0.15-0/blib/lib/XML/Toolkit/Loader.pm at line 22) line 18
	XML::Toolkit::Loader::parse_string(XML::Toolkit::Loader=HASH(0x19284d16ef88), "<?xml version=\"1.0\"?>\x{a}<note>\x{a}    <to>Tove</to>\x{a}    <from>Jani"...) called at /home/vegeta/perl5/perlbrew/perls/perl-5.27.8/lib/site_perl/5.27.8/OpenBSD.amd64-openbsd/Class/MOP/Method/Wrapped.pm line 44
	XML::Toolkit::Loader::_wrapped_parse_string(XML::Toolkit::Loader=HASH(0x19284d16ef88), "<?xml version=\"1.0\"?>\x{a}<note>\x{a}    <to>Tove</to>\x{a}    <from>Jani"...) called at /home/vegeta/perl5/perlbrew/perls/perl-5.27.8/lib/site_perl/5.27.8/OpenBSD.amd64-openbsd/Class/MOP/Method/Wrapped.pm line 95
	XML::Toolkit::Loader::parse_string(XML::Toolkit::Loader=HASH(0x19284d16ef88), "<?xml version=\"1.0\"?>\x{a}<note>\x{a}    <to>Tove</to>\x{a}    <from>Jani"...) called at t/01.basic.t line 31
t/01.basic.t .................................. ok
Class::MOP::load_class is deprecated at /home/vegeta/perl5/perlbrew/perls/perl-5.27.8/lib/site_perl/5.27.8/OpenBSD.amd64-openbsd/Class/MOP.pm line 69.
	Class::MOP::load_class("XMLTK::Test::Foo") called at /mnt/cpan_build_dir/vegeta/XML-Toolkit-0.15-0/blib/lib/XML/Toolkit/Loader/Filter.pm line 44
	XML::Toolkit::Loader::Filter::load_class(XML::Toolkit::Loader::Filter=HASH(0x1d2783be5ef8), "XMLTK::Test::Foo") called at /mnt/cpan_build_dir/vegeta/XML-Toolkit-0.15-0/blib/lib/XML/Toolkit/Loader/Filter.pm line 63
	XML::Toolkit::Loader::Filter::start_element(XML::Toolkit::Loader::Filter=HASH(0x1d2783be5ef8), HASH(0x1d276ca8f490)) called at /home/vegeta/perl5/perlbrew/perls/perl-5.27.8/lib/site_perl/5.27.8/OpenBSD.amd64-openbsd/XML/SAX/ExpatXS/Preload.pm line 41
	XML::SAX::ExpatXS::Preload::__ANON__(HASH(0x1d276ca8f490)) called at /home/vegeta/perl5/perlbrew/perls/perl-5.27.8/lib/site_perl/5.27.8/OpenBSD.amd64-openbsd/XML/SAX/ExpatXS.pm line 163
	XML::SAX::ExpatXS::_parse(XML::SAX::ExpatXS=HASH(0x1d27470f21a8)) called at /home/vegeta/perl5/perlbrew/perls/perl-5.27.8/lib/site_perl/5.27.8/OpenBSD.amd64-openbsd/XML/SAX/ExpatXS.pm line 102
	XML::SAX::ExpatXS::_parse_string(XML::SAX::ExpatXS=HASH(0x1d27470f21a8), "<foo xmlns:my=\"http://example.org/my/\"><my:bar /></foo>") called at /home/vegeta/perl5/perlbrew/perls/perl-5.27.8/lib/site_perl/5.27.8/XML/SAX/Base.pm line 2614
	XML::SAX::Base::parse(XML::SAX::ExpatXS=HASH(0x1d27470f21a8), HASH(0x1d278763fc70)) called at /home/vegeta/perl5/perlbrew/perls/perl-5.27.8/lib/site_perl/5.27.8/XML/SAX/Base.pm line 2659
	XML::SAX::Base::parse_string(XML::SAX::ExpatXS=HASH(0x1d27470f21a8), "<foo xmlns:my=\"http://example.org/my/\"><my:bar /></foo>") called at inline delegation in XML::Toolkit::Loader for parser->parse_string (attribute declared in /mnt/cpan_build_dir/vegeta/XML-Toolkit-0.15-0/blib/lib/XML/Toolkit/Loader.pm at line 22) line 18
	XML::Toolkit::Loader::parse_string(XML::Toolkit::Loader=HASH(0x1d27e20f71c0), "<foo xmlns:my=\"http://example.org/my/\"><my:bar /></foo>") called at /home/vegeta/perl5/perlbrew/perls/perl-5.27.8/lib/site_perl/5.27.8/OpenBSD.amd64-openbsd/Class/MOP/Method/Wrapped.pm line 44
	XML::Toolkit::Loader::_wrapped_parse_string(XML::Toolkit::Loader=HASH(0x1d27e20f71c0), "<foo xmlns:my=\"http://example.org/my/\"><my:bar /></foo>") called at /home/vegeta/perl5/perlbrew/perls/perl-5.27.8/lib/site_perl/5.27.8/OpenBSD.amd64-openbsd/Class/MOP/Method/Wrapped.pm line 95
	XML::Toolkit::Loader::parse_string(XML::Toolkit::Loader=HASH(0x1d27e20f71c0), "<foo xmlns:my=\"http://example.org/my/\"><my:bar /></foo>") called at t/02.namespaces/01.basic_namespace.t line 36
t/02.namespaces/01.basic_namespace.t .......... ok
Class::MOP::load_class is deprecated at /home/vegeta/perl5/perlbrew/perls/perl-5.27.8/lib/site_perl/5.27.8/OpenBSD.amd64-openbsd/Class/MOP.pm line 69.
	Class::MOP::load_class("ABC::Root") called at /mnt/cpan_build_dir/vegeta/XML-Toolkit-0.15-0/blib/lib/XML/Toolkit/Loader/Filter.pm line 44
	XML::Toolkit::Loader::Filter::load_class(XML::Toolkit::Loader::Filter=HASH(0x16de3a106e38), "ABC::Root") called at /mnt/cpan_build_dir/vegeta/XML-Toolkit-0.15-0/blib/lib/XML/Toolkit/Loader/Filter.pm line 63
	XML::Toolkit::Loader::Filter::start_element(XML::Toolkit::Loader::Filter=HASH(0x16de3a106e38), HASH(0x16de139fd0b8)) called at /home/vegeta/perl5/perlbrew/perls/perl-5.27.8/lib/site_perl/5.27.8/OpenBSD.amd64-openbsd/XML/SAX/ExpatXS/Preload.pm line 41
	XML::SAX::ExpatXS::Preload::__ANON__(HASH(0x16de139fd0b8)) called at /home/vegeta/perl5/perlbrew/perls/perl-5.27.8/lib/site_perl/5.27.8/OpenBSD.amd64-openbsd/XML/SAX/ExpatXS.pm line 163
	XML::SAX::ExpatXS::_parse(XML::SAX::ExpatXS=HASH(0x16de6a2f4640)) called at /home/vegeta/perl5/perlbrew/perls/perl-5.27.8/lib/site_perl/5.27.8/OpenBSD.amd64-openbsd/XML/SAX/ExpatXS.pm line 102
	XML::SAX::ExpatXS::_parse_string(XML::SAX::ExpatXS=HASH(0x16de6a2f4640), "<root xmlns=\"abc\">test1</root>") called at /home/vegeta/perl5/perlbrew/perls/perl-5.27.8/lib/site_perl/5.27.8/XML/SAX/Base.pm line 2614
	XML::SAX::Base::parse(XML::SAX::ExpatXS=HASH(0x16de6a2f4640), HASH(0x16debb342610)) called at /home/vegeta/perl5/perlbrew/perls/perl-5.27.8/lib/site_perl/5.27.8/XML/SAX/Base.pm line 2659
	XML::SAX::Base::parse_string(XML::SAX::ExpatXS=HASH(0x16de6a2f4640), "<root xmlns=\"abc\">test1</root>") called at inline delegation in XML::Toolkit::Loader for parser->parse_string (attribute declared in /mnt/cpan_build_dir/vegeta/XML-Toolkit-0.15-0/blib/lib/XML/Toolkit/Loader.pm at line 22) line 18
	XML::Toolkit::Loader::parse_string(XML::Toolkit::Loader=HASH(0x16ddf3eaaa48), "<root xmlns=\"abc\">test1</root>") called at /home/vegeta/perl5/perlbrew/perls/perl-5.27.8/lib/site_perl/5.27.8/OpenBSD.amd64-openbsd/Class/MOP/Method/Wrapped.pm line 44
	XML::Toolkit::Loader::_wrapped_parse_string(XML::Toolkit::Loader=HASH(0x16ddf3eaaa48), "<root xmlns=\"abc\">test1</root>") called at /home/vegeta/perl5/perlbrew/perls/perl-5.27.8/lib/site_perl/5.27.8/OpenBSD.amd64-openbsd/Class/MOP/Method/Wrapped.pm line 95
	XML::Toolkit::Loader::parse_string(XML::Toolkit::Loader=HASH(0x16ddf3eaaa48), "<root xmlns=\"abc\">test1</root>") called at t/02.namespaces/02.root_namespace_equality.t line 26
t/02.namespaces/02.root_namespace_equality.t .. ok
Class::MOP::is_class_loaded is deprecated at /home/vegeta/perl5/perlbrew/perls/perl-5.27.8/lib/site_perl/5.27.8/OpenBSD.amd64-openbsd/Class/MOP.pm line 87.
	Class::MOP::is_class_loaded("MyApp::Root") called at t/02.namespaces/03.namespaced_loading.t line 39
	eval {...} called at t/02.namespaces/03.namespaced_loading.t line 34
Class::MOP::load_class is deprecated at /home/vegeta/perl5/perlbrew/perls/perl-5.27.8/lib/site_perl/5.27.8/OpenBSD.amd64-openbsd/Class/MOP.pm line 69.
	Class::MOP::load_class("MyApp::Root") called at /mnt/cpan_build_dir/vegeta/XML-Toolkit-0.15-0/blib/lib/XML/Toolkit/Loader/Filter.pm line 44
	XML::Toolkit::Loader::Filter::load_class(XML::Toolkit::Loader::Filter=HASH(0x871af01e5e0), "MyApp::Root") called at /mnt/cpan_build_dir/vegeta/XML-Toolkit-0.15-0/blib/lib/XML/Toolkit/Loader/Filter.pm line 63
	XML::Toolkit::Loader::Filter::start_element(XML::Toolkit::Loader::Filter=HASH(0x871af01e5e0), HASH(0x871eaccacd0)) called at /home/vegeta/perl5/perlbrew/perls/perl-5.27.8/lib/site_perl/5.27.8/OpenBSD.amd64-openbsd/XML/SAX/ExpatXS/Preload.pm line 41
	XML::SAX::ExpatXS::Preload::__ANON__(HASH(0x871eaccacd0)) called at /home/vegeta/perl5/perlbrew/perls/perl-5.27.8/lib/site_perl/5.27.8/OpenBSD.amd64-openbsd/XML/SAX/ExpatXS.pm line 163
	XML::SAX::ExpatXS::_parse(XML::SAX::ExpatXS=HASH(0x8722e305d18)) called at /home/vegeta/perl5/perlbrew/perls/perl-5.27.8/lib/site_perl/5.27.8/OpenBSD.amd64-openbsd/XML/SAX/ExpatXS.pm line 102
	XML::SAX::ExpatXS::_parse_string(XML::SAX::ExpatXS=HASH(0x8722e305d18), "<root xmlns:a=\"a\" xmlns:b=\"b\">\x{a}    <a:one>oneA</a:one>\x{a}    <b"...) called at /home/vegeta/perl5/perlbrew/perls/perl-5.27.8/lib/site_perl/5.27.8/XML/SAX/Base.pm line 2614
	XML::SAX::Base::parse(XML::SAX::ExpatXS=HASH(0x8722e305d18), HASH(0x87219e8c610)) called at /home/vegeta/perl5/perlbrew/perls/perl-5.27.8/lib/site_perl/5.27.8/XML/SAX/Base.pm line 2659
	XML::SAX::Base::parse_string(XML::SAX::ExpatXS=HASH(0x8722e305d18), "<root xmlns:a=\"a\" xmlns:b=\"b\">\x{a}    <a:one>oneA</a:one>\x{a}    <b"...) called at inline delegation in XML::Toolkit::Loader for parser->parse_string (attribute declared in /mnt/cpan_build_dir/vegeta/XML-Toolkit-0.15-0/blib/lib/XML/Toolkit/Loader.pm at line 22) line 18
	XML::Toolkit::Loader::parse_string(XML::Toolkit::Loader=HASH(0x8722f101160), "<root xmlns:a=\"a\" xmlns:b=\"b\">\x{a}    <a:one>oneA</a:one>\x{a}    <b"...) called at /home/vegeta/perl5/perlbrew/perls/perl-5.27.8/lib/site_perl/5.27.8/OpenBSD.amd64-openbsd/Class/MOP/Method/Wrapped.pm line 44
	XML::Toolkit::Loader::_wrapped_parse_string(XML::Toolkit::Loader=HASH(0x8722f101160), "<root xmlns:a=\"a\" xmlns:b=\"b\">\x{a}    <a:one>oneA</a:one>\x{a}    <b"...) called at /home/vegeta/perl5/perlbrew/perls/perl-5.27.8/lib/site_perl/5.27.8/OpenBSD.amd64-openbsd/Class/MOP/Method/Wrapped.pm line 95
	XML::Toolkit::Loader::parse_string(XML::Toolkit::Loader=HASH(0x8722f101160), "<root xmlns:a=\"a\" xmlns:b=\"b\">\x{a}    <a:one>oneA</a:one>\x{a}    <b"...) called at t/02.namespaces/03.namespaced_loading.t line 47
	eval {...} called at t/02.namespaces/03.namespaced_loading.t line 45
t/02.namespaces/03.namespaced_loading.t ....... ok
Class::MOP::load_class is deprecated at /home/vegeta/perl5/perlbrew/perls/perl-5.27.8/lib/site_perl/5.27.8/OpenBSD.amd64-openbsd/Class/MOP.pm line 69.
	Class::MOP::load_class("XML::XSPF::Playlist") called at /mnt/cpan_build_dir/vegeta/XML-Toolkit-0.15-0/blib/lib/XML/Toolkit/Loader/Filter.pm line 44
	XML::Toolkit::Loader::Filter::load_class(XML::Toolkit::Loader::Filter=HASH(0x16df0e228cd0), "XML::XSPF::Playlist") called at /mnt/cpan_build_dir/vegeta/XML-Toolkit-0.15-0/blib/lib/XML/Toolkit/Loader/Filter.pm line 63
	XML::Toolkit::Loader::Filter::start_element(XML::Toolkit::Loader::Filter=HASH(0x16df0e228cd0), HASH(0x16df771cfe50)) called at /home/vegeta/perl5/perlbrew/perls/perl-5.27.8/lib/site_perl/5.27.8/OpenBSD.amd64-openbsd/XML/SAX/ExpatXS/Preload.pm line 41
	XML::SAX::ExpatXS::Preload::__ANON__(HASH(0x16df771cfe50)) called at /home/vegeta/perl5/perlbrew/perls/perl-5.27.8/lib/site_perl/5.27.8/OpenBSD.amd64-openbsd/XML/SAX/ExpatXS.pm line 163
	XML::SAX::ExpatXS::_parse(XML::SAX::ExpatXS=HASH(0x16df2cfca478)) called at /home/vegeta/perl5/perlbrew/perls/perl-5.27.8/lib/site_perl/5.27.8/OpenBSD.amd64-openbsd/XML/SAX/ExpatXS.pm line 102
	XML::SAX::ExpatXS::_parse_string(XML::SAX::ExpatXS=HASH(0x16df2cfca478), "<?xml version=\"1.0\" encoding=\"utf-8\"?>\x{a}<playlist version=\"1\" "...) called at /home/vegeta/perl5/perlbrew/perls/perl-5.27.8/lib/site_perl/5.27.8/XML/SAX/Base.pm line 2614
	XML::SAX::Base::parse(XML::SAX::ExpatXS=HASH(0x16df2cfca478), HASH(0x16dede3221a8)) called at /home/vegeta/perl5/perlbrew/perls/perl-5.27.8/lib/site_perl/5.27.8/XML/SAX/Base.pm line 2659
	XML::SAX::Base::parse_string(XML::SAX::ExpatXS=HASH(0x16df2cfca478), "<?xml version=\"1.0\" encoding=\"utf-8\"?>\x{a}<playlist version=\"1\" "...) called at inline delegation in XML::Toolkit::Loader for parser->parse_string (attribute declared in /mnt/cpan_build_dir/vegeta/XML-Toolkit-0.15-0/blib/lib/XML/Toolkit/Loader.pm at line 22) line 18
	XML::Toolkit::Loader::parse_string(XML::Toolkit::Loader=HASH(0x16dede322190), "<?xml version=\"1.0\" encoding=\"utf-8\"?>\x{a}<playlist version=\"1\" "...) called at /home/vegeta/perl5/perlbrew/perls/perl-5.27.8/lib/site_perl/5.27.8/OpenBSD.amd64-openbsd/Class/MOP/Method/Wrapped.pm line 44
	XML::Toolkit::Loader::_wrapped_parse_string(XML::Toolkit::Loader=HASH(0x16dede322190), "<?xml version=\"1.0\" encoding=\"utf-8\"?>\x{a}<playlist version=\"1\" "...) called at /home/vegeta/perl5/perlbrew/perls/perl-5.27.8/lib/site_perl/5.27.8/OpenBSD.amd64-openbsd/Class/MOP/Method/Wrapped.pm line 95
	XML::Toolkit::Loader::parse_string(XML::Toolkit::Loader=HASH(0x16dede322190), "<?xml version=\"1.0\" encoding=\"utf-8\"?>\x{a}<playlist version=\"1\" "...) called at t/03.xspf.t line 45
t/03.xspf.t ................................... ok
Class::MOP::load_class is deprecated at /home/vegeta/perl5/perlbrew/perls/perl-5.27.8/lib/site_perl/5.27.8/OpenBSD.amd64-openbsd/Class/MOP.pm line 69.
	Class::MOP::load_class("XML::RDF::RDF") called at /mnt/cpan_build_dir/vegeta/XML-Toolkit-0.15-0/blib/lib/XML/Toolkit/Loader/Filter.pm line 44
	XML::Toolkit::Loader::Filter::load_class(XML::Toolkit::Loader::Filter=HASH(0x1a4b8c254e68), "XML::RDF::RDF") called at /mnt/cpan_build_dir/vegeta/XML-Toolkit-0.15-0/blib/lib/XML/Toolkit/Loader/Filter.pm line 63
	XML::Toolkit::Loader::Filter::start_element(XML::Toolkit::Loader::Filter=HASH(0x1a4b8c254e68), HASH(0x1a4b1b0afe80)) called at /home/vegeta/perl5/perlbrew/perls/perl-5.27.8/lib/site_perl/5.27.8/OpenBSD.amd64-openbsd/XML/SAX/ExpatXS/Preload.pm line 41
	XML::SAX::ExpatXS::Preload::__ANON__(HASH(0x1a4b1b0afe80)) called at /home/vegeta/perl5/perlbrew/perls/perl-5.27.8/lib/site_perl/5.27.8/OpenBSD.amd64-openbsd/XML/SAX/ExpatXS.pm line 163
	XML::SAX::ExpatXS::_parse(XML::SAX::ExpatXS=HASH(0x1a4afd8e6598)) called at /home/vegeta/perl5/perlbrew/perls/perl-5.27.8/lib/site_perl/5.27.8/OpenBSD.amd64-openbsd/XML/SAX/ExpatXS.pm line 102
	XML::SAX::ExpatXS::_parse_string(XML::SAX::ExpatXS=HASH(0x1a4afd8e6598), "<?xml version=\"1.0\" encoding=\"utf-8\"?>\x{a}<rdf:RDF\x{a}  xmlns:rdf=\""...) called at /home/vegeta/perl5/perlbrew/perls/perl-5.27.8/lib/site_perl/5.27.8/XML/SAX/Base.pm line 2614
	XML::SAX::Base::parse(XML::SAX::ExpatXS=HASH(0x1a4afd8e6598), HASH(0x1a4b61ae5808)) called at /home/vegeta/perl5/perlbrew/perls/perl-5.27.8/lib/site_perl/5.27.8/XML/SAX/Base.pm line 2659
	XML::SAX::Base::parse_string(XML::SAX::ExpatXS=HASH(0x1a4afd8e6598), "<?xml version=\"1.0\" encoding=\"utf-8\"?>\x{a}<rdf:RDF\x{a}  xmlns:rdf=\""...) called at inline delegation in XML::Toolkit::Loader for parser->parse_string (attribute declared in /mnt/cpan_build_dir/vegeta/XML-Toolkit-0.15-0/blib/lib/XML/Toolkit/Loader.pm at line 22) line 18
	XML::Toolkit::Loader::parse_string(XML::Toolkit::Loader=HASH(0x1a4b94986d30), "<?xml version=\"1.0\" encoding=\"utf-8\"?>\x{a}<rdf:RDF\x{a}  xmlns:rdf=\""...) called at /home/vegeta/perl5/perlbrew/perls/perl-5.27.8/lib/site_perl/5.27.8/OpenBSD.amd64-openbsd/Class/MOP/Method/Wrapped.pm line 44
	XML::Toolkit::Loader::_wrapped_parse_string(XML::Toolkit::Loader=HASH(0x1a4b94986d30), "<?xml version=\"1.0\" encoding=\"utf-8\"?>\x{a}<rdf:RDF\x{a}  xmlns:rdf=\""...) called at /home/vegeta/perl5/perlbrew/perls/perl-5.27.8/lib/site_perl/5.27.8/OpenBSD.amd64-openbsd/Class/MOP/Method/Wrapped.pm line 95
	XML::Toolkit::Loader::parse_string(XML::Toolkit::Loader=HASH(0x1a4b94986d30), "<?xml version=\"1.0\" encoding=\"utf-8\"?>\x{a}<rdf:RDF\x{a}  xmlns:rdf=\""...) called at t/04.rdf.t line 42
t/04.rdf.t .................................... ok
Class::MOP::load_class is deprecated at /home/vegeta/perl5/perlbrew/perls/perl-5.27.8/lib/site_perl/5.27.8/OpenBSD.amd64-openbsd/Class/MOP.pm line 69.
	Class::MOP::load_class("MyApp::Code") called at /mnt/cpan_build_dir/vegeta/XML-Toolkit-0.15-0/blib/lib/XML/Toolkit/Loader/Filter.pm line 44
	XML::Toolkit::Loader::Filter::load_class(XML::Toolkit::Loader::Filter=HASH(0x1b297bc16700), "MyApp::Code") called at /mnt/cpan_build_dir/vegeta/XML-Toolkit-0.15-0/blib/lib/XML/Toolkit/Loader/Filter.pm line 63
	XML::Toolkit::Loader::Filter::start_element(XML::Toolkit::Loader::Filter=HASH(0x1b297bc16700), HASH(0x1b28ecad9ee0)) called at /home/vegeta/perl5/perlbrew/perls/perl-5.27.8/lib/site_perl/5.27.8/OpenBSD.amd64-openbsd/XML/SAX/ExpatXS/Preload.pm line 41
	XML::SAX::ExpatXS::Preload::__ANON__(HASH(0x1b28ecad9ee0)) called at /home/vegeta/perl5/perlbrew/perls/perl-5.27.8/lib/site_perl/5.27.8/OpenBSD.amd64-openbsd/XML/SAX/ExpatXS.pm line 163
	XML::SAX::ExpatXS::_parse(XML::SAX::ExpatXS=HASH(0x1b290b13b790)) called at /home/vegeta/perl5/perlbrew/perls/perl-5.27.8/lib/site_perl/5.27.8/OpenBSD.amd64-openbsd/XML/SAX/ExpatXS.pm line 102
	XML::SAX::ExpatXS::_parse_string(XML::SAX::ExpatXS=HASH(0x1b290b13b790), "<code><![CDATA[<crackers \x{26} cheese>]]></code>") called at /home/vegeta/perl5/perlbrew/perls/perl-5.27.8/lib/site_perl/5.27.8/XML/SAX/Base.pm line 2614
	XML::SAX::Base::parse(XML::SAX::ExpatXS=HASH(0x1b290b13b790), HASH(0x1b29580f6aa8)) called at /home/vegeta/perl5/perlbrew/perls/perl-5.27.8/lib/site_perl/5.27.8/XML/SAX/Base.pm line 2659
	XML::SAX::Base::parse_string(XML::SAX::ExpatXS=HASH(0x1b290b13b790), "<code><![CDATA[<crackers \x{26} cheese>]]></code>") called at inline delegation in XML::Toolkit::Loader for parser->parse_string (attribute declared in /mnt/cpan_build_dir/vegeta/XML-Toolkit-0.15-0/blib/lib/XML/Toolkit/Loader.pm at line 22) line 18
	XML::Toolkit::Loader::parse_string(XML::Toolkit::Loader=HASH(0x1b28caabd0d0), "<code><![CDATA[<crackers \x{26} cheese>]]></code>") called at /home/vegeta/perl5/perlbrew/perls/perl-5.27.8/lib/site_perl/5.27.8/OpenBSD.amd64-openbsd/Class/MOP/Method/Wrapped.pm line 44
	XML::Toolkit::Loader::_wrapped_parse_string(XML::Toolkit::Loader=HASH(0x1b28caabd0d0), "<code><![CDATA[<crackers \x{26} cheese>]]></code>") called at /home/vegeta/perl5/perlbrew/perls/perl-5.27.8/lib/site_perl/5.27.8/OpenBSD.amd64-openbsd/Class/MOP/Method/Wrapped.pm line 95
	XML::Toolkit::Loader::parse_string(XML::Toolkit::Loader=HASH(0x1b28caabd0d0), "<code><![CDATA[<crackers \x{26} cheese>]]></code>") called at t/05.cdata.t line 26
t/05.cdata.t .................................. ok
Class::MOP::load_class is deprecated at /home/vegeta/perl5/perlbrew/perls/perl-5.27.8/lib/site_perl/5.27.8/OpenBSD.amd64-openbsd/Class/MOP.pm line 69.
	Class::MOP::load_class("MyTest::Note") called at /mnt/cpan_build_dir/vegeta/XML-Toolkit-0.15-0/blib/lib/XML/Toolkit/Loader/Filter.pm line 44
	XML::Toolkit::Loader::Filter::load_class(XML::Toolkit::Loader::Filter=HASH(0x1a6e5c17d8c8), "MyTest::Note") called at /mnt/cpan_build_dir/vegeta/XML-Toolkit-0.15-0/blib/lib/XML/Toolkit/Loader/Filter.pm line 63
	XML::Toolkit::Loader::Filter::start_element(XML::Toolkit::Loader::Filter=HASH(0x1a6e5c17d8c8), HASH(0x1a6ea32e0580)) called at /home/vegeta/perl5/perlbrew/perls/perl-5.27.8/lib/site_perl/5.27.8/OpenBSD.amd64-openbsd/XML/SAX/ExpatXS/Preload.pm line 41
	XML::SAX::ExpatXS::Preload::__ANON__(HASH(0x1a6ea32e0580)) called at /home/vegeta/perl5/perlbrew/perls/perl-5.27.8/lib/site_perl/5.27.8/OpenBSD.amd64-openbsd/XML/SAX/ExpatXS.pm line 163
	XML::SAX::ExpatXS::_parse(XML::SAX::ExpatXS=HASH(0x1a6ed5a62bc8)) called at /home/vegeta/perl5/perlbrew/perls/perl-5.27.8/lib/site_perl/5.27.8/OpenBSD.amd64-openbsd/XML/SAX/ExpatXS.pm line 102
	XML::SAX::ExpatXS::_parse_string(XML::SAX::ExpatXS=HASH(0x1a6ed5a62bc8), "<?xml version=\"1.0\"?>\x{a}<note>\x{a}    <to>Tove</to>\x{a}    <from>Jani"...) called at /home/vegeta/perl5/perlbrew/perls/perl-5.27.8/lib/site_perl/5.27.8/XML/SAX/Base.pm line 2614
	XML::SAX::Base::parse(XML::SAX::ExpatXS=HASH(0x1a6ed5a62bc8), HASH(0x1a6e4833b838)) called at /home/vegeta/perl5/perlbrew/perls/perl-5.27.8/lib/site_perl/5.27.8/XML/SAX/Base.pm line 2659
	XML::SAX::Base::parse_string(XML::SAX::ExpatXS=HASH(0x1a6ed5a62bc8), "<?xml version=\"1.0\"?>\x{a}<note>\x{a}    <to>Tove</to>\x{a}    <from>Jani"...) called at inline delegation in XML::Toolkit::Loader for parser->parse_string (attribute declared in /mnt/cpan_build_dir/vegeta/XML-Toolkit-0.15-0/blib/lib/XML/Toolkit/Loader.pm at line 22) line 18
	XML::Toolkit::Loader::parse_string(XML::Toolkit::Loader=HASH(0x1a6e9ceaae98), "<?xml version=\"1.0\"?>\x{a}<note>\x{a}    <to>Tove</to>\x{a}    <from>Jani"...) called at /home/vegeta/perl5/perlbrew/perls/perl-5.27.8/lib/site_perl/5.27.8/OpenBSD.amd64-openbsd/Class/MOP/Method/Wrapped.pm line 44
	XML::Toolkit::Loader::_wrapped_parse_string(XML::Toolkit::Loader=HASH(0x1a6e9ceaae98), "<?xml version=\"1.0\"?>\x{a}<note>\x{a}    <to>Tove</to>\x{a}    <from>Jani"...) called at /home/vegeta/perl5/perlbrew/perls/perl-5.27.8/lib/site_perl/5.27.8/OpenBSD.amd64-openbsd/Class/MOP/Method/Wrapped.pm line 95
	XML::Toolkit::Loader::parse_string(XML::Toolkit::Loader=HASH(0x1a6e9ceaae98), "<?xml version=\"1.0\"?>\x{a}<note>\x{a}    <to>Tove</to>\x{a}    <from>Jani"...) called at t/06.reuse/06.reuse_generator.t line 41
t/06.reuse/06.reuse_generator.t ............... ok
Class::MOP::load_class is deprecated at /home/vegeta/perl5/perlbrew/perls/perl-5.27.8/lib/site_perl/5.27.8/OpenBSD.amd64-openbsd/Class/MOP.pm line 69.
	Class::MOP::load_class() called at /mnt/cpan_build_dir/vegeta/XML-Toolkit-0.15-0/blib/lib/XML/Toolkit/Loader/Filter.pm line 44
	XML::Toolkit::Loader::Filter::load_class() called at /mnt/cpan_build_dir/vegeta/XML-Toolkit-0.15-0/blib/lib/XML/Toolkit/Loader/Filter.pm line 63
	XML::Toolkit::Loader::Filter::start_element() called at /home/vegeta/perl5/perlbrew/perls/perl-5.27.8/lib/site_perl/5.27.8/OpenBSD.amd64-openbsd/XML/SAX/ExpatXS/Preload.pm line 41
	XML::SAX::ExpatXS::Preload::__ANON__() called at /home/vegeta/perl5/perlbrew/perls/perl-5.27.8/lib/site_perl/5.27.8/OpenBSD.amd64-openbsd/XML/SAX/ExpatXS.pm line 163
	XML::SAX::ExpatXS::_parse() called at /home/vegeta/perl5/perlbrew/perls/perl-5.27.8/lib/site_perl/5.27.8/OpenBSD.amd64-openbsd/XML/SAX/ExpatXS.pm line 102
	XML::SAX::ExpatXS::_parse_string() called at /home/vegeta/perl5/perlbrew/perls/perl-5.27.8/lib/site_perl/5.27.8/XML/SAX/Base.pm line 2614
	XML::SAX::Base::parse() called at /home/vegeta/perl5/perlbrew/perls/perl-5.27.8/lib/site_perl/5.27.8/XML/SAX/Base.pm line 2659
	XML::SAX::Base::parse_string() called at inline delegation in XML::Toolkit::Loader for parser->parse_string (attribute declared in /mnt/cpan_build_dir/vegeta/XML-Toolkit-0.15-0/blib/lib/XML/Toolkit/Loader.pm at line 22) line 18
	XML::Toolkit::Loader::parse_string() called at /home/vegeta/perl5/perlbrew/perls/perl-5.27.8/lib/site_perl/5.27.8/OpenBSD.amd64-openbsd/Class/MOP/Method/Wrapped.pm line 44
	XML::Toolkit::Loader::_wrapped_parse_string() called at /home/vegeta/perl5/perlbrew/perls/perl-5.27.8/lib/site_perl/5.27.8/OpenBSD.amd64-openbsd/Class/MOP/Method/Wrapped.pm line 95
	XML::Toolkit::Loader::parse_string() called at t/06.reuse/06.reuse_loader.t line 42
	Test::Exception::lives_ok() called at t/06.reuse/06.reuse_loader.t line 42
t/06.reuse/06.reuse_loader.t .................. ok
t/release-pod-coverage.t ...................... skipped: these tests are for release candidate testing
t/release-pod-syntax.t ........................ skipped: these tests are for release candidate testing
All tests successful.
Files=12, Tests=91, 29 wallclock secs ( 0.03 usr  0.17 sys + 21.96 cusr  4.28 csys = 26.44 CPU)
Result: PASS

------------------------------
PREREQUISITES
------------------------------

Prerequisite modules loaded:

requires:

    Module                                   Need Have    
    ---------------------------------------- ---- --------
    aliased                                  0    0.34    
    Bread::Board                             0    0.36    
    Bread::Board::Container                  0    0.36    
    Devel::PackagePath                       0.01 0.03    
    Encode                                   0    2.94    
    Moose                                    0.92 2.2009  
    Moose::Role                              0    2.2009  
    Moose::Util::TypeConstraints             0    2.2009  
    MooseX::Aliases                          0    0.11    
    MooseX::App::Cmd                         0    0.32    
    MooseX::App::Cmd::Command                0    0.32    
    MooseX::Getopt::Dashes                   0    0.71    
    MooseX::MetaDescription                  0.03 0.06    
    MooseX::MetaDescription::Description     0    0.06    
    MooseX::MetaDescription::Meta::Attribute 0    0.06    
    MooseX::MetaDescription::Meta::Trait     0    0.06    
    MooseX::NonMoose                         0    0.26    
    MooseX::Types::Path::Class               0.04 0.09    
    namespace::autoclean                     0    0.28    
    strict                                   0    1.11    
    Template                                 2.20 2.27    
    warnings                                 0    1.40    
    XML::SAX                                 0.96 0.99    
    XML::SAX::Base                           0    1.09    
    XML::SAX::Writer                         0.50 0.57    

build_requires:

    Module                                   Need Have    
    ---------------------------------------- ---- --------
    File::Find                               0    1.34    
    File::Temp                               0    0.2304  
    Path::Class                              0    0.37    
    Test::Deep                               0    1.127   
    Test::Exception                          0    0.43    
    Test::More                               0    1.302120
    Test::Simple                             0.94 1.302120
    Test::XML                                0.00 0.08    

configure_requires:

    Module                                   Need Have    
    ---------------------------------------- ---- --------
    ExtUtils::MakeMaker                      6.30 7.31_07 


------------------------------
ENVIRONMENT AND OTHER CONTEXT
------------------------------

Environment variables:

    AUTOMATED_TESTING = 1
    DBD_MYSQL_TESTDB = test
    DBD_MYSQL_TESTHOST = localhost
    DBD_MYSQL_TESTPASSWORD = 
    DBD_MYSQL_TESTPORT = 3306
    DBD_MYSQL_TESTUSER = vegeta
    EXTENDED_TESTING = 1
    PATH = /home/vegeta/perl5/perlbrew/bin:/home/vegeta/perl5/perlbrew/perls/perl-5.27.8/bin:/home/vegeta/bin:/usr/bin:/bin:/usr/sbin:/sbin:/usr/X11R6/bin:/usr/local/bin:/usr/local/sbin
    PERL5LIB = 
    PERL5OPT = 
    PERL5_CPANPLUS_IS_RUNNING = 37091
    PERL5_CPAN_IS_RUNNING = 37091
    PERL5_CPAN_IS_RUNNING_IN_RECURSION = 93931,37091
    PERLBREW_HOME = /home/vegeta/.perlbrew
    PERLBREW_MANPATH = /home/vegeta/perl5/perlbrew/perls/perl-5.27.8/man
    PERLBREW_PATH = /home/vegeta/perl5/perlbrew/bin:/home/vegeta/perl5/perlbrew/perls/perl-5.27.8/bin
    PERLBREW_PERL = perl-5.27.8
    PERLBREW_ROOT = /home/vegeta/perl5/perlbrew
    PERLBREW_SHELLRC_VERSION = 0.82
    PERLBREW_VERSION = 0.82
    PERL_CR_SMOKER_CURRENT = task-belike-est-0.02
    PERL_EXTUTILS_AUTOINSTALL = --defaultdeps
    PERL_MM_USE_DEFAULT = 1
    PERL_USE_UNSAFE_INC = 1
    SHELL = /usr/local/bin/bash
    TERM = vt220

Perl special variables (and OS-specific diagnostics, for MSWin32):

    $^X = /home/vegeta/perl5/perlbrew/perls/perl-5.27.8/bin/perl5.27.8
    $UID/$EUID = 1002 / 1002
    $GID = 1002 1002 1001
    $EGID = 1002 1002 1001

Perl module toolchain versions installed:

    Module              Have    
    ------------------- --------
    CPAN                2.20    
    CPAN::Meta          2.150010
    Cwd                 3.62    
    ExtUtils::CBuilder  0.280230
    ExtUtils::Command   7.31_07 
    ExtUtils::Install   2.14    
    ExtUtils::MakeMaker 7.31_07 
    ExtUtils::Manifest  1.70    
    ExtUtils::ParseXS   3.35    
    File::Spec          3.62    
    JSON                2.97001 
    JSON::PP            2.97001 
    Module::Build       0.4224  
    Module::Signature   n/a     
    Parse::CPAN::Meta   2.150010
    Test::Harness       3.39    
    Test::More          1.302120
    YAML                1.24    
    YAML::Syck          n/a     
    version             0.9918  


--

Summary of my perl5 (revision 5 version 27 subversion 8) configuration:
   
  Platform:
    osname=openbsd
    osvers=6.2
    archname=OpenBSD.amd64-openbsd
    uname='openbsd cpan-smoker-openbsd 6.2 generic.mp#134 amd64 '
    config_args='-de -Dprefix=/home/vegeta/perl5/perlbrew/perls/perl-5.27.8 -Dusedevel -Aeval:scriptdir=/home/vegeta/perl5/perlbrew/perls/perl-5.27.8/bin'
    hint=recommended
    useposix=true
    d_sigaction=define
    useithreads=undef
    usemultiplicity=undef
    use64bitint=define
    use64bitall=define
    uselongdouble=undef
    usemymalloc=n
    default_inc_excludes_dot=define
    bincompat5005=undef
  Compiler:
    cc='cc'
    ccflags ='-fno-strict-aliasing -pipe -fstack-protector-strong -I/usr/local/include -D_FORTIFY_SOURCE=2'
    optimize='-O2'
    cppflags='-fno-strict-aliasing -pipe -fstack-protector-strong -I/usr/local/include'
    ccversion=''
    gccversion='4.2.1 Compatible OpenBSD Clang 4.0.0 (tags/RELEASE_400/final)'
    gccosandvers=''
    intsize=4
    longsize=8
    ptrsize=8
    doublesize=8
    byteorder=12345678
    doublekind=3
    d_longlong=define
    longlongsize=8
    d_longdbl=define
    longdblsize=16
    longdblkind=3
    ivtype='long'
    ivsize=8
    nvtype='double'
    nvsize=8
    Off_t='off_t'
    lseeksize=8
    alignbytes=8
    prototype=define
  Linker and Libraries:
    ld='cc'
    ldflags ='-Wl,-E  -fstack-protector-strong -L/usr/local/lib'
    libpth=/usr/lib /usr/local/lib
    libs=-lpthread -lm -lutil -lc
    perllibs=-lpthread -lm -lutil -lc
    libc=/usr/lib/libc.so.90.0
    so=so
    useshrplib=false
    libperl=libperl.a
    gnulibc_version=''
  Dynamic Linking:
    dlsrc=dl_dlopen.xs
    dlext=so
    d_dlsymun=undef
    ccdlflags=' '
    cccdlflags='-DPIC -fPIC '
    lddlflags='-shared -fPIC  -L/usr/local/lib -fstack-protector-strong'


Characteristics of this binary (from libperl): 
  Compile-time options:
    HAS_TIMES
    PERLIO_LAYERS
    PERL_COPY_ON_WRITE
    PERL_DONT_CREATE_GVSV
    PERL_MALLOC_WRAP
    PERL_OP_PARENT
    PERL_PRESERVE_IVUV
    PERL_USE_DEVEL
    USE_64_BIT_ALL
    USE_64_BIT_INT
    USE_LARGE_FILES
    USE_LOCALE
    USE_LOCALE_COLLATE
    USE_LOCALE_CTYPE
    USE_LOCALE_NUMERIC
    USE_LOCALE_TIME
    USE_PERLIO
    USE_PERL_ATOF
  Locally applied patches:
    Devel::PatchPerl 1.48
  Built under openbsd
  Compiled at Jan 23 2018 17:20:45
  %ENV:
    PERL5LIB=""
    PERL5OPT=""
    PERL5_CPANPLUS_IS_RUNNING="37091"
    PERL5_CPAN_IS_RUNNING="37091"
    PERL5_CPAN_IS_RUNNING_IN_RECURSION="93931,37091"
    PERLBREW_HOME="/home/vegeta/.perlbrew"
    PERLBREW_MANPATH="/home/vegeta/perl5/perlbrew/perls/perl-5.27.8/man"
    PERLBREW_PATH="/home/vegeta/perl5/perlbrew/bin:/home/vegeta/perl5/perlbrew/perls/perl-5.27.8/bin"
    PERLBREW_PERL="perl-5.27.8"
    PERLBREW_ROOT="/home/vegeta/perl5/perlbrew"
    PERLBREW_SHELLRC_VERSION="0.82"
    PERLBREW_VERSION="0.82"
    PERL_CR_SMOKER_CURRENT="task-belike-est-0.02"
    PERL_EXTUTILS_AUTOINSTALL="--defaultdeps"
    PERL_MM_USE_DEFAULT="1"
    PERL_USE_UNSAFE_INC="1"
  @INC:
    /home/vegeta/perl5/perlbrew/perls/perl-5.27.8/lib/site_perl/5.27.8/OpenBSD.amd64-openbsd
    /home/vegeta/perl5/perlbrew/perls/perl-5.27.8/lib/site_perl/5.27.8
    /home/vegeta/perl5/perlbrew/perls/perl-5.27.8/lib/5.27.8/OpenBSD.amd64-openbsd
    /home/vegeta/perl5/perlbrew/perls/perl-5.27.8/lib/5.27.8
    .