IO-Socket-SSL v2.089 Perl 5 v5.40.1 darwin-2level
- Status
- Pass
- From
- Dist
-
IO-Socket-SSL v2.089
- Platform
- Perl 5 v5.40.1 darwin-2level
- Date
- 2025-01-23 13:19:53
- ID
- bb44e248-d98c-11ef-ad41-8de6d7d3fc66
This distribution has been tested as part of the CPAN Testers
project, supporting the Perl programming language. See
http://wiki.cpantesters.org/ for more information or email
questions to cpan-testers-discuss@perl.org
--
Dear SULLR,
This is a computer-generated report for IO-Socket-SSL-2.089
on perl 5.40.1, created by App::cpanminus::reporter 0.22 (1.7048).
Thank you for uploading your work to CPAN. Congratulations!
All tests were successful.
Sections of this report:
* Tester comments
* Program output
* Prerequisites
* Environment and other context
------------------------------
TESTER COMMENTS
------------------------------
Additional comments from tester:
none provided
------------------------------
PROGRAM OUTPUT
------------------------------
Output from '':
Building and testing IO-Socket-SSL-2.089
cp lib/IO/Socket/SSL.pod blib/lib/IO/Socket/SSL.pod
cp lib/IO/Socket/SSL/PublicSuffix.pm blib/lib/IO/Socket/SSL/PublicSuffix.pm
cp lib/IO/Socket/SSL/Intercept.pm blib/lib/IO/Socket/SSL/Intercept.pm
cp lib/IO/Socket/SSL/Utils.pm blib/lib/IO/Socket/SSL/Utils.pm
cp lib/IO/Socket/SSL.pm blib/lib/IO/Socket/SSL.pm
PERL_DL_NONLAZY=1 "/Users/ntonkin/perl5/perlbrew/perls/perl-5.40.1/bin/perl" "-MExtUtils::Command::MM" "-MTest::Harness" "-e" "undef *Test::Harness::Switches; test_harness(0, 'blib/lib', 'blib/arch')" t/*.t t/external/*.t
# openssl version compiled=0x30400000 linked=0x30400000 -- OpenSSL 3.4.0 22 Oct 2024
# Net::SSLeay version=1.94
# parent IO::Socket::IP version=0.42
t/01loadmodule.t .................. ok
t/acceptSSL-timeout.t ............. ok
t/alpn.t .......................... ok
t/auto_verify_hostname.t .......... ok
t/cert_formats.t .................. ok
t/cert_no_file.t .................. ok
t/compatibility.t ................. ok
t/connectSSL-timeout.t ............ ok
t/core.t .......................... ok
t/dhe.t ........................... ok
t/ecdhe.t ......................... ok
# tcp connect to www.chksum.de:443 ok
# fingerprint matches
# validation with default CA w/o OCSP ok
# got stapled response as expected
# validation with default CA with OCSP defaults ok
# validation with default CA with OCSP full chain ok
# tcp connect to www.bild.de:443 ok
# tcp connect to revoked.grc.com:443 ok
# fingerprint matches
# validation with default CA w/o OCSP ok
t/external/ocsp.t ................. ok
# found 151 CA certs
# have root CA for www.bild.de in store
# 5 connections to www.bild.de ok
# have root CA for www.yahoo.com in store
# 5 connections to www.yahoo.com ok
# have root CA for www.comdirect.de in store
# 5 connections to www.comdirect.de ok
# have root CA for meine.deutsche-bank.de in store
# 5 connections to meine.deutsche-bank.de ok
# fingerprint meine.deutsche-bank.de matches
# have root CA for www.twitter.com in store
# 5 connections to www.twitter.com ok
# have root CA for www.facebook.com in store
# 5 connections to www.facebook.com ok
# have root CA for www.live.com in store
# 5 connections to www.live.com ok
t/external/usable_ca.t ............ ok
t/io-socket-inet6.t ............... skipped: no IO::Socket::INET6 available
t/io-socket-ip.t .................. ok
t/memleak_bad_handshake.t ......... ok
t/mitm.t .......................... ok
t/multiple-cert-rsa-ecc.t ......... ok
t/nonblock.t ...................... ok
t/npn.t ........................... ok
# -- test: newINET start_SSL stop_SSL start_SSL
# server accepted new client
# wait for initial data from client
# got 0x666f6f from client
# server: got plain data at start of connection
# server: TLS upgrade
# server: TLS downgrade
# server: TLS upgrade#2
# -- test: newSSL stop_SSL connect_SSL
# server accepted new client
# wait for initial data from client
# got 0x160301 from client
# server: TLS upgrade
# server: TLS downgrade
# server: TLS upgrade#2
# -- test: newSSL:0 connect_SSL stop_SSL connect_SSL
# server accepted new client
# wait for initial data from client
# got 0x666f6f from client
# server: got plain data at start of connection
# server: TLS upgrade
# server: TLS downgrade
# server: TLS upgrade#2
# -- test: newSSL:0 start_SSL stop_SSL connect_SSL
# server accepted new client
# wait for initial data from client
# got 0x666f6f from client
# server: got plain data at start of connection
# server: TLS upgrade
# server: TLS downgrade
# server: TLS upgrade#2
# server accepted new client
# wait for initial data from client
# got 0x656e64 from client
# client requested end of tests
t/plain_upgrade_downgrade.t ....... ok
# looks like OpenSSL was compiled without SSLv3 support
t/protocol_version.t .............. ok
# client accepted: ver=TLSv1_3 cipher=TLS_CHACHA20_POLY1305_SHA256
# accept failed: , SSL accept attempt failed error:0A0000FD:SSL routines::binder does not verify
# client accepted: ver=TLSv1_3 cipher=TLS_CHACHA20_POLY1305_SHA256
# client accepted: ver=TLSv1_3 cipher=TLS_CHACHA20_POLY1305_SHA256
# accept failed: , SSL accept attempt failed error:0A0000FD:SSL routines::binder does not verify
# client accepted: ver=TLSv1_3 cipher=TLS_CHACHA20_POLY1305_SHA256
# accept failed: , SSL accept attempt failed error:0A0000FD:SSL routines::binder does not verify
# client accepted: ver=TLSv1_2 cipher=DHE-PSK-AES256-GCM-SHA384
# accept failed: , SSL accept attempt failed error:1C800066:Provider routines::cipher operation failed error:0A000119:SSL routines::decryption failed or bad record mac error:0A000139:SSL routines::record layer failure
# client accepted: ver=TLSv1_2 cipher=DHE-PSK-AES256-GCM-SHA384
# client accepted: ver=TLSv1_2 cipher=DHE-PSK-AES256-GCM-SHA384
# accept failed: , SSL accept attempt failed error:1C800066:Provider routines::cipher operation failed error:0A000119:SSL routines::decryption failed or bad record mac error:0A000139:SSL routines::record layer failure
# client accepted: ver=TLSv1_2 cipher=DHE-PSK-AES256-GCM-SHA384
# accept failed: , SSL accept attempt failed error:1C800066:Provider routines::cipher operation failed error:0A000119:SSL routines::decryption failed or bad record mac error:0A000139:SSL routines::record layer failure
t/psk.t ........................... ok
t/public_suffix_lib_encode_idn.t .. ok
t/public_suffix_lib_libidn.t ...... ok
t/public_suffix_lib_uri.t ......... ok
t/public_suffix_ssl.t ............. ok
t/readline.t ...................... ok
t/session_cache.t ................. ok
# listen at 127.0.0.1:58603
# listen at 127.0.0.1:58604
# connect to 0: success reuse=0 version=TLSv1_3
# connect to 0: success reuse=1 version=TLSv1_3
# connect to 1: success reuse=1 version=TLSv1_3
# connect to 1: success reuse=0 version=TLSv1_3
# connect to 0: success reuse=0 version=TLSv1_3
# connect to 0: success reuse=1 version=TLSv1_3
t/session_ticket.t ................ ok
t/sessions.t ...................... ok
t/set_curves.t .................... ok
t/signal-readline.t ............... ok
t/sni.t ........................... ok
t/sni_verify.t .................... ok
t/start-stopssl.t ................. ok
t/startssl-failed.t ............... ok
t/startssl.t ...................... ok
t/sysread_write.t ................. ok
t/verify_fingerprint.t ............ ok
t/verify_hostname.t ............... ok
t/verify_hostname_standalone.t .... ok
t/verify_partial_chain.t .......... ok
All tests successful.
Files=43, Tests=839, 76 wallclock secs ( 0.13 usr 0.14 sys + 5.17 cusr 1.50 csys = 6.94 CPU)
Result: PASS
------------------------------
PREREQUISITES
------------------------------
Prerequisite modules loaded:
runtime:
Module Need Have
------------------- ---- ----
Net::SSLeay 1.46 1.94
Scalar::Util 0 1.63
build:
Module Need Have
------------------- ---- ----
ExtUtils::MakeMaker 0 7.70
configure:
Module Need Have
------------------- ---- ----
ExtUtils::MakeMaker 0 7.70
Net::SSLeay 1.46 1.94
------------------------------
ENVIRONMENT AND OTHER CONTEXT
------------------------------
Environment variables:
LANG = en_US.UTF-8
LC_TERMINAL = iTerm2
LC_TERMINAL_VERSION = 3.5.11
LDFLAGS = -L/opt/homebrew/Cellar/openssl@3/3.1.3/lib
PATH = /Users/ntonkin/.perlbrew/libs/perl-5.40.1@rosetta/bin:/Users/ntonkin/perl5/perlbrew/bin:/Users/ntonkin/perl5/perlbrew/perls/perl-5.40.1/bin:/opt/homebrew/opt/mysql@8.0/bin:/opt/homebrew/opt/postgresql@16/bin:/Users/ntonkin/.local/bin:/Users/ntonkin/Library/Python/3.11/bin:/Library/Frameworks/Python.framework/Versions/3.11/bin:/opt/homebrew/bin:/opt/homebrew/sbin:/opt/homebrew/Cellar/openssl@3/3.1.3/include:/usr/local/opt/gnu-tar/libexec/gnubin:/usr/local/opt/openssl@3.1.3/bin:/usr/local/opt/gettext/bin:/usr/local/bin:/System/Cryptexes/App/usr/bin:/usr/bin:/bin:/usr/sbin:/sbin:/var/run/com.apple.security.cryptexd/codex.system/bootstrap/usr/local/bin:/var/run/com.apple.security.cryptexd/codex.system/bootstrap/usr/bin:/var/run/com.apple.security.cryptexd/codex.system/bootstrap/usr/appleinternal/bin:/Applications/Privileges.app/Contents/Resources:/Applications/iTerm.app/Contents/Resources/utilities
PERL5LIB = /Users/ntonkin/.perlbrew/libs/perl-5.40.1@rosetta/lib/perl5
PERLBREW_HOME = /Users/ntonkin/.perlbrew
PERLBREW_LIB = rosetta
PERLBREW_MANPATH = /Users/ntonkin/.perlbrew/libs/perl-5.40.1@rosetta/man:/Users/ntonkin/perl5/perlbrew/perls/perl-5.40.1/man
PERLBREW_PATH = /Users/ntonkin/.perlbrew/libs/perl-5.40.1@rosetta/bin:/Users/ntonkin/perl5/perlbrew/bin:/Users/ntonkin/perl5/perlbrew/perls/perl-5.40.1/bin
PERLBREW_PERL = perl-5.40.1
PERLBREW_ROOT = /Users/ntonkin/perl5/perlbrew
PERLBREW_SHELLRC_VERSION = 0.97
PERLBREW_VERSION = 0.97
PERL_CPANM_OPT = --mirror cpan.metacpan.org --mirror cpan.metacpan.com --mirror cpan.mirror.constant.com --mirror cpan.hoovism-http.com --mirror http://ftp.wayne.edu/cpan/ --mirror ftp://mirror.cogentco.com/pub/CPAN/ --mirror ftp://mirror.cc.columbia.edu/pub/software/cpan/ --mirror http://develooper.com --mirror http://cpan.cse.msu.edu/ --mirror http://mirror.cc.columbia.edu/pub/software/cpan/ --mirror http://www.cpan.org/ --mirror http://cpan.perlnow.com/ --mirror http://cpan.mirror.facebook.net/ --mirror http://www.perl.com/CPAN/ --mirror http://cpan.pair.com/ --mirror http://mirror.uta.edu/CPAN/ --mirror http://cpan.cs.utah.edu/ --mirror-only --cascade-search
PERL_LOCAL_LIB_ROOT = /Users/ntonkin/.perlbrew/libs/perl-5.40.1@rosetta
PERL_MB_OPT = --install_base /Users/ntonkin/.perlbrew/libs/perl-5.40.1@rosetta
PERL_MM_OPT = INSTALL_BASE=/Users/ntonkin/.perlbrew/libs/perl-5.40.1@rosetta
SHELL = /bin/bash
TERM = xterm-256color
TMPDIR = /var/folders/b8/v1999vpx21jf70qf03qsv6r80000gq/T/
Perl special variables (and OS-specific diagnostics, for MSWin32):
EGID = 20 20 12 61 701 100
EUID = 503
EXECUTABLE_NAME = /Users/ntonkin/perl5/perlbrew/perls/perl-5.40.1/bin/perl
GID = 20 20 12 61 701 100
UID = 503
Perl module toolchain versions installed:
Module Have
------------------- --------
CPAN 2.36
CPAN::Meta 2.150010
Cwd 3.91
ExtUtils::CBuilder 0.280240
ExtUtils::Command 7.70
ExtUtils::Install 2.22
ExtUtils::MakeMaker 7.70
ExtUtils::Manifest 1.75
ExtUtils::ParseXS 3.51
File::Spec 3.91
JSON n/a
JSON::PP 4.16
Module::Build n/a
Module::Signature n/a
Parse::CPAN::Meta 2.150010
Test::Harness 3.48
Test::More 1.302199
YAML n/a
YAML::Syck n/a
version 0.9930
--
Summary of my perl5 (revision 5 version 40 subversion 1) configuration:
Platform:
osname=darwin
osvers=23.6.0
archname=darwin-2level
uname='darwin mjg7kk6gj3-m 23.6.0 darwin kernel version 23.6.0: fri nov 15 15:11:49 pst 2024; root:xnu-10063.141.1.702.7~1release_arm64_t6020 arm64 '
config_args='-de -Dprefix=/Users/ntonkin/perl5/perlbrew/perls/perl-5.40.1 -Aeval:scriptdir=/Users/ntonkin/perl5/perlbrew/perls/perl-5.40.1/bin'
hint=recommended
useposix=true
d_sigaction=define
useithreads=undef
usemultiplicity=undef
use64bitint=define
use64bitall=define
uselongdouble=undef
usemymalloc=n
default_inc_excludes_dot=define
Compiler:
cc='cc'
ccflags ='-fno-common -DPERL_DARWIN -mmacosx-version-min=14.7 -DNO_THREAD_SAFE_QUERYLOCALE -DNO_POSIX_2008_LOCALE -fno-strict-aliasing -pipe -fstack-protector-strong -I/usr/local/include'
optimize='-O3'
cppflags='-fno-common -DPERL_DARWIN -mmacosx-version-min=14.7 -DNO_THREAD_SAFE_QUERYLOCALE -DNO_POSIX_2008_LOCALE -fno-strict-aliasing -pipe -fstack-protector-strong -I/usr/local/include'
ccversion=''
gccversion='Apple LLVM 16.0.0 (clang-1600.0.26.6)'
gccosandvers=''
intsize=4
longsize=8
ptrsize=8
doublesize=8
byteorder=12345678
doublekind=3
d_longlong=define
longlongsize=8
d_longdbl=define
longdblsize=8
longdblkind=0
ivtype='long'
ivsize=8
nvtype='double'
nvsize=8
Off_t='off_t'
lseeksize=8
alignbytes=8
prototype=define
Linker and Libraries:
ld='cc'
ldflags =' -mmacosx-version-min=14.7 -fstack-protector-strong -L/usr/local/lib'
libpth=/usr/local/lib /Library/Developer/CommandLineTools/usr/lib/clang/16/lib /Library/Developer/CommandLineTools/SDKs/MacOSX15.2.sdk/usr/lib /Library/Developer/CommandLineTools/usr/lib /usr/lib
libs=
perllibs=
libc=
so=dylib
useshrplib=false
libperl=libperl.a
gnulibc_version=''
Dynamic Linking:
dlsrc=dl_dlopen.xs
dlext=bundle
d_dlsymun=undef
ccdlflags=' '
cccdlflags=' '
lddlflags=' -mmacosx-version-min=14.7 -bundle -undefined dynamic_lookup -L/usr/local/lib -fstack-protector-strong'
Characteristics of this binary (from libperl):
Compile-time options:
HAS_LONG_DOUBLE
HAS_STRTOLD
HAS_TIMES
PERLIO_LAYERS
PERL_COPY_ON_WRITE
PERL_DONT_CREATE_GVSV
PERL_HASH_FUNC_SIPHASH13
PERL_HASH_USE_SBOX32
PERL_MALLOC_WRAP
PERL_OP_PARENT
PERL_PRESERVE_IVUV
PERL_USE_SAFE_PUTENV
USE_64_BIT_ALL
USE_64_BIT_INT
USE_LARGE_FILES
USE_LOCALE
USE_LOCALE_COLLATE
USE_LOCALE_CTYPE
USE_LOCALE_NUMERIC
USE_LOCALE_TIME
USE_PERLIO
USE_PERL_ATOF
Built under darwin
Compiled at Jan 18 2025 15:17:46
%ENV:
PERL5LIB="/Users/ntonkin/.perlbrew/libs/perl-5.40.1@rosetta/lib/perl5"
PERLBREW_HOME="/Users/ntonkin/.perlbrew"
PERLBREW_LIB="rosetta"
PERLBREW_MANPATH="/Users/ntonkin/.perlbrew/libs/perl-5.40.1@rosetta/man:/Users/ntonkin/perl5/perlbrew/perls/perl-5.40.1/man"
PERLBREW_PATH="/Users/ntonkin/.perlbrew/libs/perl-5.40.1@rosetta/bin:/Users/ntonkin/perl5/perlbrew/bin:/Users/ntonkin/perl5/perlbrew/perls/perl-5.40.1/bin"
PERLBREW_PERL="perl-5.40.1"
PERLBREW_ROOT="/Users/ntonkin/perl5/perlbrew"
PERLBREW_SHELLRC_VERSION="0.97"
PERLBREW_VERSION="0.97"
PERL_CPANM_OPT="--mirror cpan.metacpan.org --mirror cpan.metacpan.com --mirror cpan.mirror.constant.com --mirror cpan.hoovism-http.com --mirror http://ftp.wayne.edu/cpan/ --mirror ftp://mirror.cogentco.com/pub/CPAN/ --mirror ftp://mirror.cc.columbia.edu/pub/software/cpan/ --mirror http://develooper.com --mirror http://cpan.cse.msu.edu/ --mirror http://mirror.cc.columbia.edu/pub/software/cpan/ --mirror http://www.cpan.org/ --mirror http://cpan.perlnow.com/ --mirror http://cpan.mirror.facebook.net/ --mirror http://www.perl.com/CPAN/ --mirror http://cpan.pair.com/ --mirror http://mirror.uta.edu/CPAN/ --mirror http://cpan.cs.utah.edu/ --mirror-only --cascade-search"
PERL_LOCAL_LIB_ROOT="/Users/ntonkin/.perlbrew/libs/perl-5.40.1@rosetta"
PERL_MB_OPT="--install_base /Users/ntonkin/.perlbrew/libs/perl-5.40.1@rosetta"
PERL_MM_OPT="INSTALL_BASE=/Users/ntonkin/.perlbrew/libs/perl-5.40.1@rosetta"
@INC:
/Users/ntonkin/.perlbrew/libs/perl-5.40.1@rosetta/lib/perl5/darwin-2level
/Users/ntonkin/.perlbrew/libs/perl-5.40.1@rosetta/lib/perl5
/Users/ntonkin/perl5/perlbrew/perls/perl-5.40.1/lib/site_perl/5.40.1/darwin-2level
/Users/ntonkin/perl5/perlbrew/perls/perl-5.40.1/lib/site_perl/5.40.1
/Users/ntonkin/perl5/perlbrew/perls/perl-5.40.1/lib/5.40.1/darwin-2level
/Users/ntonkin/perl5/perlbrew/perls/perl-5.40.1/lib/5.40.1