Back
From: metabase:user:314402c4-2aae-11df-837a-5e0a49663a4f
Subject: PASS Cog-0.11 v5.20.3 RC2 GNU/Linux
Date: 2015-09-01T23:11:09Z
This distribution has been tested as part of the CPAN Testers
project, supporting the Perl programming language. See
http://wiki.cpantesters.org/ for more information or email
questions to cpan-testers-discuss@perl.org
--
Dear Ingy dot Net,
This is a computer-generated report for Cog-0.11
on perl 5.20.3, created by CPAN-Reporter-1.2015.
Thank you for uploading your work to CPAN. Congratulations!
All tests were successful.
Sections of this report:
* Tester comments
* Program output
* Prerequisites
* Environment and other context
------------------------------
TESTER COMMENTS
------------------------------
Additional comments from tester:
none provided
------------------------------
PROGRAM OUTPUT
------------------------------
Output from '/usr/bin/make test':
Skip blib/lib/auto/share/dist/Cog/template/index-table.html (unchanged)
Skip blib/lib/auto/share/dist/Cog/template/header.html (unchanged)
Skip blib/lib/auto/share/dist/Cog/template/main.html (unchanged)
Skip blib/lib/auto/share/dist/Cog/template/login-navigation.html (unchanged)
Skip blib/lib/auto/share/dist/Cog/js/fixups.js (unchanged)
Skip blib/lib/auto/share/dist/Cog/template/index.html (unchanged)
Skip blib/lib/auto/share/dist/Cog/css/page-list.css (unchanged)
Skip blib/lib/auto/share/dist/Cog/js/jquery.json-2.5.1.js (unchanged)
Skip blib/lib/auto/share/dist/Cog/template/tag-list.html (unchanged)
Skip blib/lib/auto/share/dist/Cog/js/jquery-json.js (unchanged)
Skip blib/lib/auto/share/dist/Cog/template/config.yaml (unchanged)
Skip blib/lib/auto/share/dist/Cog/template/layout-table.html (unchanged)
Skip blib/lib/auto/share/dist/Cog/image/favicon.ico (unchanged)
Skip blib/lib/auto/share/dist/Cog/js/cog.js (unchanged)
Skip blib/lib/auto/share/dist/Cog/template/css-mf.mk (unchanged)
Skip blib/lib/auto/share/dist/Cog/template/js-mf.mk (unchanged)
Skip blib/lib/auto/share/dist/Cog/js/jquery.js (unchanged)
Skip blib/lib/auto/share/dist/Cog/template/head.html (unchanged)
Skip blib/lib/auto/share/dist/Cog/js/jquery-ui.js (unchanged)
Skip blib/lib/auto/share/dist/Cog/template/site-navigation.html (unchanged)
Skip blib/lib/auto/share/dist/Cog/css/reset.css (unchanged)
Skip blib/lib/auto/share/dist/Cog/template/page-list.html (unchanged)
Skip blib/lib/auto/share/dist/Cog/image/tile.gif (unchanged)
Skip blib/lib/auto/share/dist/Cog/js/jquery-1.11.3.js (unchanged)
Skip blib/lib/auto/share/dist/Cog/template/config.js (unchanged)
Skip blib/lib/auto/share/dist/Cog/css/layout.css (unchanged)
Skip blib/lib/auto/share/dist/Cog/css/layout-table.css (unchanged)
Skip blib/lib/auto/share/dist/Cog/css/page-display.css (unchanged)
Skip blib/lib/auto/share/dist/Cog/js/jquery.cookie.js (unchanged)
Skip blib/lib/auto/share/dist/Cog/js/jquery.jemplate.js (unchanged)
Skip blib/lib/auto/share/dist/Cog/template/start.js (unchanged)
Skip blib/lib/auto/share/dist/Cog/template/url-map.js (unchanged)
Skip blib/lib/auto/share/dist/Cog/template/page-display.html (unchanged)
Skip blib/lib/auto/share/dist/Cog/template/404.html (unchanged)
Skip blib/lib/auto/share/dist/Cog/js/jquery-ui-1.11.4.js (unchanged)
Skip blib/lib/auto/share/dist/Cog/template/javascript.html (unchanged)
Skip blib/lib/auto/share/dist/Cog/image/logo.png (unchanged)
PERL_DL_NONLAZY=1 "/opt/perl-5.20.3-RC2/bin/perl" "-MExtUtils::Command::MM" "-MTest::Harness" "-e" "undef *Test::Harness::Switches; test_harness(0, 'blib/lib', 'blib/arch')" t/*.t
t/000-compile-modules.t .. ok
t/release-pod-syntax.t ... skipped: these tests are for release candidate testing
t/use_ok.t ............... ok
All tests successful.
Files=3, Tests=19, 0 wallclock secs ( 0.01 usr 0.01 sys + 0.24 cusr 0.06 csys = 0.32 CPU)
Result: PASS
------------------------------
PREREQUISITES
------------------------------
Prerequisite modules loaded:
requires:
Module Need Have
--------------------------- -------- --------
Convert::Base32::Crockford 0 0.16
File::Basename 0 2.85
File::Copy 0 2.30
File::ShareDir 0 1.102
IO::All 0 0.86
IPC::Run 0 0.94
Jemplate 0 0.30
JSON 0 2.90
Mo 0 0.39
perl 5.008001 5.020003
Plack 0 1.0037
Plack::Middleware::Cache 0 0.19
Plack::Middleware::ETag 0 0.05
Plack::Middleware::Header 0 0.04
Plack::Middleware::ProxyMap 0 0.20
Pod::Simple::HTML 0 3.28
Template::Toolkit::Simple 0 0.31
YAML::XS 0 0.59
build_requires:
Module Need Have
--------------------------- -------- --------
ExtUtils::MakeMaker 0 7.06
configure_requires:
Module Need Have
--------------------------- -------- --------
ExtUtils::MakeMaker 0 7.06
File::ShareDir::Install 0.06 0.10
------------------------------
ENVIRONMENT AND OTHER CONTEXT
------------------------------
Environment variables:
DBIC_NO_WARN_BAD_PERL = 1
LANG = C
LC_ALL = de_DE.UTF-8
PATH = /usr/local/bin:/usr/bin:/bin:/usr/local/sbin:/usr/sbin:/sbin:/home/eserte/bin/linux-gnu:/home/eserte/bin/sh:/home/eserte/bin:/usr/games:/home/eserte/devel:/home/eserte/src/srezic-misc/scripts
PERL5LIB = /home/eserte/.cpan/build/2015090121/CPAN-Patches-0.05-SbDhPc/blib/arch:/home/eserte/.cpan/build/2015090121/CPAN-Patches-0.05-SbDhPc/blib/lib
PERL5OPT =
PERL5_CPANPLUS_IS_RUNNING = 4278
PERL5_CPAN_IS_RUNNING = 4278
PERL5_CPAN_IS_RUNNING_IN_RECURSION = 32427,4278
PERLDOC = -MPod::Perldoc::ToTextOverstrike
PERL_BATCH = yes
PERL_CANARY_STABILITY_NOPROMPT = 1
PERL_CPAN_REPORTER_CONFIG = /var/tmp/cpansmoker-1001/2015090118/cpanreporter_002_config.ini
PERL_EXTUTILS_AUTOINSTALL = --defaultdeps
PERL_PARALLEL_SMOKER = yes
SHELL = /bin/zsh
TERM = screen
TMPDIR = /var/tmp/cpansmoker-1001/2015090118
Perl special variables (and OS-specific diagnostics, for MSWin32):
$^X = /opt/perl-5.20.3-RC2/bin/perl
$UID/$EUID = 1001 / 1001
$GID = 1001 109 1001
$EGID = 1001 109 1001
Perl module toolchain versions installed:
Module Have
------------------- --------
CPAN 2.05
CPAN::Meta 2.150005
Cwd 3.48_01
ExtUtils::CBuilder 0.280223
ExtUtils::Command 7.06
ExtUtils::Install 1.67
ExtUtils::MakeMaker 7.06
ExtUtils::Manifest 1.70
ExtUtils::ParseXS 3.24
File::Spec 3.48_01
JSON 2.90
JSON::PP 2.27203
Module::Build 0.4214
Module::Signature n/a
Parse::CPAN::Meta 1.4414
Test::Harness 3.30
Test::More 1.001014
YAML 1.15
YAML::Syck 1.29
version 0.9909
--
Summary of my perl5 (revision 5 version 20 subversion 3) configuration:
Platform:
osname=linux, osvers=3.2.0-4-amd64, archname=x86_64-linux
uname='linux eserte 3.2.0-4-amd64 #1 smp debian 3.2.68-1+deb7u3 x86_64 gnulinux '
config_args='-ds -e -Dprefix=/opt/perl-5.20.3-RC2 -Dcf_email=srezic@cpan.org'
hint=recommended, useposix=true, d_sigaction=define
useithreads=undef, usemultiplicity=undef
use64bitint=define, use64bitall=define, uselongdouble=undef
usemymalloc=n, bincompat5005=undef
Compiler:
cc='cc', ccflags ='-fwrapv -fno-strict-aliasing -pipe -fstack-protector -I/usr/local/include -D_LARGEFILE_SOURCE -D_FILE_OFFSET_BITS=64',
optimize='-O2',
cppflags='-fwrapv -fno-strict-aliasing -pipe -fstack-protector -I/usr/local/include'
ccversion='', gccversion='4.7.2', gccosandvers=''
intsize=4, longsize=8, ptrsize=8, doublesize=8, byteorder=12345678
d_longlong=define, longlongsize=8, d_longdbl=define, longdblsize=16
ivtype='long', ivsize=8, nvtype='double', nvsize=8, Off_t='off_t', lseeksize=8
alignbytes=8, prototype=define
Linker and Libraries:
ld='cc', ldflags =' -fstack-protector -L/usr/local/lib'
libpth=/usr/local/lib /usr/lib/gcc/x86_64-linux-gnu/4.7/include-fixed /usr/include/x86_64-linux-gnu /usr/lib /lib/x86_64-linux-gnu /lib/../lib /usr/lib/x86_64-linux-gnu /usr/lib/../lib /lib
libs=-lpthread -lnsl -ldb -ldl -lm -lcrypt -lutil -lc
perllibs=-lpthread -lnsl -ldl -lm -lcrypt -lutil -lc
libc=libc-2.13.so, so=so, useshrplib=false, libperl=libperl.a
gnulibc_version='2.13'
Dynamic Linking:
dlsrc=dl_dlopen.xs, dlext=so, d_dlsymun=undef, ccdlflags='-Wl,-E'
cccdlflags='-fPIC', lddlflags='-shared -O2 -L/usr/local/lib -fstack-protector'
Characteristics of this binary (from libperl):
Compile-time options: HAS_TIMES PERLIO_LAYERS PERL_DONT_CREATE_GVSV
PERL_HASH_FUNC_ONE_AT_A_TIME_HARD PERL_MALLOC_WRAP
PERL_NEW_COPY_ON_WRITE PERL_PRESERVE_IVUV
USE_64_BIT_ALL USE_64_BIT_INT USE_LARGE_FILES
USE_LOCALE USE_LOCALE_COLLATE USE_LOCALE_CTYPE
USE_LOCALE_NUMERIC USE_PERLIO USE_PERL_ATOF
Locally applied patches:
RC2
Built under linux
Compiled at Sep 1 2015 18:14:29
%ENV:
PERL5LIB="/home/eserte/.cpan/build/2015090121/CPAN-Patches-0.05-SbDhPc/blib/arch:/home/eserte/.cpan/build/2015090121/CPAN-Patches-0.05-SbDhPc/blib/lib"
PERL5OPT=""
PERL5_CPANPLUS_IS_RUNNING="4278"
PERL5_CPAN_IS_RUNNING="4278"
PERL5_CPAN_IS_RUNNING_IN_RECURSION="32427,4278"
PERLDOC="-MPod::Perldoc::ToTextOverstrike"
PERL_BATCH="yes"
PERL_CANARY_STABILITY_NOPROMPT="1"
PERL_CPAN_REPORTER_CONFIG="/var/tmp/cpansmoker-1001/2015090118/cpanreporter_002_config.ini"
PERL_EXTUTILS_AUTOINSTALL="--defaultdeps"
PERL_PARALLEL_SMOKER="yes"
@INC:
/home/eserte/.cpan/build/2015090121/CPAN-Patches-0.05-SbDhPc/blib/arch
/home/eserte/.cpan/build/2015090121/CPAN-Patches-0.05-SbDhPc/blib/lib
/opt/perl-5.20.3-RC2/lib/site_perl/5.20.3/x86_64-linux
/opt/perl-5.20.3-RC2/lib/site_perl/5.20.3
/opt/perl-5.20.3-RC2/lib/5.20.3/x86_64-linux
/opt/perl-5.20.3-RC2/lib/5.20.3
.