Report for Curses-UI-POE-0.04

Back
From: metabase:user:6b8b2e90-4841-11e2-8be0-89a021ca06ea
Subject: PASS Curses-UI-POE-0.04 v5.16.3 GNU/Linux
Date: 2013-10-18T02:19:34Z

This distribution has been tested as part of the CPAN Testers
project, supporting the Perl programming language.  See
http://wiki.cpantesters.org/ for more information or email
questions to cpan-testers-discuss@perl.org


--
Curses-UI-POE-0.04 ... PASS

Perl           : v5.16.3
System         : linux
Local Versions :
    Bread::Board::BlockInjection     : 0.28
    Pod::Usage                       : 1.63
    IO::Socket::INET                 : 1.33
    MooseX::Emulate::Class::Accessor::Fast : 0.00903
    URI::QueryParam                  : 
    Symbol                           : 1.07
    ExtUtils::Install                : 1.58
    if                               : 0.0602
    IPC::Open3                       : 1.12
    Encode                           : 2.55
    ExtUtils::Embed                  : 1.30
    HTTP::Headers                    : 6.05
    File::Path                       : 2.09
    CPAN::Meta                       : 2.132830
    Plack::Request                   : 1.0029
    Module::Build                    : 0.4007
    Test::Deep                       : 0.110
    Data::MessagePack                : 0.48
    base                             : 2.18
    warnings                         : 1.13
    IO::File                         : 1.16
    Pod::Man                         : 2.28
    ExtUtils::MakeMaker              : 6.78
    ExtUtils::ParseXS                : 3.22
    Bread::Board::ConstructorInjection : 0.28
    Moose::Exporter                  : 2.1005
    Moose::Util                      : 2.1005
    strict                           : 1.07
    Module::Build::Tiny              : 0.030
    ExtUtils::Config                 : 0.007
    IPC::Open2                       : 1.04
    common::sense                    : 3.72
    Tie::RefHash                     : 1.39
    POE                              : 1.356
    XSLoader                         : 0.16
    URI::Escape                      : 3.31
    IO::Handle                       : 1.33
    Test::Fatal                      : 0.013
    Moose::Util::TypeConstraints     : 2.1005
    TAP::Harness::Env                : 3.29
    File::Find                       : 1.20
    Test::WWW::Mechanize::PSGI       : 0.35
    File::Spec::Functions            : 3.40
    Bread::Board::Service            : 0.28
    Socket                           : 2.012
    Moose                            : 2.1005
    ExtUtils::CBuilder               : 0.280212
    Parse::CPAN::Meta                : 1.4409
    URI                              : 1.60
    Plack                            : 1.0029
    version                          : 0.9904
    ExtUtils::InstallPaths           : 0.009
    CPAN::Meta::YAML                 : 0.010
    Object::Signature                : 1.07
    Class::Accessor::Lite            : 0.05
    Exporter                         : 5.68
    utf8                             : 1.09
    Carp                             : 1.32
    Module::CPANfile                 : 1.0002
    File::Basename                   : 2.84
    Bread::Board                     : 0.28
    Text::Xslate                     : 2.0009
    List::Util                       : 1.33
    AnyEvent::Fork                   : 1.2
    AnyEvent::Util                   : 0
    CPAN::Meta::Prereqs              : 2.132830
    Moose::Role                      : 2.1005
    Try::Tiny                        : 0.18
    Getopt::Long                     : 2.41
    Test::Exception                  : 0.32
    Bread::Board::Literal            : 0.28
    parent                           : 0.228
    AnyEvent                         : 7.05
    Plack::Session                   : 0.20
    Data::Dumper                     : 2.145
    overload                         : 1.18
    Devel::PPPort                    : 3.21
    Env                              : 1.04
    B                                : 1.35
    Test::More                       : 0.98
    Plack::Util                      : 
    CPAN::Meta::Requirements         : 2.125
    Bread::Board::Types              : 0.28
    File::Temp                       : 0.2302
    File::Copy::Recursive            : 0.38
    IO::Dir                          : 1.10
    Module::Metadata                 : 1.000018
    HTML::FillInForm::Lite           : 1.13
    Scalar::Util                     : 1.33
    Test::Requires                   : 0.07
    File::Spec                       : 3.40
    File::ShareDir                   : 1.03
    Digest                           : 1.17
    Test::Moose                      : 2.1005
    Mouse                            : 1.12
    Curses::UI                       : 0.9609
    Digest::MD5                      : 2.53
    lib                              : 0.63
    MRO::Compat                      : 0.12
    Hash::MultiValue                 : 0.15
    ExtUtils::Helpers                : 0.021
    Class::Load                      : 0.20
    Moo                              : 1.003001
    Guard                            : 1.022
    TAP::Harness                     : 3.29
    namespace::clean                 : 0.24
    JSON::PP                         : 2.27202
    AnyEvent::Socket                 : 0
    Plack::Response                  : 1.0029
    Catalyst::Runtime                : 5.90042
    JSON                             : 2.59
    blib                             : 1.06
    Cwd                              : 3.40

Test Output    :

PERL_DL_NONLAZY=1 /home/egor/perl5/perlbrew/perls/perl-5.16.1/bin/perl5.16.3 "-MExtUtils::Command::MM" "-MTest::Harness" "-e" "undef *Test::Harness::Switches; test_harness(0, 'blib/lib', 'blib/arch')" t/*.t
t/base_classes.t .... ok
t/dialog_classes.t .. ok
t/widget_classes.t .. ok
All tests successful.
Files=3, Tests=26,  2 wallclock secs ( 0.10 usr  0.02 sys +  0.79 cusr  0.17 csys =  1.08 CPU)
Result: PASS
PERL_DL_NONLAZY=1 /home/egor/perl5/perlbrew/perls/perl-5.16.1/bin/perl5.16.3 "-Iblib/lib" "-Iblib/arch" test.pl

----------------------------------------------------------------------
All load tests were successful. If you want to
do an interactive test, then run:

  make test INTERACTIVE_TEST=1

----------------------------------------------------------------------



--

Summary of my perl5 (revision 5 version 16 subversion 3) configuration:
   
  Platform:
    osname=linux, osvers=3.8-6.dmz.1-liquorix-amd64, archname=x86_64-linux
    uname='linux home 3.8-6.dmz.1-liquorix-amd64 #1 zen smp preempt sun apr 7 20:50:24 utc 2013 x86_64 gnulinux '
    config_args='-de -Dprefix=/home/egor/perl5/perlbrew/perls/perl-5.16.1 -Aeval:scriptdir=/home/egor/perl5/perlbrew/perls/perl-5.16.1/bin'
    hint=recommended, useposix=true, d_sigaction=define
    useithreads=undef, usemultiplicity=undef
    useperlio=define, d_sfio=undef, uselargefiles=define, usesocks=undef
    use64bitint=define, use64bitall=define, uselongdouble=undef
    usemymalloc=n, bincompat5005=undef
  Compiler:
    cc='cc', ccflags ='-fno-strict-aliasing -pipe -fstack-protector -I/usr/local/include -D_LARGEFILE_SOURCE -D_FILE_OFFSET_BITS=64',
    optimize='-O2',
    cppflags='-fno-strict-aliasing -pipe -fstack-protector -I/usr/local/include'
    ccversion='', gccversion='4.7.2', gccosandvers=''
    intsize=4, longsize=8, ptrsize=8, doublesize=8, byteorder=12345678
    d_longlong=define, longlongsize=8, d_longdbl=define, longdblsize=16
    ivtype='long', ivsize=8, nvtype='double', nvsize=8, Off_t='off_t', lseeksize=8
    alignbytes=8, prototype=define
  Linker and Libraries:
    ld='cc', ldflags =' -fstack-protector -L/usr/local/lib'
    libpth=/usr/local/lib /lib/x86_64-linux-gnu /lib/../lib /usr/lib/x86_64-linux-gnu /usr/lib/../lib /lib /usr/lib
    libs=-lnsl -ldl -lm -lcrypt -lutil -lc
    perllibs=-lnsl -ldl -lm -lcrypt -lutil -lc
    libc=, so=so, useshrplib=false, libperl=libperl.a
    gnulibc_version='2.13'
  Dynamic Linking:
    dlsrc=dl_dlopen.xs, dlext=so, d_dlsymun=undef, ccdlflags='-Wl,-E'
    cccdlflags='-fPIC', lddlflags='-shared -O2 -L/usr/local/lib -fstack-protector'


Characteristics of this binary (from libperl): 
  Compile-time options: HAS_TIMES PERLIO_LAYERS PERL_DONT_CREATE_GVSV
                        PERL_MALLOC_WRAP PERL_PRESERVE_IVUV USE_64_BIT_ALL
                        USE_64_BIT_INT USE_LARGE_FILES USE_LOCALE
                        USE_LOCALE_COLLATE USE_LOCALE_CTYPE
                        USE_LOCALE_NUMERIC USE_PERLIO USE_PERL_ATOF
  Built under linux
  Compiled at Apr 16 2013 01:03:08
  %ENV:
    PERLBREW_BASHRC_VERSION="0.66"
    PERLBREW_HOME="/home/egor/.perlbrew"
    PERLBREW_MANPATH="/home/egor/perl5/perlbrew/perls/perl-5.16.1/man"
    PERLBREW_PATH="/home/egor/perl5/perlbrew/bin:/home/egor/perl5/perlbrew/perls/perl-5.16.1/bin"
    PERLBREW_PERL="perl-5.16.1"
    PERLBREW_ROOT="/home/egor/perl5/perlbrew"
    PERLBREW_VERSION="0.66"
    PERL_MM_USE_DEFAULT="1"
  @INC:
    /home/egor/perl5/perlbrew/perls/perl-5.16.1/lib/site_perl/5.16.3/x86_64-linux
    /home/egor/perl5/perlbrew/perls/perl-5.16.1/lib/site_perl/5.16.3
    /home/egor/perl5/perlbrew/perls/perl-5.16.1/lib/5.16.3/x86_64-linux
    /home/egor/perl5/perlbrew/perls/perl-5.16.1/lib/5.16.3
    /home/egor/perl5/perlbrew/perls/perl-5.16.1/lib/site_perl/5.16.2/x86_64-linux
    /home/egor/perl5/perlbrew/perls/perl-5.16.1/lib/site_perl/5.16.2
    /home/egor/perl5/perlbrew/perls/perl-5.16.1/lib/site_perl/5.16.1/x86_64-linux
    /home/egor/perl5/perlbrew/perls/perl-5.16.1/lib/site_perl/5.16.1
    /home/egor/perl5/perlbrew/perls/perl-5.16.1/lib/site_perl
    .