Report for XML-Toolkit-0.15

Back
From: metabase:user:314402c4-2aae-11df-837a-5e0a49663a4f
Subject: PASS XML-Toolkit-0.15 v5.27.2 GNU/Linux
Date: 2017-07-28T22:11:39Z

This distribution has been tested as part of the CPAN Testers
project, supporting the Perl programming language.  See
http://wiki.cpantesters.org/ for more information or email
questions to cpan-testers-discuss@perl.org


--
Dear Chris Prather,

This is a computer-generated report for XML-Toolkit-0.15
on perl 5.27.2, created by CPAN-Reporter-1.2018.

Thank you for uploading your work to CPAN.  Congratulations!
All tests were successful.

Sections of this report:

    * Tester comments
    * Program output
    * Prerequisites
    * Environment and other context

------------------------------
TESTER COMMENTS
------------------------------

Additional comments from tester:

none provided

------------------------------
PROGRAM OUTPUT
------------------------------

Output from '/usr/bin/make test':

PERL_DL_NONLAZY=1 "/opt/perl-5.27.2t/bin/perl5.27.2" "-MExtUtils::Command::MM" "-MTest::Harness" "-e" "undef *Test::Harness::Switches; test_harness(0, 'blib/lib', 'blib/arch')" t/*.t t/02.namespaces/*.t t/06.reuse/*.t
t/00-compile.t ................................ ok
Class::MOP::load_class is deprecated at /opt/perl-5.27.2t/lib/site_perl/5.27.2/x86_64-linux-thread-multi/Class/MOP.pm line 69.
	Class::MOP::load_class("MyTest::Note") called at /home/cpansand/.cpan/build/2017072821/XML-Toolkit-0.15-0/blib/lib/XML/Toolkit/Loader/Filter.pm line 44
	XML::Toolkit::Loader::Filter::load_class(XML::Toolkit::Loader::Filter=HASH(0x55f4d14c66c0), "MyTest::Note") called at /home/cpansand/.cpan/build/2017072821/XML-Toolkit-0.15-0/blib/lib/XML/Toolkit/Loader/Filter.pm line 63
	XML::Toolkit::Loader::Filter::start_element(XML::Toolkit::Loader::Filter=HASH(0x55f4d14c66c0), HASH(0x55f4d17ab0f0)) called at /opt/perl-5.27.2t/lib/site_perl/5.27.2/x86_64-linux-thread-multi/XML/SAX/ExpatXS/Preload.pm line 41
	XML::SAX::ExpatXS::Preload::__ANON__(HASH(0x55f4d17ab0f0)) called at /opt/perl-5.27.2t/lib/site_perl/5.27.2/x86_64-linux-thread-multi/XML/SAX/ExpatXS.pm line 163
	XML::SAX::ExpatXS::_parse(XML::SAX::ExpatXS=HASH(0x55f4d14eb0c8)) called at /opt/perl-5.27.2t/lib/site_perl/5.27.2/x86_64-linux-thread-multi/XML/SAX/ExpatXS.pm line 102
	XML::SAX::ExpatXS::_parse_string(XML::SAX::ExpatXS=HASH(0x55f4d14eb0c8), "<?xml version=\"1.0\"?>\x{a}<note>\x{a}    <to>Tove</to>\x{a}    <from>Jani"...) called at /opt/perl-5.27.2t/lib/site_perl/5.27.2/XML/SAX/Base.pm line 2614
	XML::SAX::Base::parse(XML::SAX::ExpatXS=HASH(0x55f4d14eb0c8), HASH(0x55f4d179e260)) called at /opt/perl-5.27.2t/lib/site_perl/5.27.2/XML/SAX/Base.pm line 2659
	XML::SAX::Base::parse_string(XML::SAX::ExpatXS=HASH(0x55f4d14eb0c8), "<?xml version=\"1.0\"?>\x{a}<note>\x{a}    <to>Tove</to>\x{a}    <from>Jani"...) called at inline delegation in XML::Toolkit::Loader for parser->parse_string (attribute declared in /home/cpansand/.cpan/build/2017072821/XML-Toolkit-0.15-0/blib/lib/XML/Toolkit/Loader.pm at line 22) line 18
	XML::Toolkit::Loader::parse_string(XML::Toolkit::Loader=HASH(0x55f4d178c958), "<?xml version=\"1.0\"?>\x{a}<note>\x{a}    <to>Tove</to>\x{a}    <from>Jani"...) called at /opt/perl-5.27.2t/lib/site_perl/5.27.2/x86_64-linux-thread-multi/Class/MOP/Method/Wrapped.pm line 44
	XML::Toolkit::Loader::_wrapped_parse_string(XML::Toolkit::Loader=HASH(0x55f4d178c958), "<?xml version=\"1.0\"?>\x{a}<note>\x{a}    <to>Tove</to>\x{a}    <from>Jani"...) called at /opt/perl-5.27.2t/lib/site_perl/5.27.2/x86_64-linux-thread-multi/Class/MOP/Method/Wrapped.pm line 95
	XML::Toolkit::Loader::parse_string(XML::Toolkit::Loader=HASH(0x55f4d178c958), "<?xml version=\"1.0\"?>\x{a}<note>\x{a}    <to>Tove</to>\x{a}    <from>Jani"...) called at t/01.basic.t line 31
t/01.basic.t .................................. ok
Class::MOP::load_class is deprecated at /opt/perl-5.27.2t/lib/site_perl/5.27.2/x86_64-linux-thread-multi/Class/MOP.pm line 69.
	Class::MOP::load_class("XMLTK::Test::Foo") called at /home/cpansand/.cpan/build/2017072821/XML-Toolkit-0.15-0/blib/lib/XML/Toolkit/Loader/Filter.pm line 44
	XML::Toolkit::Loader::Filter::load_class(XML::Toolkit::Loader::Filter=HASH(0x55d0fdef4f58), "XMLTK::Test::Foo") called at /home/cpansand/.cpan/build/2017072821/XML-Toolkit-0.15-0/blib/lib/XML/Toolkit/Loader/Filter.pm line 63
	XML::Toolkit::Loader::Filter::start_element(XML::Toolkit::Loader::Filter=HASH(0x55d0fdef4f58), HASH(0x55d0fde4fca0)) called at /opt/perl-5.27.2t/lib/site_perl/5.27.2/x86_64-linux-thread-multi/XML/SAX/ExpatXS/Preload.pm line 41
	XML::SAX::ExpatXS::Preload::__ANON__(HASH(0x55d0fde4fca0)) called at /opt/perl-5.27.2t/lib/site_perl/5.27.2/x86_64-linux-thread-multi/XML/SAX/ExpatXS.pm line 163
	XML::SAX::ExpatXS::_parse(XML::SAX::ExpatXS=HASH(0x55d0fd8e83d0)) called at /opt/perl-5.27.2t/lib/site_perl/5.27.2/x86_64-linux-thread-multi/XML/SAX/ExpatXS.pm line 102
	XML::SAX::ExpatXS::_parse_string(XML::SAX::ExpatXS=HASH(0x55d0fd8e83d0), "<foo xmlns:my=\"http://example.org/my/\"><my:bar /></foo>") called at /opt/perl-5.27.2t/lib/site_perl/5.27.2/XML/SAX/Base.pm line 2614
	XML::SAX::Base::parse(XML::SAX::ExpatXS=HASH(0x55d0fd8e83d0), HASH(0x55d0fde48998)) called at /opt/perl-5.27.2t/lib/site_perl/5.27.2/XML/SAX/Base.pm line 2659
	XML::SAX::Base::parse_string(XML::SAX::ExpatXS=HASH(0x55d0fd8e83d0), "<foo xmlns:my=\"http://example.org/my/\"><my:bar /></foo>") called at inline delegation in XML::Toolkit::Loader for parser->parse_string (attribute declared in /home/cpansand/.cpan/build/2017072821/XML-Toolkit-0.15-0/blib/lib/XML/Toolkit/Loader.pm at line 22) line 18
	XML::Toolkit::Loader::parse_string(XML::Toolkit::Loader=HASH(0x55d0fde3e410), "<foo xmlns:my=\"http://example.org/my/\"><my:bar /></foo>") called at /opt/perl-5.27.2t/lib/site_perl/5.27.2/x86_64-linux-thread-multi/Class/MOP/Method/Wrapped.pm line 44
	XML::Toolkit::Loader::_wrapped_parse_string(XML::Toolkit::Loader=HASH(0x55d0fde3e410), "<foo xmlns:my=\"http://example.org/my/\"><my:bar /></foo>") called at /opt/perl-5.27.2t/lib/site_perl/5.27.2/x86_64-linux-thread-multi/Class/MOP/Method/Wrapped.pm line 95
	XML::Toolkit::Loader::parse_string(XML::Toolkit::Loader=HASH(0x55d0fde3e410), "<foo xmlns:my=\"http://example.org/my/\"><my:bar /></foo>") called at t/02.namespaces/01.basic_namespace.t line 36
t/02.namespaces/01.basic_namespace.t .......... ok
Class::MOP::load_class is deprecated at /opt/perl-5.27.2t/lib/site_perl/5.27.2/x86_64-linux-thread-multi/Class/MOP.pm line 69.
	Class::MOP::load_class("ABC::Root") called at /home/cpansand/.cpan/build/2017072821/XML-Toolkit-0.15-0/blib/lib/XML/Toolkit/Loader/Filter.pm line 44
	XML::Toolkit::Loader::Filter::load_class(XML::Toolkit::Loader::Filter=HASH(0x561167b36d28), "ABC::Root") called at /home/cpansand/.cpan/build/2017072821/XML-Toolkit-0.15-0/blib/lib/XML/Toolkit/Loader/Filter.pm line 63
	XML::Toolkit::Loader::Filter::start_element(XML::Toolkit::Loader::Filter=HASH(0x561167b36d28), HASH(0x561167571ac0)) called at /opt/perl-5.27.2t/lib/site_perl/5.27.2/x86_64-linux-thread-multi/XML/SAX/ExpatXS/Preload.pm line 41
	XML::SAX::ExpatXS::Preload::__ANON__(HASH(0x561167571ac0)) called at /opt/perl-5.27.2t/lib/site_perl/5.27.2/x86_64-linux-thread-multi/XML/SAX/ExpatXS.pm line 163
	XML::SAX::ExpatXS::_parse(XML::SAX::ExpatXS=HASH(0x5611677e8d18)) called at /opt/perl-5.27.2t/lib/site_perl/5.27.2/x86_64-linux-thread-multi/XML/SAX/ExpatXS.pm line 102
	XML::SAX::ExpatXS::_parse_string(XML::SAX::ExpatXS=HASH(0x5611677e8d18), "<root xmlns=\"abc\">test1</root>") called at /opt/perl-5.27.2t/lib/site_perl/5.27.2/XML/SAX/Base.pm line 2614
	XML::SAX::Base::parse(XML::SAX::ExpatXS=HASH(0x5611677e8d18), HASH(0x561167663f58)) called at /opt/perl-5.27.2t/lib/site_perl/5.27.2/XML/SAX/Base.pm line 2659
	XML::SAX::Base::parse_string(XML::SAX::ExpatXS=HASH(0x5611677e8d18), "<root xmlns=\"abc\">test1</root>") called at inline delegation in XML::Toolkit::Loader for parser->parse_string (attribute declared in /home/cpansand/.cpan/build/2017072821/XML-Toolkit-0.15-0/blib/lib/XML/Toolkit/Loader.pm at line 22) line 18
	XML::Toolkit::Loader::parse_string(XML::Toolkit::Loader=HASH(0x561166b38198), "<root xmlns=\"abc\">test1</root>") called at /opt/perl-5.27.2t/lib/site_perl/5.27.2/x86_64-linux-thread-multi/Class/MOP/Method/Wrapped.pm line 44
	XML::Toolkit::Loader::_wrapped_parse_string(XML::Toolkit::Loader=HASH(0x561166b38198), "<root xmlns=\"abc\">test1</root>") called at /opt/perl-5.27.2t/lib/site_perl/5.27.2/x86_64-linux-thread-multi/Class/MOP/Method/Wrapped.pm line 95
	XML::Toolkit::Loader::parse_string(XML::Toolkit::Loader=HASH(0x561166b38198), "<root xmlns=\"abc\">test1</root>") called at t/02.namespaces/02.root_namespace_equality.t line 26
t/02.namespaces/02.root_namespace_equality.t .. ok
Class::MOP::is_class_loaded is deprecated at /opt/perl-5.27.2t/lib/site_perl/5.27.2/x86_64-linux-thread-multi/Class/MOP.pm line 87.
	Class::MOP::is_class_loaded("MyApp::Root") called at t/02.namespaces/03.namespaced_loading.t line 39
	eval {...} called at t/02.namespaces/03.namespaced_loading.t line 34
Class::MOP::load_class is deprecated at /opt/perl-5.27.2t/lib/site_perl/5.27.2/x86_64-linux-thread-multi/Class/MOP.pm line 69.
	Class::MOP::load_class("MyApp::Root") called at /home/cpansand/.cpan/build/2017072821/XML-Toolkit-0.15-0/blib/lib/XML/Toolkit/Loader/Filter.pm line 44
	XML::Toolkit::Loader::Filter::load_class(XML::Toolkit::Loader::Filter=HASH(0x5640dbfce0c8), "MyApp::Root") called at /home/cpansand/.cpan/build/2017072821/XML-Toolkit-0.15-0/blib/lib/XML/Toolkit/Loader/Filter.pm line 63
	XML::Toolkit::Loader::Filter::start_element(XML::Toolkit::Loader::Filter=HASH(0x5640dbfce0c8), HASH(0x5640d9370818)) called at /opt/perl-5.27.2t/lib/site_perl/5.27.2/x86_64-linux-thread-multi/XML/SAX/ExpatXS/Preload.pm line 41
	XML::SAX::ExpatXS::Preload::__ANON__(HASH(0x5640d9370818)) called at /opt/perl-5.27.2t/lib/site_perl/5.27.2/x86_64-linux-thread-multi/XML/SAX/ExpatXS.pm line 163
	XML::SAX::ExpatXS::_parse(XML::SAX::ExpatXS=HASH(0x5640dc070aa8)) called at /opt/perl-5.27.2t/lib/site_perl/5.27.2/x86_64-linux-thread-multi/XML/SAX/ExpatXS.pm line 102
	XML::SAX::ExpatXS::_parse_string(XML::SAX::ExpatXS=HASH(0x5640dc070aa8), "<root xmlns:a=\"a\" xmlns:b=\"b\">\x{a}    <a:one>oneA</a:one>\x{a}    <b"...) called at /opt/perl-5.27.2t/lib/site_perl/5.27.2/XML/SAX/Base.pm line 2614
	XML::SAX::Base::parse(XML::SAX::ExpatXS=HASH(0x5640dc070aa8), HASH(0x5640db407c58)) called at /opt/perl-5.27.2t/lib/site_perl/5.27.2/XML/SAX/Base.pm line 2659
	XML::SAX::Base::parse_string(XML::SAX::ExpatXS=HASH(0x5640dc070aa8), "<root xmlns:a=\"a\" xmlns:b=\"b\">\x{a}    <a:one>oneA</a:one>\x{a}    <b"...) called at inline delegation in XML::Toolkit::Loader for parser->parse_string (attribute declared in /home/cpansand/.cpan/build/2017072821/XML-Toolkit-0.15-0/blib/lib/XML/Toolkit/Loader.pm at line 22) line 18
	XML::Toolkit::Loader::parse_string(XML::Toolkit::Loader=HASH(0x5640db3d6c38), "<root xmlns:a=\"a\" xmlns:b=\"b\">\x{a}    <a:one>oneA</a:one>\x{a}    <b"...) called at /opt/perl-5.27.2t/lib/site_perl/5.27.2/x86_64-linux-thread-multi/Class/MOP/Method/Wrapped.pm line 44
	XML::Toolkit::Loader::_wrapped_parse_string(XML::Toolkit::Loader=HASH(0x5640db3d6c38), "<root xmlns:a=\"a\" xmlns:b=\"b\">\x{a}    <a:one>oneA</a:one>\x{a}    <b"...) called at /opt/perl-5.27.2t/lib/site_perl/5.27.2/x86_64-linux-thread-multi/Class/MOP/Method/Wrapped.pm line 95
	XML::Toolkit::Loader::parse_string(XML::Toolkit::Loader=HASH(0x5640db3d6c38), "<root xmlns:a=\"a\" xmlns:b=\"b\">\x{a}    <a:one>oneA</a:one>\x{a}    <b"...) called at t/02.namespaces/03.namespaced_loading.t line 47
	eval {...} called at t/02.namespaces/03.namespaced_loading.t line 45
t/02.namespaces/03.namespaced_loading.t ....... ok
Class::MOP::load_class is deprecated at /opt/perl-5.27.2t/lib/site_perl/5.27.2/x86_64-linux-thread-multi/Class/MOP.pm line 69.
	Class::MOP::load_class("XML::XSPF::Playlist") called at /home/cpansand/.cpan/build/2017072821/XML-Toolkit-0.15-0/blib/lib/XML/Toolkit/Loader/Filter.pm line 44
	XML::Toolkit::Loader::Filter::load_class(XML::Toolkit::Loader::Filter=HASH(0x55ac8f0e9310), "XML::XSPF::Playlist") called at /home/cpansand/.cpan/build/2017072821/XML-Toolkit-0.15-0/blib/lib/XML/Toolkit/Loader/Filter.pm line 63
	XML::Toolkit::Loader::Filter::start_element(XML::Toolkit::Loader::Filter=HASH(0x55ac8f0e9310), HASH(0x55ac8f0caab0)) called at /opt/perl-5.27.2t/lib/site_perl/5.27.2/x86_64-linux-thread-multi/XML/SAX/ExpatXS/Preload.pm line 41
	XML::SAX::ExpatXS::Preload::__ANON__(HASH(0x55ac8f0caab0)) called at /opt/perl-5.27.2t/lib/site_perl/5.27.2/x86_64-linux-thread-multi/XML/SAX/ExpatXS.pm line 163
	XML::SAX::ExpatXS::_parse(XML::SAX::ExpatXS=HASH(0x55ac8f3eeeb8)) called at /opt/perl-5.27.2t/lib/site_perl/5.27.2/x86_64-linux-thread-multi/XML/SAX/ExpatXS.pm line 102
	XML::SAX::ExpatXS::_parse_string(XML::SAX::ExpatXS=HASH(0x55ac8f3eeeb8), "<?xml version=\"1.0\" encoding=\"utf-8\"?>\x{a}<playlist version=\"1\" "...) called at /opt/perl-5.27.2t/lib/site_perl/5.27.2/XML/SAX/Base.pm line 2614
	XML::SAX::Base::parse(XML::SAX::ExpatXS=HASH(0x55ac8f3eeeb8), HASH(0x55ac8f0c3958)) called at /opt/perl-5.27.2t/lib/site_perl/5.27.2/XML/SAX/Base.pm line 2659
	XML::SAX::Base::parse_string(XML::SAX::ExpatXS=HASH(0x55ac8f3eeeb8), "<?xml version=\"1.0\" encoding=\"utf-8\"?>\x{a}<playlist version=\"1\" "...) called at inline delegation in XML::Toolkit::Loader for parser->parse_string (attribute declared in /home/cpansand/.cpan/build/2017072821/XML-Toolkit-0.15-0/blib/lib/XML/Toolkit/Loader.pm at line 22) line 18
	XML::Toolkit::Loader::parse_string(XML::Toolkit::Loader=HASH(0x55ac8f0c3688), "<?xml version=\"1.0\" encoding=\"utf-8\"?>\x{a}<playlist version=\"1\" "...) called at /opt/perl-5.27.2t/lib/site_perl/5.27.2/x86_64-linux-thread-multi/Class/MOP/Method/Wrapped.pm line 44
	XML::Toolkit::Loader::_wrapped_parse_string(XML::Toolkit::Loader=HASH(0x55ac8f0c3688), "<?xml version=\"1.0\" encoding=\"utf-8\"?>\x{a}<playlist version=\"1\" "...) called at /opt/perl-5.27.2t/lib/site_perl/5.27.2/x86_64-linux-thread-multi/Class/MOP/Method/Wrapped.pm line 95
	XML::Toolkit::Loader::parse_string(XML::Toolkit::Loader=HASH(0x55ac8f0c3688), "<?xml version=\"1.0\" encoding=\"utf-8\"?>\x{a}<playlist version=\"1\" "...) called at t/03.xspf.t line 45
t/03.xspf.t ................................... ok
Class::MOP::load_class is deprecated at /opt/perl-5.27.2t/lib/site_perl/5.27.2/x86_64-linux-thread-multi/Class/MOP.pm line 69.
	Class::MOP::load_class("XML::RDF::RDF") called at /home/cpansand/.cpan/build/2017072821/XML-Toolkit-0.15-0/blib/lib/XML/Toolkit/Loader/Filter.pm line 44
	XML::Toolkit::Loader::Filter::load_class(XML::Toolkit::Loader::Filter=HASH(0x5565a68fb4e8), "XML::RDF::RDF") called at /home/cpansand/.cpan/build/2017072821/XML-Toolkit-0.15-0/blib/lib/XML/Toolkit/Loader/Filter.pm line 63
	XML::Toolkit::Loader::Filter::start_element(XML::Toolkit::Loader::Filter=HASH(0x5565a68fb4e8), HASH(0x5565a693ab38)) called at /opt/perl-5.27.2t/lib/site_perl/5.27.2/x86_64-linux-thread-multi/XML/SAX/ExpatXS/Preload.pm line 41
	XML::SAX::ExpatXS::Preload::__ANON__(HASH(0x5565a693ab38)) called at /opt/perl-5.27.2t/lib/site_perl/5.27.2/x86_64-linux-thread-multi/XML/SAX/ExpatXS.pm line 163
	XML::SAX::ExpatXS::_parse(XML::SAX::ExpatXS=HASH(0x5565a5fba7e8)) called at /opt/perl-5.27.2t/lib/site_perl/5.27.2/x86_64-linux-thread-multi/XML/SAX/ExpatXS.pm line 102
	XML::SAX::ExpatXS::_parse_string(XML::SAX::ExpatXS=HASH(0x5565a5fba7e8), "<?xml version=\"1.0\" encoding=\"utf-8\"?>\x{a}<rdf:RDF\x{a}  xmlns:rdf=\""...) called at /opt/perl-5.27.2t/lib/site_perl/5.27.2/XML/SAX/Base.pm line 2614
	XML::SAX::Base::parse(XML::SAX::ExpatXS=HASH(0x5565a5fba7e8), HASH(0x5565a68f7460)) called at /opt/perl-5.27.2t/lib/site_perl/5.27.2/XML/SAX/Base.pm line 2659
	XML::SAX::Base::parse_string(XML::SAX::ExpatXS=HASH(0x5565a5fba7e8), "<?xml version=\"1.0\" encoding=\"utf-8\"?>\x{a}<rdf:RDF\x{a}  xmlns:rdf=\""...) called at inline delegation in XML::Toolkit::Loader for parser->parse_string (attribute declared in /home/cpansand/.cpan/build/2017072821/XML-Toolkit-0.15-0/blib/lib/XML/Toolkit/Loader.pm at line 22) line 18
	XML::Toolkit::Loader::parse_string(XML::Toolkit::Loader=HASH(0x5565a6986f78), "<?xml version=\"1.0\" encoding=\"utf-8\"?>\x{a}<rdf:RDF\x{a}  xmlns:rdf=\""...) called at /opt/perl-5.27.2t/lib/site_perl/5.27.2/x86_64-linux-thread-multi/Class/MOP/Method/Wrapped.pm line 44
	XML::Toolkit::Loader::_wrapped_parse_string(XML::Toolkit::Loader=HASH(0x5565a6986f78), "<?xml version=\"1.0\" encoding=\"utf-8\"?>\x{a}<rdf:RDF\x{a}  xmlns:rdf=\""...) called at /opt/perl-5.27.2t/lib/site_perl/5.27.2/x86_64-linux-thread-multi/Class/MOP/Method/Wrapped.pm line 95
	XML::Toolkit::Loader::parse_string(XML::Toolkit::Loader=HASH(0x5565a6986f78), "<?xml version=\"1.0\" encoding=\"utf-8\"?>\x{a}<rdf:RDF\x{a}  xmlns:rdf=\""...) called at t/04.rdf.t line 42
t/04.rdf.t .................................... ok
Class::MOP::load_class is deprecated at /opt/perl-5.27.2t/lib/site_perl/5.27.2/x86_64-linux-thread-multi/Class/MOP.pm line 69.
	Class::MOP::load_class("MyApp::Code") called at /home/cpansand/.cpan/build/2017072821/XML-Toolkit-0.15-0/blib/lib/XML/Toolkit/Loader/Filter.pm line 44
	XML::Toolkit::Loader::Filter::load_class(XML::Toolkit::Loader::Filter=HASH(0x5636317d3358), "MyApp::Code") called at /home/cpansand/.cpan/build/2017072821/XML-Toolkit-0.15-0/blib/lib/XML/Toolkit/Loader/Filter.pm line 63
	XML::Toolkit::Loader::Filter::start_element(XML::Toolkit::Loader::Filter=HASH(0x5636317d3358), HASH(0x5636317d2ce0)) called at /opt/perl-5.27.2t/lib/site_perl/5.27.2/x86_64-linux-thread-multi/XML/SAX/ExpatXS/Preload.pm line 41
	XML::SAX::ExpatXS::Preload::__ANON__(HASH(0x5636317d2ce0)) called at /opt/perl-5.27.2t/lib/site_perl/5.27.2/x86_64-linux-thread-multi/XML/SAX/ExpatXS.pm line 163
	XML::SAX::ExpatXS::_parse(XML::SAX::ExpatXS=HASH(0x563631639d68)) called at /opt/perl-5.27.2t/lib/site_perl/5.27.2/x86_64-linux-thread-multi/XML/SAX/ExpatXS.pm line 102
	XML::SAX::ExpatXS::_parse_string(XML::SAX::ExpatXS=HASH(0x563631639d68), "<code><![CDATA[<crackers \x{26} cheese>]]></code>") called at /opt/perl-5.27.2t/lib/site_perl/5.27.2/XML/SAX/Base.pm line 2614
	XML::SAX::Base::parse(XML::SAX::ExpatXS=HASH(0x563631639d68), HASH(0x5636317be5f8)) called at /opt/perl-5.27.2t/lib/site_perl/5.27.2/XML/SAX/Base.pm line 2659
	XML::SAX::Base::parse_string(XML::SAX::ExpatXS=HASH(0x563631639d68), "<code><![CDATA[<crackers \x{26} cheese>]]></code>") called at inline delegation in XML::Toolkit::Loader for parser->parse_string (attribute declared in /home/cpansand/.cpan/build/2017072821/XML-Toolkit-0.15-0/blib/lib/XML/Toolkit/Loader.pm at line 22) line 18
	XML::Toolkit::Loader::parse_string(XML::Toolkit::Loader=HASH(0x56362f2013b8), "<code><![CDATA[<crackers \x{26} cheese>]]></code>") called at /opt/perl-5.27.2t/lib/site_perl/5.27.2/x86_64-linux-thread-multi/Class/MOP/Method/Wrapped.pm line 44
	XML::Toolkit::Loader::_wrapped_parse_string(XML::Toolkit::Loader=HASH(0x56362f2013b8), "<code><![CDATA[<crackers \x{26} cheese>]]></code>") called at /opt/perl-5.27.2t/lib/site_perl/5.27.2/x86_64-linux-thread-multi/Class/MOP/Method/Wrapped.pm line 95
	XML::Toolkit::Loader::parse_string(XML::Toolkit::Loader=HASH(0x56362f2013b8), "<code><![CDATA[<crackers \x{26} cheese>]]></code>") called at t/05.cdata.t line 26
t/05.cdata.t .................................. ok
Class::MOP::load_class is deprecated at /opt/perl-5.27.2t/lib/site_perl/5.27.2/x86_64-linux-thread-multi/Class/MOP.pm line 69.
	Class::MOP::load_class("MyTest::Note") called at /home/cpansand/.cpan/build/2017072821/XML-Toolkit-0.15-0/blib/lib/XML/Toolkit/Loader/Filter.pm line 44
	XML::Toolkit::Loader::Filter::load_class(XML::Toolkit::Loader::Filter=HASH(0x556a60b721e0), "MyTest::Note") called at /home/cpansand/.cpan/build/2017072821/XML-Toolkit-0.15-0/blib/lib/XML/Toolkit/Loader/Filter.pm line 63
	XML::Toolkit::Loader::Filter::start_element(XML::Toolkit::Loader::Filter=HASH(0x556a60b721e0), HASH(0x556a60b48240)) called at /opt/perl-5.27.2t/lib/site_perl/5.27.2/x86_64-linux-thread-multi/XML/SAX/ExpatXS/Preload.pm line 41
	XML::SAX::ExpatXS::Preload::__ANON__(HASH(0x556a60b48240)) called at /opt/perl-5.27.2t/lib/site_perl/5.27.2/x86_64-linux-thread-multi/XML/SAX/ExpatXS.pm line 163
	XML::SAX::ExpatXS::_parse(XML::SAX::ExpatXS=HASH(0x556a60e3e180)) called at /opt/perl-5.27.2t/lib/site_perl/5.27.2/x86_64-linux-thread-multi/XML/SAX/ExpatXS.pm line 102
	XML::SAX::ExpatXS::_parse_string(XML::SAX::ExpatXS=HASH(0x556a60e3e180), "<?xml version=\"1.0\"?>\x{a}<note>\x{a}    <to>Tove</to>\x{a}    <from>Jani"...) called at /opt/perl-5.27.2t/lib/site_perl/5.27.2/XML/SAX/Base.pm line 2614
	XML::SAX::Base::parse(XML::SAX::ExpatXS=HASH(0x556a60e3e180), HASH(0x556a5f5c5660)) called at /opt/perl-5.27.2t/lib/site_perl/5.27.2/XML/SAX/Base.pm line 2659
	XML::SAX::Base::parse_string(XML::SAX::ExpatXS=HASH(0x556a60e3e180), "<?xml version=\"1.0\"?>\x{a}<note>\x{a}    <to>Tove</to>\x{a}    <from>Jani"...) called at inline delegation in XML::Toolkit::Loader for parser->parse_string (attribute declared in /home/cpansand/.cpan/build/2017072821/XML-Toolkit-0.15-0/blib/lib/XML/Toolkit/Loader.pm at line 22) line 18
	XML::Toolkit::Loader::parse_string(XML::Toolkit::Loader=HASH(0x556a60b33848), "<?xml version=\"1.0\"?>\x{a}<note>\x{a}    <to>Tove</to>\x{a}    <from>Jani"...) called at /opt/perl-5.27.2t/lib/site_perl/5.27.2/x86_64-linux-thread-multi/Class/MOP/Method/Wrapped.pm line 44
	XML::Toolkit::Loader::_wrapped_parse_string(XML::Toolkit::Loader=HASH(0x556a60b33848), "<?xml version=\"1.0\"?>\x{a}<note>\x{a}    <to>Tove</to>\x{a}    <from>Jani"...) called at /opt/perl-5.27.2t/lib/site_perl/5.27.2/x86_64-linux-thread-multi/Class/MOP/Method/Wrapped.pm line 95
	XML::Toolkit::Loader::parse_string(XML::Toolkit::Loader=HASH(0x556a60b33848), "<?xml version=\"1.0\"?>\x{a}<note>\x{a}    <to>Tove</to>\x{a}    <from>Jani"...) called at t/06.reuse/06.reuse_generator.t line 41
t/06.reuse/06.reuse_generator.t ............... ok
Class::MOP::load_class is deprecated at /opt/perl-5.27.2t/lib/site_perl/5.27.2/x86_64-linux-thread-multi/Class/MOP.pm line 69.
	Class::MOP::load_class() called at /home/cpansand/.cpan/build/2017072821/XML-Toolkit-0.15-0/blib/lib/XML/Toolkit/Loader/Filter.pm line 44
	XML::Toolkit::Loader::Filter::load_class() called at /home/cpansand/.cpan/build/2017072821/XML-Toolkit-0.15-0/blib/lib/XML/Toolkit/Loader/Filter.pm line 63
	XML::Toolkit::Loader::Filter::start_element() called at /opt/perl-5.27.2t/lib/site_perl/5.27.2/x86_64-linux-thread-multi/XML/SAX/ExpatXS/Preload.pm line 41
	XML::SAX::ExpatXS::Preload::__ANON__() called at /opt/perl-5.27.2t/lib/site_perl/5.27.2/x86_64-linux-thread-multi/XML/SAX/ExpatXS.pm line 163
	XML::SAX::ExpatXS::_parse() called at /opt/perl-5.27.2t/lib/site_perl/5.27.2/x86_64-linux-thread-multi/XML/SAX/ExpatXS.pm line 102
	XML::SAX::ExpatXS::_parse_string() called at /opt/perl-5.27.2t/lib/site_perl/5.27.2/XML/SAX/Base.pm line 2614
	XML::SAX::Base::parse() called at /opt/perl-5.27.2t/lib/site_perl/5.27.2/XML/SAX/Base.pm line 2659
	XML::SAX::Base::parse_string() called at inline delegation in XML::Toolkit::Loader for parser->parse_string (attribute declared in /home/cpansand/.cpan/build/2017072821/XML-Toolkit-0.15-0/blib/lib/XML/Toolkit/Loader.pm at line 22) line 18
	XML::Toolkit::Loader::parse_string() called at /opt/perl-5.27.2t/lib/site_perl/5.27.2/x86_64-linux-thread-multi/Class/MOP/Method/Wrapped.pm line 44
	XML::Toolkit::Loader::_wrapped_parse_string() called at /opt/perl-5.27.2t/lib/site_perl/5.27.2/x86_64-linux-thread-multi/Class/MOP/Method/Wrapped.pm line 95
	XML::Toolkit::Loader::parse_string() called at t/06.reuse/06.reuse_loader.t line 42
	Test::Exception::lives_ok() called at t/06.reuse/06.reuse_loader.t line 42
t/06.reuse/06.reuse_loader.t .................. ok
t/release-pod-coverage.t ...................... skipped: these tests are for release candidate testing
t/release-pod-syntax.t ........................ skipped: these tests are for release candidate testing
All tests successful.
Files=12, Tests=91, 11 wallclock secs ( 0.04 usr  0.05 sys + 10.35 cusr  1.00 csys = 11.44 CPU)
Result: PASS

------------------------------
PREREQUISITES
------------------------------

Prerequisite modules loaded:

requires:

    Module                                   Need Have    
    ---------------------------------------- ---- --------
    aliased                                  0    0.34    
    Bread::Board                             0    0.34    
    Bread::Board::Container                  0    0.34    
    Devel::PackagePath                       0.01 0.03    
    Encode                                   0    2.92    
    Moose                                    0.92 2.2006  
    Moose::Role                              0    2.2006  
    Moose::Util::TypeConstraints             0    2.2006  
    MooseX::Aliases                          0    0.11    
    MooseX::App::Cmd                         0    0.32    
    MooseX::App::Cmd::Command                0    0.32    
    MooseX::Getopt::Dashes                   0    0.71    
    MooseX::MetaDescription                  0.03 0.06    
    MooseX::MetaDescription::Description     0    0.06    
    MooseX::MetaDescription::Meta::Attribute 0    0.06    
    MooseX::MetaDescription::Meta::Trait     0    0.06    
    MooseX::NonMoose                         0    0.26    
    MooseX::Types::Path::Class               0.04 0.09    
    namespace::autoclean                     0    0.28    
    strict                                   0    1.11    
    Template                                 2.20 2.27    
    warnings                                 0    1.37    
    XML::SAX                                 0.96 0.99    
    XML::SAX::Base                           0    1.09    
    XML::SAX::Writer                         0.50 0.57    

build_requires:

    Module                                   Need Have    
    ---------------------------------------- ---- --------
    File::Find                               0    1.34    
    File::Temp                               0    0.2304  
    Path::Class                              0    0.37    
    Test::Deep                               0    1.127   
    Test::Exception                          0    0.43    
    Test::More                               0    1.302086
    Test::Simple                             0.94 1.302086
    Test::XML                                0.00 0.08    

configure_requires:

    Module                                   Need Have    
    ---------------------------------------- ---- --------
    ExtUtils::MakeMaker                      6.30 7.30    


------------------------------
ENVIRONMENT AND OTHER CONTEXT
------------------------------

Environment variables:

    LANG = C
    LC_ALL = de_DE.UTF-8
    PATH = /usr/local/bin:/usr/bin:/bin:/usr/local/sbin:/usr/sbin:/sbin:/home/cpansand/bin/linux-gnu:/home/cpansand/bin/sh:/home/cpansand/bin:/usr/games:/home/cpansand/devel:/home/eserte/src/srezic-misc/scripts
    PERL5LIB = 
    PERL5OPT = 
    PERL5_CPANPLUS_IS_RUNNING = 13593
    PERL5_CPAN_IS_RUNNING = 13593
    PERL5_CPAN_IS_RUNNING_IN_RECURSION = 28310,13593
    PERLDOC = -MPod::Perldoc::ToTextOverstrike
    PERL_BATCH = yes
    PERL_CANARY_STABILITY_NOPROMPT = 1
    PERL_CPAN_REPORTER_CONFIG = /var/tmp/cpansmoker-1023/2017072812/cpanreporter_001_config.ini
    PERL_EXTUTILS_AUTOINSTALL = --defaultdeps
    PERL_PARALLEL_SMOKER = yes
    PERL_USE_UNSAFE_INC = 1
    SHELL = /usr/bin/zsh
    TERM = screen
    TMPDIR = /var/tmp/cpansmoker-1023/2017072812

Perl special variables (and OS-specific diagnostics, for MSWin32):

    $^X = /opt/perl-5.27.2t/bin/perl5.27.2
    $UID/$EUID = 1023 / 1023
    $GID = 1023 1023
    $EGID = 1023 1023

Perl module toolchain versions installed:

    Module              Have    
    ------------------- --------
    CPAN                2.16    
    CPAN::Meta          2.150010
    Cwd                 3.62    
    ExtUtils::CBuilder  0.280226
    ExtUtils::Command   7.30    
    ExtUtils::Install   2.14    
    ExtUtils::MakeMaker 7.30    
    ExtUtils::Manifest  1.70    
    ExtUtils::ParseXS   3.30    
    File::Spec          3.62    
    JSON                2.94    
    JSON::PP            2.94    
    Module::Build       0.4224  
    Module::Signature   0.81    
    Parse::CPAN::Meta   2.150010
    Test::Harness       3.39    
    Test::More          1.302086
    YAML                1.23    
    YAML::Syck          1.30    
    version             0.9918  


--

Summary of my perl5 (revision 5 version 27 subversion 2) configuration:
   
  Platform:
    osname=linux
    osvers=4.9.0-3-amd64
    archname=x86_64-linux-thread-multi
    uname='linux debian9 4.9.0-3-amd64 #1 smp debian 4.9.30-2+deb9u2 (2017-06-26) x86_64 gnulinux '
    config_args='-ds -e -Dprefix=/opt/perl-5.27.2t -Dusedevel -Dusemallocwrap=no -Dusethreads -Dcf_email=srezic@cpan.org'
    hint=recommended
    useposix=true
    d_sigaction=define
    useithreads=define
    usemultiplicity=define
    use64bitint=define
    use64bitall=define
    uselongdouble=undef
    usemymalloc=n
    default_inc_excludes_dot=define
    bincompat5005=undef
  Compiler:
    cc='cc'
    ccflags ='-D_REENTRANT -D_GNU_SOURCE -fwrapv -fno-strict-aliasing -pipe -fstack-protector-strong -I/usr/local/include -D_LARGEFILE_SOURCE -D_FILE_OFFSET_BITS=64'
    optimize='-O2'
    cppflags='-D_REENTRANT -D_GNU_SOURCE -fwrapv -fno-strict-aliasing -pipe -fstack-protector-strong -I/usr/local/include'
    ccversion=''
    gccversion='6.3.0 20170516'
    gccosandvers=''
    intsize=4
    longsize=8
    ptrsize=8
    doublesize=8
    byteorder=12345678
    doublekind=3
    d_longlong=define
    longlongsize=8
    d_longdbl=define
    longdblsize=16
    longdblkind=3
    ivtype='long'
    ivsize=8
    nvtype='double'
    nvsize=8
    Off_t='off_t'
    lseeksize=8
    alignbytes=8
    prototype=define
  Linker and Libraries:
    ld='cc'
    ldflags =' -fstack-protector-strong -L/usr/local/lib'
    libpth=/usr/local/lib /usr/lib/gcc/x86_64-linux-gnu/6/include-fixed /usr/include/x86_64-linux-gnu /usr/lib /lib/x86_64-linux-gnu /lib/../lib /usr/lib/x86_64-linux-gnu /usr/lib/../lib /lib
    libs=-lpthread -lnsl -lgdbm -ldb -ldl -lm -lcrypt -lutil -lc -lgdbm_compat
    perllibs=-lpthread -lnsl -ldl -lm -lcrypt -lutil -lc
    libc=libc-2.24.so
    so=so
    useshrplib=false
    libperl=libperl.a
    gnulibc_version='2.24'
  Dynamic Linking:
    dlsrc=dl_dlopen.xs
    dlext=so
    d_dlsymun=undef
    ccdlflags='-Wl,-E'
    cccdlflags='-fPIC'
    lddlflags='-shared -O2 -L/usr/local/lib -fstack-protector-strong'


Characteristics of this binary (from libperl): 
  Compile-time options:
    HAS_TIMES
    MULTIPLICITY
    PERLIO_LAYERS
    PERL_COPY_ON_WRITE
    PERL_DONT_CREATE_GVSV
    PERL_IMPLICIT_CONTEXT
    PERL_OP_PARENT
    PERL_PRESERVE_IVUV
    PERL_USE_DEVEL
    USE_64_BIT_ALL
    USE_64_BIT_INT
    USE_ITHREADS
    USE_LARGE_FILES
    USE_LOCALE
    USE_LOCALE_COLLATE
    USE_LOCALE_CTYPE
    USE_LOCALE_NUMERIC
    USE_LOCALE_TIME
    USE_PERLIO
    USE_PERL_ATOF
    USE_REENTRANT_API
  Locally applied patches:
    Devel::PatchPerl 1.48
  Built under linux
  Compiled at Jul 24 2017 18:34:46
  %ENV:
    PERL5LIB=""
    PERL5OPT=""
    PERL5_CPANPLUS_IS_RUNNING="13593"
    PERL5_CPAN_IS_RUNNING="13593"
    PERL5_CPAN_IS_RUNNING_IN_RECURSION="28310,13593"
    PERLDOC="-MPod::Perldoc::ToTextOverstrike"
    PERL_BATCH="yes"
    PERL_CANARY_STABILITY_NOPROMPT="1"
    PERL_CPAN_REPORTER_CONFIG="/var/tmp/cpansmoker-1023/2017072812/cpanreporter_001_config.ini"
    PERL_EXTUTILS_AUTOINSTALL="--defaultdeps"
    PERL_PARALLEL_SMOKER="yes"
    PERL_USE_UNSAFE_INC="1"
  @INC:
    /opt/perl-5.27.2t/lib/site_perl/5.27.2/x86_64-linux-thread-multi
    /opt/perl-5.27.2t/lib/site_perl/5.27.2
    /opt/perl-5.27.2t/lib/5.27.2/x86_64-linux-thread-multi
    /opt/perl-5.27.2t/lib/5.27.2
    .