Report for Metabase-Backend-SQL-1.001

Back
From: metabase:user:314402c4-2aae-11df-837a-5e0a49663a4f
Subject: PASS Metabase-Backend-SQL-1.001 v5.20.0 GNU/Linux
Date: 2017-03-21T14:14:43Z

This distribution has been tested as part of the CPAN Testers
project, supporting the Perl programming language.  See
http://wiki.cpantesters.org/ for more information or email
questions to cpan-testers-discuss@perl.org


--
Dear David Golden,

This is a computer-generated report for Metabase-Backend-SQL-1.001
on perl 5.20.0, created by CPAN-Reporter-1.2018.

Thank you for uploading your work to CPAN.  Congratulations!
All tests were successful.

Sections of this report:

    * Tester comments
    * Program output
    * Prerequisites
    * Environment and other context

------------------------------
TESTER COMMENTS
------------------------------

Additional comments from tester:

none provided

------------------------------
PROGRAM OUTPUT
------------------------------

Output from '/usr/bin/make test':

PERL_DL_NONLAZY=1 "/opt/perl-5.20.0/bin/perl5.20.0" "-MExtUtils::Command::MM" "-MTest::Harness" "-e" "undef *Test::Harness::Switches; test_harness(0, 'blib/lib', 'blib/arch')" t/*.t t/postgres/*.t t/sharded/*.t t/sqlite/*.t
# 
# Versions for all modules listed in MYMETA.json (including optional ones):
# 
# === Configure Requires ===
# 
#     Module              Want Have
#     ------------------- ---- ----
#     ExtUtils::MakeMaker 6.17 7.24
# 
# === Build Requires ===
# 
#     Module              Want Have
#     ------------------- ---- ----
#     ExtUtils::MakeMaker  any 7.24
# 
# === Test Requires ===
# 
#     Module                Want     Have
#     --------------------- ---- --------
#     ExtUtils::MakeMaker    any     7.24
#     File::Spec             any     3.62
#     File::Spec::Functions  any     3.62
#     Path::Class            any     0.37
#     Test::Deep             any    1.123
#     Test::Fatal            any    0.014
#     Test::More            0.92 1.302078
#     Test::Routine          any    0.024
#     Test::Routine::Util    any    0.024
#     lib                    any     0.63
#     re                     any     0.26
# 
# === Test Recommends ===
# 
#     Module         Want     Have
#     ---------- -------- --------
#     CPAN::Meta 2.120900 2.150010
# 
# === Runtime Requires ===
# 
#     Module                                Want    Have
#     ---------------------------------- ------- -------
#     Carp                                   any    1.38
#     Class::Load                            any    0.23
#     Compress::Zlib                           2   2.064
#     DBD::SQLite                            any    1.50
#     DBI                                      1   1.636
#     DBIx::RunSQL                           any    0.15
#     DBIx::Simple                           any    1.35
#     Data::Stream::Bulk::Array              any    0.11
#     Data::Stream::Bulk::Callback           any    0.11
#     Data::Stream::Bulk::DBI                any    0.11
#     Data::Stream::Bulk::Filter             any    0.11
#     Data::Stream::Bulk::Nil                any    0.11
#     File::Temp                             any  0.2304
#     JSON                                     2    2.90
#     List::AllUtils                         any    0.11
#     List::Util                             any    1.45
#     Metabase::Archive                        1   1.003
#     Metabase::Fact                         any   0.025
#     Metabase::Index                          1   1.003
#     Moose                                  any  2.1805
#     Moose::Role                            any  2.1805
#     Moose::Util::TypeConstraints           any  2.1805
#     MooseX::Types::Path::Class             any    0.09
#     SQL::Abstract                          any    1.81
#     SQL::Translator                    0.11006 0.11021
#     SQL::Translator::Diff                  any   undef
#     SQL::Translator::Schema                any    1.59
#     SQL::Translator::Schema::Constants     any    1.59
#     SQL::Translator::Utils                 any    1.59
#     Storable                               any    2.51
#     Try::Tiny                              any    0.27
#     namespace::autoclean                   any    0.28
#     strict                                 any    1.08
#     warnings                               any    1.23
# 
t/00-report-prereqs.t .... ok
t/postgres/archive.t ..... skipped: No $ENV{METABASE_TEST_PG_DBNAME}
t/postgres/index.t ....... skipped: No $ENV{METABASE_TEST_PG_DBNAME}
t/postgres/init-index.t .. skipped: No $ENV{METABASE_TEST_PG_DBNAME}
t/query.t ................ ok
t/sharded/archive.t ...... ok
t/sharded/index.t ........ ok
t/sqlite/archive.t ....... ok
t/sqlite/index.t ......... ok
t/sqlite/init-index.t .... ok
All tests successful.
Files=10, Tests=7, 15 wallclock secs ( 0.03 usr  0.02 sys + 13.81 cusr  0.60 csys = 14.46 CPU)
Result: PASS

------------------------------
PREREQUISITES
------------------------------

Prerequisite modules loaded:

requires:

    Module                             Need     Have    
    ---------------------------------- -------- --------
    Carp                               0        1.38    
    Class::Load                        0        0.23    
    Compress::Zlib                     2        2.064   
    Data::Stream::Bulk::Array          0        0.11    
    Data::Stream::Bulk::Callback       0        0.11    
    Data::Stream::Bulk::DBI            0        0.11    
    Data::Stream::Bulk::Filter         0        0.11    
    Data::Stream::Bulk::Nil            0        0.11    
    DBD::SQLite                        0        1.50    
    DBI                                1        1.636   
    DBIx::RunSQL                       0        0.15    
    DBIx::Simple                       0        1.35    
    File::Temp                         0        0.2304  
    JSON                               2        2.90    
    List::AllUtils                     0        0.11    
    List::Util                         0        1.45    
    Metabase::Archive                  1        1.003   
    Metabase::Fact                     0        0.025   
    Metabase::Index                    1        1.003   
    Moose                              0        2.1805  
    Moose::Role                        0        2.1805  
    Moose::Util::TypeConstraints       0        2.1805  
    MooseX::Types::Path::Class         0        0.09    
    namespace::autoclean               0        0.28    
    perl                               5.010    5.020000
    SQL::Abstract                      0        1.81    
    SQL::Translator                    0.11006  0.11021 
    SQL::Translator::Diff              0        0       
    SQL::Translator::Schema            0        1.59    
    SQL::Translator::Schema::Constants 0        1.59    
    SQL::Translator::Utils             0        1.59    
    Storable                           0        2.51    
    strict                             0        1.08    
    Try::Tiny                          0        0.27    
    warnings                           0        1.23    

build_requires:

    Module                             Need     Have    
    ---------------------------------- -------- --------
    ExtUtils::MakeMaker                0        7.24    
    File::Spec                         0        3.62    
    File::Spec::Functions              0        3.62    
    lib                                0        0.63    
    Path::Class                        0        0.37    
    re                                 0        0.26    
    Test::Deep                         0        1.123   
    Test::Fatal                        0        0.014   
    Test::More                         0.92     1.302078
    Test::Routine                      0        0.024   
    Test::Routine::Util                0        0.024   

configure_requires:

    Module                             Need     Have    
    ---------------------------------- -------- --------
    ExtUtils::MakeMaker                6.17     7.24    
    perl                               5.008001 5.020000


------------------------------
ENVIRONMENT AND OTHER CONTEXT
------------------------------

Environment variables:

    LANG = en_US.UTF-8
    LANGUAGE = en_US:en
    LC_ALL = en_US.UTF-8
    PATH = /usr/local/bin:/usr/bin:/bin:/usr/local/sbin:/usr/sbin:/sbin:/home/cpansand/bin/linux-gnu:/home/cpansand/bin/sh:/home/cpansand/bin:/usr/games:/home/cpansand/devel:/home/eserte/src/srezic-misc/scripts
    PERL5LIB = /home/cpansand/.cpan/build/2017032115/Metabase-1.003-0/blib/arch:/home/cpansand/.cpan/build/2017032115/Metabase-1.003-0/blib/lib:/home/cpansand/.cpan/build/2017032115/Test-Routine-0.024-0/blib/arch:/home/cpansand/.cpan/build/2017032115/Test-Routine-0.024-0/blib/lib:/home/cpansand/.cpan/build/2017032115/Test-Abortable-0.002-0/blib/arch:/home/cpansand/.cpan/build/2017032115/Test-Abortable-0.002-0/blib/lib:/home/cpansand/.cpan/build/2017032115/Test-Simple-1.302078-0/blib/arch:/home/cpansand/.cpan/build/2017032115/Test-Simple-1.302078-0/blib/lib:/home/cpansand/.cpan/build/2017032115/Regexp-SQL-LIKE-0.001-0/blib/arch:/home/cpansand/.cpan/build/2017032115/Regexp-SQL-LIKE-0.001-0/blib/lib:/home/cpansand/.cpan/build/2017032115/Metabase-Fact-0.025-0/blib/arch:/home/cpansand/.cpan/build/2017032115/Metabase-Fact-0.025-0/blib/lib
    PERL5OPT = 
    PERL5_CPANPLUS_IS_RUNNING = 3802
    PERL5_CPAN_IS_RUNNING = 3802
    PERL5_CPAN_IS_RUNNING_IN_RECURSION = 3682,3802
    PERLDOC = -MPod::Perldoc::ToTextOverstrike
    PERL_BATCH = yes
    PERL_CANARY_STABILITY_NOPROMPT = 1
    PERL_CPAN_REPORTER_CONFIG = /var/tmp/cpansmoker-1023/2017032115/cpanreporter_000_config.ini
    PERL_EXTUTILS_AUTOINSTALL = --defaultdeps
    PERL_PARALLEL_SMOKER = yes
    PERL_USE_UNSAFE_INC = 1
    SHELL = /bin/zsh
    TERM = screen
    TMPDIR = /var/tmp/cpansmoker-1023/2017032115

Perl special variables (and OS-specific diagnostics, for MSWin32):

    $^X = /opt/perl-5.20.0/bin/perl5.20.0
    $UID/$EUID = 1023 / 1023
    $GID = 1023 1023
    $EGID = 1023 1023

Perl module toolchain versions installed:

    Module              Have    
    ------------------- --------
    CPAN                2.14    
    CPAN::Meta          2.150010
    Cwd                 3.62    
    ExtUtils::CBuilder  0.280216
    ExtUtils::Command   7.24    
    ExtUtils::Install   1.67    
    ExtUtils::MakeMaker 7.24    
    ExtUtils::Manifest  1.70    
    ExtUtils::ParseXS   3.24    
    File::Spec          3.62    
    JSON                2.90    
    JSON::PP            2.27400 
    Module::Build       0.4220  
    Module::Signature   0.81    
    Parse::CPAN::Meta   2.150010
    Test::Harness       3.30    
    Test::More          1.302078
    YAML                1.17    
    YAML::Syck          1.29    
    version             0.9917  


--

Summary of my perl5 (revision 5 version 20 subversion 0) configuration:
   
  Platform:
    osname=linux, osvers=3.2.0-4-amd64, archname=x86_64-linux
    uname='linux cvrsnica-wheezy 3.2.0-4-amd64 #1 smp debian 3.2.54-2 x86_64 gnulinux '
    config_args='-ds -e -Dprefix=/opt/perl-5.20.0'
    hint=recommended, useposix=true, d_sigaction=define
    useithreads=undef, usemultiplicity=undef
    use64bitint=define, use64bitall=define, uselongdouble=undef
    usemymalloc=n, bincompat5005=undef
  Compiler:
    cc='cc', ccflags ='-fwrapv -fno-strict-aliasing -pipe -fstack-protector -I/usr/local/include -D_LARGEFILE_SOURCE -D_FILE_OFFSET_BITS=64',
    optimize='-O2',
    cppflags='-fwrapv -fno-strict-aliasing -pipe -fstack-protector -I/usr/local/include'
    ccversion='', gccversion='4.7.2', gccosandvers=''
    intsize=4, longsize=8, ptrsize=8, doublesize=8, byteorder=12345678
    d_longlong=define, longlongsize=8, d_longdbl=define, longdblsize=16
    ivtype='long', ivsize=8, nvtype='double', nvsize=8, Off_t='off_t', lseeksize=8
    alignbytes=8, prototype=define
  Linker and Libraries:
    ld='cc', ldflags =' -fstack-protector -L/usr/local/lib'
    libpth=/usr/local/lib /usr/lib/gcc/x86_64-linux-gnu/4.7/include-fixed /usr/include/x86_64-linux-gnu /usr/lib /lib/x86_64-linux-gnu /lib/../lib /usr/lib/x86_64-linux-gnu /usr/lib/../lib /lib
    libs=-lnsl -ldb -ldl -lm -lcrypt -lutil -lc
    perllibs=-lnsl -ldl -lm -lcrypt -lutil -lc
    libc=libc-2.13.so, so=so, useshrplib=false, libperl=libperl.a
    gnulibc_version='2.13'
  Dynamic Linking:
    dlsrc=dl_dlopen.xs, dlext=so, d_dlsymun=undef, ccdlflags='-Wl,-E'
    cccdlflags='-fPIC', lddlflags='-shared -O2 -L/usr/local/lib -fstack-protector'


Characteristics of this binary (from libperl): 
  Compile-time options: HAS_TIMES PERLIO_LAYERS PERL_DONT_CREATE_GVSV
                        PERL_HASH_FUNC_ONE_AT_A_TIME_HARD PERL_MALLOC_WRAP
                        PERL_NEW_COPY_ON_WRITE PERL_PRESERVE_IVUV
                        USE_64_BIT_ALL USE_64_BIT_INT USE_LARGE_FILES
                        USE_LOCALE USE_LOCALE_COLLATE USE_LOCALE_CTYPE
                        USE_LOCALE_NUMERIC USE_PERLIO USE_PERL_ATOF
  Built under linux
  Compiled at Jul 19 2014 07:43:18
  %ENV:
    PERL5LIB="/home/cpansand/.cpan/build/2017032115/Metabase-1.003-0/blib/arch:/home/cpansand/.cpan/build/2017032115/Metabase-1.003-0/blib/lib:/home/cpansand/.cpan/build/2017032115/Test-Routine-0.024-0/blib/arch:/home/cpansand/.cpan/build/2017032115/Test-Routine-0.024-0/blib/lib:/home/cpansand/.cpan/build/2017032115/Test-Abortable-0.002-0/blib/arch:/home/cpansand/.cpan/build/2017032115/Test-Abortable-0.002-0/blib/lib:/home/cpansand/.cpan/build/2017032115/Test-Simple-1.302078-0/blib/arch:/home/cpansand/.cpan/build/2017032115/Test-Simple-1.302078-0/blib/lib:/home/cpansand/.cpan/build/2017032115/Regexp-SQL-LIKE-0.001-0/blib/arch:/home/cpansand/.cpan/build/2017032115/Regexp-SQL-LIKE-0.001-0/blib/lib:/home/cpansand/.cpan/build/2017032115/Metabase-Fact-0.025-0/blib/arch:/home/cpansand/.cpan/build/2017032115/Metabase-Fact-0.025-0/blib/lib"
    PERL5OPT=""
    PERL5_CPANPLUS_IS_RUNNING="3802"
    PERL5_CPAN_IS_RUNNING="3802"
    PERL5_CPAN_IS_RUNNING_IN_RECURSION="3682,3802"
    PERLDOC="-MPod::Perldoc::ToTextOverstrike"
    PERL_BATCH="yes"
    PERL_CANARY_STABILITY_NOPROMPT="1"
    PERL_CPAN_REPORTER_CONFIG="/var/tmp/cpansmoker-1023/2017032115/cpanreporter_000_config.ini"
    PERL_EXTUTILS_AUTOINSTALL="--defaultdeps"
    PERL_PARALLEL_SMOKER="yes"
    PERL_USE_UNSAFE_INC="1"
  @INC:
    /home/cpansand/.cpan/build/2017032115/Metabase-1.003-0/blib/arch
    /home/cpansand/.cpan/build/2017032115/Metabase-1.003-0/blib/lib
    /home/cpansand/.cpan/build/2017032115/Test-Routine-0.024-0/blib/arch
    /home/cpansand/.cpan/build/2017032115/Test-Routine-0.024-0/blib/lib
    /home/cpansand/.cpan/build/2017032115/Test-Abortable-0.002-0/blib/arch
    /home/cpansand/.cpan/build/2017032115/Test-Abortable-0.002-0/blib/lib
    /home/cpansand/.cpan/build/2017032115/Test-Simple-1.302078-0/blib/arch
    /home/cpansand/.cpan/build/2017032115/Test-Simple-1.302078-0/blib/lib
    /home/cpansand/.cpan/build/2017032115/Regexp-SQL-LIKE-0.001-0/blib/arch
    /home/cpansand/.cpan/build/2017032115/Regexp-SQL-LIKE-0.001-0/blib/lib
    /home/cpansand/.cpan/build/2017032115/Metabase-Fact-0.025-0/blib/arch
    /home/cpansand/.cpan/build/2017032115/Metabase-Fact-0.025-0/blib/lib
    /opt/perl-5.20.0/lib/site_perl/5.20.0/x86_64-linux
    /opt/perl-5.20.0/lib/site_perl/5.20.0
    /opt/perl-5.20.0/lib/5.20.0/x86_64-linux
    /opt/perl-5.20.0/lib/5.20.0
    .