Plack-Middleware-ServerStatus-Lite v0.36 Perl 5 v5.39.8 x86_64-linux-ld
- Status
- Pass
- From
- Andreas J. König (ANDK)
- Dist
-
Plack-Middleware-ServerStatus-Lite v0.36
- Platform
- Perl 5 v5.39.8 x86_64-linux-ld
- Date
- 2024-03-09 08:47:58
- ID
- badc3d98-ddf1-11ee-87db-5e37ff85921a
This distribution has been tested as part of the CPAN Testers
project, supporting the Perl programming language. See
http://wiki.cpantesters.org/ for more information or email
questions to cpan-testers-discuss@perl.org
--
Dear Masahiro Nagano,
This is a computer-generated report for Plack-Middleware-ServerStatus-Lite-0.36
on perl 5.39.8, created by CPAN-Reporter-1.2019.
Thank you for uploading your work to CPAN. Congratulations!
All tests were successful.
Sections of this report:
* Tester comments
* Program output
* Prerequisites
* Environment and other context
------------------------------
TESTER COMMENTS
------------------------------
Additional comments from tester:
this report is from an automated smoke testing program
and was not reviewed by a human for accuracy
------------------------------
PROGRAM OUTPUT
------------------------------
Output from './Build test':
t/00_compile.t .............. ok
t/01_builder.t .............. ok
using Starman for test at t/02_server.t line 29.
2024/03/09-08:46:51 Starman::Server (type Net::Server::PreFork) starting! pid(3139001)
Resolved [localhost]:34549 to [127.0.0.1]:34549, IPv4
Binding to TCP port 34549 on host 127.0.0.1 with IPv4
Setting gid to "1005 1005 1005"
2024/03/09-08:46:54 Server closing!
using Starlet for test at t/02_server.t line 29.
t/02_server.t ............... ok
using Starman for test at t/03_server_delayed_res.t line 29.
2024/03/09-08:46:57 Starman::Server (type Net::Server::PreFork) starting! pid(3139020)
Resolved [localhost]:35143 to [127.0.0.1]:35143, IPv4
Binding to TCP port 35143 on host 127.0.0.1 with IPv4
Setting gid to "1005 1005 1005"
2024/03/09-08:47:00 Server closing!
using Starlet for test at t/03_server_delayed_res.t line 29.
using Starman for test at t/03_server_delayed_res.t line 89.
2024/03/09-08:47:03 Starman::Server (type Net::Server::PreFork) starting! pid(3139038)
Resolved [localhost]:36549 to [127.0.0.1]:36549, IPv4
Binding to TCP port 36549 on host 127.0.0.1 with IPv4
Setting gid to "1005 1005 1005"
2024/03/09-08:47:06 Server closing!
using Starlet for test at t/03_server_delayed_res.t line 89.
t/03_server_delayed_res.t ... ok
using Starman for test at t/04_json.t line 31.
2024/03/09-08:47:10 Starman::Server (type Net::Server::PreFork) starting! pid(3139057)
Resolved [localhost]:43253 to [127.0.0.1]:43253, IPv4
Binding to TCP port 43253 on host 127.0.0.1 with IPv4
Setting gid to "1005 1005 1005"
2024/03/09-08:47:13 Server closing!
using Starlet for test at t/04_json.t line 31.
t/04_json.t ................. ok
using Starman for test at t/05_counter.t line 31.
2024/03/09-08:47:16 Starman::Server (type Net::Server::PreFork) starting! pid(3139076)
Resolved [localhost]:43519 to [127.0.0.1]:43519, IPv4
Binding to TCP port 43519 on host 127.0.0.1 with IPv4
Setting gid to "1005 1005 1005"
2024/03/09-08:47:16 Server closing!
using Starlet for test at t/05_counter.t line 31.
t/05_counter.t .............. ok
using Starman for test at t/06_counter_delayed_res.t line 33.
2024/03/09-08:47:16 Starman::Server (type Net::Server::PreFork) starting! pid(3139093)
Resolved [localhost]:36433 to [127.0.0.1]:36433, IPv4
Binding to TCP port 36433 on host 127.0.0.1 with IPv4
Setting gid to "1005 1005 1005"
2024/03/09-08:47:16 Server closing!
using Starlet for test at t/06_counter_delayed_res.t line 33.
using Starman for test at t/06_counter_delayed_res.t line 95.
2024/03/09-08:47:17 Starman::Server (type Net::Server::PreFork) starting! pid(3139109)
Resolved [localhost]:41917 to [127.0.0.1]:41917, IPv4
Binding to TCP port 41917 on host 127.0.0.1 with IPv4
Setting gid to "1005 1005 1005"
2024/03/09-08:47:17 Server closing!
using Starlet for test at t/06_counter_delayed_res.t line 95.
t/06_counter_delayed_res.t .. ok
using Starman for test at t/07_skip_ps.t line 29.
2024/03/09-08:47:17 Starman::Server (type Net::Server::PreFork) starting! pid(3139126)
Resolved [localhost]:35103 to [127.0.0.1]:35103, IPv4
Binding to TCP port 35103 on host 127.0.0.1 with IPv4
Setting gid to "1005 1005 1005"
2024/03/09-08:47:18 Server closing!
using Starlet for test at t/07_skip_ps.t line 29.
t/07_skip_ps.t .............. ok
2024/03/09-08:47:19 Starman::Server (type Net::Server::PreFork) starting! pid(3139139)
Resolved [localhost]:41161 to [127.0.0.1]:41161, IPv4
Binding to TCP port 41161 on host 127.0.0.1 with IPv4
Setting gid to "1005 1005 1005"
2024/03/09-08:47:22 Server closing!
t/08_command.t .............. ok
All tests successful.
Files=9, Tests=146, 32 wallclock secs ( 0.04 usr 0.02 sys + 2.33 cusr 1.07 csys = 3.46 CPU)
Result: PASS
------------------------------
PREREQUISITES
------------------------------
Prerequisite modules loaded:
requires:
Module Need Have
-------------------- ------ --------
Getopt::Long 2.38 2.57
JSON 2.53 4.10
Net::CIDR::Lite 0 0.22
Parallel::Scoreboard 0.03 0.08
parent 0 0.241
Plack::Middleware 0 0
Pod::Usage 0 2.03
Try::Tiny 0.09 0.31
build_requires:
Module Need Have
-------------------- ------ --------
B 0 1.89
Capture::Tiny 0 0.48
LWP::UserAgent 0 6.76
Starman 0.3013 0.4017
Test::More 0 1.302198
Test::SharedFork 0 0.35
Test::TCP 2.00 2.22
configure_requires:
Module Need Have
-------------------- ------ --------
Module::Build 0.38 0.4234
------------------------------
ENVIRONMENT AND OTHER CONTEXT
------------------------------
Environment variables:
AUTOMATED_TESTING = 1
LANG = en_US.UTF-8
LC_ADDRESS = de_DE.UTF-8
LC_IDENTIFICATION = de_DE.UTF-8
LC_MEASUREMENT = de_DE.UTF-8
LC_MONETARY = de_DE.UTF-8
LC_NAME = de_DE.UTF-8
LC_NUMERIC = de_DE.UTF-8
LC_PAPER = de_DE.UTF-8
LC_TELEPHONE = de_DE.UTF-8
LC_TIME = de_DE.UTF-8
PATH = /home/sand/bin:/usr/local/bin:/usr/local/sbin:/usr/sbin:/usr/bin:/sbin:/bin:/usr/games:/usr/local/games:/snap/bin:/usr/local/perl/bin:/usr/X11/bin
PERL = /tmp/basesmoker-reloperl-3I3J/bin/perl
PERL5LIB = /tmp/loop_over_bdir-1942-HD1cEy/DBIx-Migration-Directories-0.12-0/blib/arch:/tmp/loop_over_bdir-1942-HD1cEy/DBIx-Migration-Directories-0.12-0/blib/lib:/tmp/loop_over_bdir-1942-HD1cEy/CGI-Application-NetNewsIface-0.0204-0/blib/arch:/tmp/loop_over_bdir-1942-HD1cEy/CGI-Application-NetNewsIface-0.0204-0/blib/lib:/tmp/loop_over_bdir-1942-HD1cEy/downsexta-0/blib/arch:/tmp/loop_over_bdir-1942-HD1cEy/downsexta-0/blib/lib:/tmp/loop_over_bdir-1942-HD1cEy/HTML-Menu-TreeView-1.22-0/blib/arch:/tmp/loop_over_bdir-1942-HD1cEy/HTML-Menu-TreeView-1.22-0/blib/lib:/tmp/loop_over_bdir-1942-HD1cEy/EJBCA-CrlPublish-0.60-0/blib/arch:/tmp/loop_over_bdir-1942-HD1cEy/EJBCA-CrlPublish-0.60-0/blib/lib:/tmp/loop_over_bdir-1942-HD1cEy/MP3-PodcastFetch-1.05-0/blib/arch:/tmp/loop_over_bdir-1942-HD1cEy/MP3-PodcastFetch-1.05-0/blib/lib:/tmp/loop_over_bdir-1942-HD1cEy/triceps-2.1.0-0/blib/arch:/tmp/loop_over_bdir-1942-HD1cEy/triceps-2.1.0-0/blib/lib:/tmp/loop_over_bdir-1942-HD1cEy/Net-OpenVPN-DDNS-0.1-0/blib/arch:/tmp/loop_over_bdir-1942-HD1cEy/Net-OpenVPN-DDNS-0.1-0/blib/lib:/tmp/loop_over_bdir-1942-HD1cEy/Net-ISP-Balance-1.31-0/blib/arch:/tmp/loop_over_bdir-1942-HD1cEy/Net-ISP-Balance-1.31-0/blib/lib:/tmp/loop_over_bdir-1942-HD1cEy/Dpkg-1.22.5-0/blib/arch:/tmp/loop_over_bdir-1942-HD1cEy/Dpkg-1.22.5-0/blib/lib
PERL5OPT =
PERL5_CPANPLUS_IS_RUNNING = 1950
PERL5_CPAN_IS_RUNNING = 1950
PERL_CANARY_STABILITY_NOPROMPT = 1
PERL_MM_USE_DEFAULT = 1
PERL_USE_UNSAFE_INC = 1
SHELL = /usr/bin/zsh
TERM = screen
Perl special variables (and OS-specific diagnostics, for MSWin32):
$^X = /tmp/basesmoker-reloperl-3I3J/bin/perl
$UID/$EUID = 1005 / 1005
$GID = 1005 1005
$EGID = 1005 1005
Perl module toolchain versions installed:
Module Have
------------------- --------
CPAN 2.36
CPAN::Meta 2.150010
Cwd 3.90
ExtUtils::CBuilder 0.280240
ExtUtils::Command 7.70
ExtUtils::Install 2.22
ExtUtils::MakeMaker 7.70
ExtUtils::Manifest 1.75
ExtUtils::ParseXS 3.51
File::Spec 3.90
JSON 4.10
JSON::PP 4.16
Module::Build 0.4234
Module::Signature 0.88
Parse::CPAN::Meta 2.150010
Test2 1.302198
Test::Harness 3.48
Test::More 1.302198
YAML 1.31
YAML::Syck 1.34
version 0.9930
--
Summary of my perl5 (revision 5 version 39 subversion 8) configuration:
Commit id: 78455e6e7fa235411fb2b931eda9d816b5ea880f
Platform:
osname=linux
osvers=6.5.0-18-generic
archname=x86_64-linux-ld
uname='linux k93jammy 6.5.0-18-generic #18~22.04.1-ubuntu smp preempt_dynamic wed feb 7 11:40:03 utc 2 x86_64 x86_64 x86_64 gnulinux '
config_args='-Dprefix=/home/sand/src/perl/repoperls/installed-perls/host/k93jammy/v5.39.8/5674 -Dmyhostname=k93jammy -Dinstallusrbinperl=n -Uversiononly -Dusedevel -des -Ui_db -Dlibswanted=cl pthread socket inet nsl gdbm dbm malloc dl ld sun m crypt sec util c cposix posix ucb BSD gdbm_compat -Uuseithreads -Duselongdouble -DEBUGGING=-g'
hint=recommended
useposix=true
d_sigaction=define
useithreads=undef
usemultiplicity=undef
use64bitint=define
use64bitall=define
uselongdouble=define
usemymalloc=n
default_inc_excludes_dot=define
Compiler:
cc='cc'
ccflags ='-fwrapv -fno-strict-aliasing -pipe -fstack-protector-strong -I/usr/local/include -D_LARGEFILE_SOURCE -D_FILE_OFFSET_BITS=64'
optimize='-O2 -g'
cppflags='-fwrapv -fno-strict-aliasing -pipe -fstack-protector-strong -I/usr/local/include'
ccversion=''
gccversion='11.4.0'
gccosandvers=''
intsize=4
longsize=8
ptrsize=8
doublesize=8
byteorder=12345678
doublekind=3
d_longlong=define
longlongsize=8
d_longdbl=define
longdblsize=16
longdblkind=3
ivtype='long'
ivsize=8
nvtype='long double'
nvsize=16
Off_t='off_t'
lseeksize=8
alignbytes=16
prototype=define
Linker and Libraries:
ld='cc'
ldflags =' -fstack-protector-strong -L/usr/local/lib'
libpth=/usr/local/lib /usr/lib/x86_64-linux-gnu /usr/lib /usr/lib64
libs=-lpthread -lnsl -ldl -lm -lcrypt -lutil -lc
perllibs=-lpthread -lnsl -ldl -lm -lcrypt -lutil -lc
libc=/lib/x86_64-linux-gnu/libc.so.6
so=so
useshrplib=false
libperl=libperl.a
gnulibc_version='2.35'
Dynamic Linking:
dlsrc=dl_dlopen.xs
dlext=so
d_dlsymun=undef
ccdlflags='-Wl,-E'
cccdlflags='-fPIC'
lddlflags='-shared -O2 -g -L/usr/local/lib -fstack-protector-strong'
Characteristics of this binary (from libperl):
Compile-time options:
HAS_LONG_DOUBLE
HAS_STRTOLD
HAS_TIMES
PERLIO_LAYERS
PERL_COPY_ON_WRITE
PERL_DONT_CREATE_GVSV
PERL_HASH_FUNC_SIPHASH13
PERL_HASH_USE_SBOX32
PERL_MALLOC_WRAP
PERL_OP_PARENT
PERL_PRESERVE_IVUV
PERL_USE_DEVEL
PERL_USE_SAFE_PUTENV
USE_64_BIT_ALL
USE_64_BIT_INT
USE_LARGE_FILES
USE_LOCALE
USE_LOCALE_COLLATE
USE_LOCALE_CTYPE
USE_LOCALE_NUMERIC
USE_LOCALE_TIME
USE_LONG_DOUBLE
USE_PERLIO
USE_PERL_ATOF
Built under linux
Compiled at Feb 24 2024 06:38:08
%ENV:
PERL="/tmp/basesmoker-reloperl-3I3J/bin/perl"
PERL5LIB="/tmp/loop_over_bdir-1942-HD1cEy/DBIx-Migration-Directories-0.12-0/blib/arch:/tmp/loop_over_bdir-1942-HD1cEy/DBIx-Migration-Directories-0.12-0/blib/lib:/tmp/loop_over_bdir-1942-HD1cEy/CGI-Application-NetNewsIface-0.0204-0/blib/arch:/tmp/loop_over_bdir-1942-HD1cEy/CGI-Application-NetNewsIface-0.0204-0/blib/lib:/tmp/loop_over_bdir-1942-HD1cEy/downsexta-0/blib/arch:/tmp/loop_over_bdir-1942-HD1cEy/downsexta-0/blib/lib:/tmp/loop_over_bdir-1942-HD1cEy/HTML-Menu-TreeView-1.22-0/blib/arch:/tmp/loop_over_bdir-1942-HD1cEy/HTML-Menu-TreeView-1.22-0/blib/lib:/tmp/loop_over_bdir-1942-HD1cEy/EJBCA-CrlPublish-0.60-0/blib/arch:/tmp/loop_over_bdir-1942-HD1cEy/EJBCA-CrlPublish-0.60-0/blib/lib:/tmp/loop_over_bdir-1942-HD1cEy/MP3-PodcastFetch-1.05-0/blib/arch:/tmp/loop_over_bdir-1942-HD1cEy/MP3-PodcastFetch-1.05-0/blib/lib:/tmp/loop_over_bdir-1942-HD1cEy/triceps-2.1.0-0/blib/arch:/tmp/loop_over_bdir-1942-HD1cEy/triceps-2.1.0-0/blib/lib:/tmp/loop_over_bdir-1942-HD1cEy/Net-OpenVPN-DDNS-0.1-0/blib/arch:/tmp/loop_over_bdir-1942-HD1cEy/Net-OpenVPN-DDNS-0.1-0/blib/lib:/tmp/loop_over_bdir-1942-HD1cEy/Net-ISP-Balance-1.31-0/blib/arch:/tmp/loop_over_bdir-1942-HD1cEy/Net-ISP-Balance-1.31-0/blib/lib:/tmp/loop_over_bdir-1942-HD1cEy/Dpkg-1.22.5-0/blib/arch:/tmp/loop_over_bdir-1942-HD1cEy/Dpkg-1.22.5-0/blib/lib"
PERL5OPT=""
PERL5_CPANPLUS_IS_RUNNING="1950"
PERL5_CPAN_IS_RUNNING="1950"
PERL_CANARY_STABILITY_NOPROMPT="1"
PERL_MM_USE_DEFAULT="1"
PERL_USE_UNSAFE_INC="1"
@INC:
/tmp/loop_over_bdir-1942-HD1cEy/DBIx-Migration-Directories-0.12-0/blib/arch
/tmp/loop_over_bdir-1942-HD1cEy/DBIx-Migration-Directories-0.12-0/blib/lib
/tmp/loop_over_bdir-1942-HD1cEy/CGI-Application-NetNewsIface-0.0204-0/blib/arch
/tmp/loop_over_bdir-1942-HD1cEy/CGI-Application-NetNewsIface-0.0204-0/blib/lib
/tmp/loop_over_bdir-1942-HD1cEy/downsexta-0/blib/arch
/tmp/loop_over_bdir-1942-HD1cEy/downsexta-0/blib/lib
/tmp/loop_over_bdir-1942-HD1cEy/HTML-Menu-TreeView-1.22-0/blib/arch
/tmp/loop_over_bdir-1942-HD1cEy/HTML-Menu-TreeView-1.22-0/blib/lib
/tmp/loop_over_bdir-1942-HD1cEy/EJBCA-CrlPublish-0.60-0/blib/arch
/tmp/loop_over_bdir-1942-HD1cEy/EJBCA-CrlPublish-0.60-0/blib/lib
/tmp/loop_over_bdir-1942-HD1cEy/MP3-PodcastFetch-1.05-0/blib/arch
/tmp/loop_over_bdir-1942-HD1cEy/MP3-PodcastFetch-1.05-0/blib/lib
/tmp/loop_over_bdir-1942-HD1cEy/triceps-2.1.0-0/blib/arch
/tmp/loop_over_bdir-1942-HD1cEy/triceps-2.1.0-0/blib/lib
/tmp/loop_over_bdir-1942-HD1cEy/Net-OpenVPN-DDNS-0.1-0/blib/arch
/tmp/loop_over_bdir-1942-HD1cEy/Net-OpenVPN-DDNS-0.1-0/blib/lib
/tmp/loop_over_bdir-1942-HD1cEy/Net-ISP-Balance-1.31-0/blib/arch
/tmp/loop_over_bdir-1942-HD1cEy/Net-ISP-Balance-1.31-0/blib/lib
/tmp/loop_over_bdir-1942-HD1cEy/Dpkg-1.22.5-0/blib/arch
/tmp/loop_over_bdir-1942-HD1cEy/Dpkg-1.22.5-0/blib/lib
/home/sand/src/perl/repoperls/installed-perls/host/k93jammy/v5.39.8/5674/lib/site_perl/5.39.8/x86_64-linux-ld
/home/sand/src/perl/repoperls/installed-perls/host/k93jammy/v5.39.8/5674/lib/site_perl/5.39.8
/home/sand/src/perl/repoperls/installed-perls/host/k93jammy/v5.39.8/5674/lib/5.39.8/x86_64-linux-ld
/home/sand/src/perl/repoperls/installed-perls/host/k93jammy/v5.39.8/5674/lib/5.39.8
.