PICA-Data v2.06 Perl 5 v5.22.2 amd64-freebsd-thread-multi
- Status
- Pass
- From
- Slaven Rezić
- Dist
-
PICA-Data v2.06
- Platform
- Perl 5 v5.22.2 amd64-freebsd-thread-multi
- Date
- 2023-02-03 11:13:04
- ID
- ba9ecbf8-a3b3-11ed-a95b-2ad76d8775ea
This distribution has been tested as part of the CPAN Testers
project, supporting the Perl programming language. See
http://wiki.cpantesters.org/ for more information or email
questions to cpan-testers-discuss@perl.org
--
Dear Jakob Voss,
This is a computer-generated report for PICA-Data-2.06
on perl 5.22.2, created by CPAN-Reporter-1.2017.
Thank you for uploading your work to CPAN. Congratulations!
All tests were successful.
Sections of this report:
* Tester comments
* Program output
* Prerequisites
* Environment and other context
------------------------------
TESTER COMMENTS
------------------------------
Additional comments from tester:
none provided
------------------------------
PROGRAM OUTPUT
------------------------------
Output from './Build test':
t/00-load.t ............... ok
t/10-data.t ............... ok
t/12-clean.t .............. ok
t/13-sort-subfields.t ..... ok
t/14-sort.t ............... ok
t/15-field.t .............. ok
t/15-path.t ............... ok
t/16-match.t .............. ok
t/16-path-examples.t ...... ok
t/20-parser.t ............. ok
t/25-encoding.t ........... ok
t/30-writer.t ............. ok
t/40-holdings.t ........... ok
t/50-schema.t ............. ok
t/52-subfield-schedule.t .. ok
t/60-schema-builder.t ..... ok
t/70-guess.t .............. ok
t/80-picadata.t ........... ok
t/90-patch.t .............. ok
All tests successful.
Files=19, Tests=436, 3 wallclock secs ( 0.06 usr 0.05 sys + 1.59 cusr 1.41 csys = 3.11 CPU)
Result: PASS
------------------------------
PREREQUISITES
------------------------------
Prerequisite modules loaded:
requires:
Module Need Have
------------------- -------- --------
Carp 0 1.36
Exporter 0 5.72
Hash::MultiValue 0 0.16
IO::File 1.14 1.16
IO::Handle 0 1.35
List::Util 1.33 1.45
perl v5.14.1 5.022002
Scalar::Util 0 1.45
Text::Abbrev 0 1.02
XML::LibXML 2 2.0128
XML::Writer 0 0.625
build_requires:
Module Need Have
------------------- -------- --------
File::Temp 0.2304 0.2304
IO::File 1.14 1.16
Test::Deep 0.119 1.120
Test::Exception 0.43 0.43
Test::More 1.001003 1.302183
Test::Warn 0 0.30
Test::XML 0.08 0.08
YAML::Tiny 1.46 1.69
configure_requires:
Module Need Have
------------------- -------- --------
Module::Build::Tiny 0.035 0.039
------------------------------
ENVIRONMENT AND OTHER CONTEXT
------------------------------
Environment variables:
LC_ALL = de_DE.ISO8859-1
PATH = /usr/local/bin:/usr/bin:/bin:/usr/local/sbin:/usr/sbin:/sbin:/home/cpansand/bin/freebsd10.3:/home/cpansand/bin/sh:/home/cpansand/bin:/usr/games:/home/cpansand/devel:/home/eserte/src/srezic-misc/scripts
PERL5LIB = /home/cpansand/.cpan/build/2023020312/Test-XML-0.08-Rw_Mg_/blib/arch:/home/cpansand/.cpan/build/2023020312/Test-XML-0.08-Rw_Mg_/blib/lib:/home/cpansand/.cpan/build/2023020312/XML-SemanticDiff-1.0007-M2sbe7/blib/arch:/home/cpansand/.cpan/build/2023020312/XML-SemanticDiff-1.0007-M2sbe7/blib/lib
PERL5OPT =
PERL5_CPANPLUS_IS_RUNNING = 49405
PERL5_CPAN_IS_RUNNING = 49405
PERL5_CPAN_IS_RUNNING_IN_RECURSION = 38420,49405
PERLDOC = -MPod::Perldoc::ToTextOverstrike
PERL_BATCH = yes
PERL_CANARY_STABILITY_NOPROMPT = 1
PERL_CPAN_REPORTER_CONFIG = /var/tmp/cpansmoker-1023/2023020310/cpanreporter_000_config.ini
PERL_EXTUTILS_AUTOINSTALL = --defaultdeps
SHELL = /usr/local/bin/zsh
TERM = screen
TMPDIR = /var/tmp/cpansmoker-1023/2023020310
Perl special variables (and OS-specific diagnostics, for MSWin32):
$^X = /usr/perl5.22.2t/bin/perl
$UID/$EUID = 1023 / 1023
$GID = 1023 1023
$EGID = 1023 1023
Perl module toolchain versions installed:
Module Have
------------------- --------
CPAN 2.11
CPAN::Meta 2.150001
Cwd 3.62
ExtUtils::CBuilder 0.280221
ExtUtils::Command 7.58
ExtUtils::Install 2.06
ExtUtils::MakeMaker 7.58
ExtUtils::Manifest 1.70
ExtUtils::ParseXS 3.35
File::Spec 3.62
JSON 2.90
JSON::PP 2.27300
Module::Build 0.4218
Module::Signature 0.80
Parse::CPAN::Meta 1.4422
Test::Harness 3.35
Test::More 1.302183
YAML 1.15
YAML::Syck 1.29
version 0.9917
--
Summary of my perl5 (revision 5 version 22 subversion 2) configuration:
Platform:
osname=freebsd, osvers=10.1-release, archname=amd64-freebsd-thread-multi
uname='freebsd cvrsnica-freebsd-101.herceg.de 10.1-release freebsd 10.1-release #0 r274401: tue nov 11 21:02:49 utc 2014 root@releng1.nyi.freebsd.org:usrobjusrsrcsysgeneric amd64 '
config_args='-ds -e -Dprefix=/usr/perl5.22.2t -Dusethreads -Dcf_email=srezic@cpan.org -Doptimize=-O2 -pipe'
hint=recommended, useposix=true, d_sigaction=define
useithreads=define, usemultiplicity=define
use64bitint=define, use64bitall=define, uselongdouble=undef
usemymalloc=n, bincompat5005=undef
Compiler:
cc='cc', ccflags ='-DHAS_FPSETMASK -DHAS_FLOATINGPOINT_H -fno-strict-aliasing -pipe -fstack-protector -I/usr/local/include -D_FORTIFY_SOURCE=2',
optimize='-O2 -pipe',
cppflags='-DHAS_FPSETMASK -DHAS_FLOATINGPOINT_H -fno-strict-aliasing -pipe -fstack-protector -I/usr/local/include'
ccversion='', gccversion='4.2.1 Compatible FreeBSD Clang 3.4.1 (tags/RELEASE_34/dot1-final 208032)', gccosandvers=''
intsize=4, longsize=8, ptrsize=8, doublesize=8, byteorder=12345678, doublekind=3
d_longlong=define, longlongsize=8, d_longdbl=define, longdblsize=16, longdblkind=3
ivtype='long', ivsize=8, nvtype='double', nvsize=8, Off_t='off_t', lseeksize=8
alignbytes=8, prototype=define
Linker and Libraries:
ld='cc', ldflags ='-pthread -Wl,-E -fstack-protector -L/usr/local/lib'
libpth=/usr/lib /usr/local/lib /usr/include/clang/3.4.1 /usr/lib
libs=-lpthread -lgdbm -lm -lcrypt -lutil
perllibs=-lpthread -lm -lcrypt -lutil
libc=, so=so, useshrplib=false, libperl=libperl.a
gnulibc_version=''
Dynamic Linking:
dlsrc=dl_dlopen.xs, dlext=so, d_dlsymun=undef, ccdlflags=' '
cccdlflags='-DPIC -fPIC', lddlflags='-shared -L/usr/local/lib -fstack-protector'
Characteristics of this binary (from libperl):
Compile-time options: HAS_TIMES MULTIPLICITY PERLIO_LAYERS
PERL_DONT_CREATE_GVSV
PERL_HASH_FUNC_ONE_AT_A_TIME_HARD
PERL_IMPLICIT_CONTEXT PERL_MALLOC_WRAP
PERL_NEW_COPY_ON_WRITE PERL_PRESERVE_IVUV
USE_64_BIT_ALL USE_64_BIT_INT USE_ITHREADS
USE_LARGE_FILES USE_LOCALE USE_LOCALE_COLLATE
USE_LOCALE_CTYPE USE_LOCALE_NUMERIC USE_LOCALE_TIME
USE_PERLIO USE_PERL_ATOF USE_REENTRANT_API
Built under freebsd
Compiled at Jun 18 2016 12:32:50
%ENV:
PERL5LIB="/home/cpansand/.cpan/build/2023020312/Test-XML-0.08-Rw_Mg_/blib/arch:/home/cpansand/.cpan/build/2023020312/Test-XML-0.08-Rw_Mg_/blib/lib:/home/cpansand/.cpan/build/2023020312/XML-SemanticDiff-1.0007-M2sbe7/blib/arch:/home/cpansand/.cpan/build/2023020312/XML-SemanticDiff-1.0007-M2sbe7/blib/lib"
PERL5OPT=""
PERL5_CPANPLUS_IS_RUNNING="49405"
PERL5_CPAN_IS_RUNNING="49405"
PERL5_CPAN_IS_RUNNING_IN_RECURSION="38420,49405"
PERLDOC="-MPod::Perldoc::ToTextOverstrike"
PERL_BATCH="yes"
PERL_CANARY_STABILITY_NOPROMPT="1"
PERL_CPAN_REPORTER_CONFIG="/var/tmp/cpansmoker-1023/2023020310/cpanreporter_000_config.ini"
PERL_EXTUTILS_AUTOINSTALL="--defaultdeps"
@INC:
/home/cpansand/.cpan/build/2023020312/Test-XML-0.08-Rw_Mg_/blib/arch
/home/cpansand/.cpan/build/2023020312/Test-XML-0.08-Rw_Mg_/blib/lib
/home/cpansand/.cpan/build/2023020312/XML-SemanticDiff-1.0007-M2sbe7/blib/arch
/home/cpansand/.cpan/build/2023020312/XML-SemanticDiff-1.0007-M2sbe7/blib/lib
/usr/perl5.22.2t/lib/site_perl/5.22.2/amd64-freebsd-thread-multi
/usr/perl5.22.2t/lib/site_perl/5.22.2
/usr/perl5.22.2t/lib/5.22.2/amd64-freebsd-thread-multi
/usr/perl5.22.2t/lib/5.22.2
.