Yahoo-Marketing v7.03 Perl 5 v5.30.1 RC1 x86_64-linux-thread-multi

Status
Pass
From
Andreas J. König (ANDK)
Dist
Yahoo-Marketing v7.03
Platform
Perl 5 v5.30.1 RC1 x86_64-linux-thread-multi
Date
2019-11-02 23:58:55
ID
ba95d39e-fdcc-11e9-896e-aedbd8856b79
This distribution has been tested as part of the CPAN Testers
project, supporting the Perl programming language.  See
http://wiki.cpantesters.org/ for more information or email
questions to cpan-testers-discuss@perl.org


--
Dear Johnny Shen,

This is a computer-generated report for Yahoo-Marketing-7.03
on perl 5.30.1, created by CPAN-Reporter-1.2018.

Thank you for uploading your work to CPAN.  Congratulations!
All tests were successful.

Sections of this report:

    * Tester comments
    * Program output
    * Prerequisites
    * Environment and other context

------------------------------
TESTER COMMENTS
------------------------------

Additional comments from tester:

this report is from an automated smoke testing program
and was not reviewed by a human for accuracy

------------------------------
PROGRAM OUTPUT
------------------------------

Output from '/usr/bin/make test':

PERL_DL_NONLAZY=1 "/tmp/basesmoker-reloperl-YdN8/bin/perl" "-MExtUtils::Command::MM" "-MTest::Harness" "-e" "undef *Test::Harness::Switches; test_harness(0, 'blib/lib', 'blib/arch')" t/*.t
Possible precedence issue with control flow operator at /tmp/loop_over_bdir-14205-toEwk8/Yahoo-Marketing-7.03-0/blib/lib/Yahoo/Marketing/Service.pm line 615.
# Testing Yahoo::Marketing 7.03, Perl 5.030001, /tmp/basesmoker-reloperl-YdN8/bin/perl
t/00-load.t .................................... ok
Possible precedence issue with control flow operator at /tmp/loop_over_bdir-14205-toEwk8/Yahoo-Marketing-7.03-0/blib/lib/Yahoo/Marketing/Service.pm line 615.
t/01-instantiate_services.t .................... ok
Possible precedence issue with control flow operator at /tmp/loop_over_bdir-14205-toEwk8/Yahoo-Marketing-7.03-0/blib/lib/Yahoo/Marketing/Service.pm line 615.
t/02-cache.t ................................... ok
t/account.t .................................... ok
t/account_aggregate.t .......................... ok
t/account_balance.t ............................ ok
t/account_carrier_config.t ..................... ok
t/account_carrier_setting.t .................... ok
Possible precedence issue with control flow operator at /tmp/loop_over_bdir-14205-toEwk8/Yahoo-Marketing-7.03-0/blib/lib/Yahoo/Marketing/Service.pm line 615.
t/account_service.t ............................ ok
t/ad.t ......................................... ok
t/ad_carrier_config.t .......................... ok
t/ad_carrier_editorial_reason_info.t ........... ok
t/ad_carrier_editorial_reasons.t ............... ok
t/ad_carrier_setting.t ......................... ok
t/ad_editorial_reasons.t ....................... ok
t/ad_group.t ................................... ok
t/ad_group_carrier_config.t .................... ok
t/ad_group_carrier_setting.t ................... ok
t/ad_group_forecast_request_data.t ............. ok
t/ad_group_optimization_guidelines.t ........... ok
t/ad_group_optimization_guidelines_response.t .. ok
t/ad_group_response.t .......................... ok
Possible precedence issue with control flow operator at /tmp/loop_over_bdir-14205-toEwk8/Yahoo-Marketing-7.03-0/blib/lib/Yahoo/Marketing/Service.pm line 615.
t/ad_group_service.t ........................... ok
t/ad_response.t ................................ ok
Possible precedence issue with control flow operator at /tmp/loop_over_bdir-14205-toEwk8/Yahoo-Marketing-7.03-0/blib/lib/Yahoo/Marketing/Service.pm line 615.
t/ad_service.t ................................. ok
t/address.t .................................... ok
t/age_range.t .................................. ok
t/age_target.t ................................. ok
t/ambiguous_geo_match.t ........................ ok
t/api_fault.t .................................. ok
t/authorization.t .............................. ok
t/basic_report_request.t ....................... ok
Possible precedence issue with control flow operator at /tmp/loop_over_bdir-14205-toEwk8/Yahoo-Marketing-7.03-0/blib/lib/Yahoo/Marketing/Service.pm line 615.
t/basic_report_service.t ....................... ok
t/basic_response.t ............................. ok
t/bid_information.t ............................ ok
t/bid_information_request.t .................... ok
Possible precedence issue with control flow operator at /tmp/loop_over_bdir-14205-toEwk8/Yahoo-Marketing-7.03-0/blib/lib/Yahoo/Marketing/Service.pm line 615.
t/bid_information_service.t .................... ok
t/bid_update_info.t ............................ ok
t/billing_user.t ............................... ok
t/boilerplate.t ................................ ok
t/bucket_type.t ................................ ok
Possible precedence issue with control flow operator at /tmp/loop_over_bdir-14205-toEwk8/Yahoo-Marketing-7.03-0/blib/lib/Yahoo/Marketing/Service.pm line 615.
t/budgeting_service.t .......................... ok
t/bulk_download_status_info.t .................. ok
t/bulk_download_status_response.t .............. ok
Possible precedence issue with control flow operator at /tmp/loop_over_bdir-14205-toEwk8/Yahoo-Marketing-7.03-0/blib/lib/Yahoo/Marketing/Service.pm line 615.
t/bulk_service.t ............................... ok
t/bulk_upload_status_response.t ................ ok
t/bulk_upload_token_url_response.t ............. ok
t/campaign.t ................................... ok
t/campaign_carrier_config.t .................... ok
t/campaign_carrier_setting.t ................... ok
t/campaign_optimization_guidelines.t ........... ok
t/campaign_optimization_guidelines_response.t .. ok
t/campaign_response.t .......................... ok
Possible precedence issue with control flow operator at /tmp/loop_over_bdir-14205-toEwk8/Yahoo-Marketing-7.03-0/blib/lib/Yahoo/Marketing/Service.pm line 615.
t/campaign_service.t ........................... ok
t/capability.t ................................. ok
t/carrier.t .................................... ok
t/carrier_bid_information.t .................... ok
t/carrier_bid_information_request.t ............ ok
t/combined_account_status.t .................... ok
t/company.t .................................... ok
Possible precedence issue with control flow operator at /tmp/loop_over_bdir-14205-toEwk8/Yahoo-Marketing-7.03-0/blib/lib/Yahoo/Marketing/Service.pm line 615.
t/company_service.t ............................ ok
t/credit_card_info.t ........................... ok
t/day_part.t ................................... ok
t/day_parting_target.t ......................... ok
t/day_parting_targeting.t ...................... ok
t/demographic_targeting.t ...................... ok
t/download_file.t .............................. ok
t/error.t ...................................... ok
t/error_type.t ................................. ok
Possible precedence issue with control flow operator at /tmp/loop_over_bdir-14205-toEwk8/Yahoo-Marketing-7.03-0/blib/lib/Yahoo/Marketing/Service.pm line 615.
t/example.t .................................... ok
t/excluded_word.t .............................. ok
t/excluded_word_response.t ..................... ok
Possible precedence issue with control flow operator at /tmp/loop_over_bdir-14205-toEwk8/Yahoo-Marketing-7.03-0/blib/lib/Yahoo/Marketing/Service.pm line 615.
t/excluded_words_service.t ..................... ok
t/file_output_format.t ......................... ok
t/forecast_click_data.t ........................ ok
t/forecast_creative.t .......................... ok
t/forecast_impression_data.t ................... ok
t/forecast_keyword.t ........................... ok
t/forecast_keyword_batch.t ..................... ok
t/forecast_keyword_batch_response.t ............ ok
t/forecast_keyword_batch_response_data.t ....... ok
t/forecast_keyword_response.t .................. ok
t/forecast_request_data.t ...................... ok
t/forecast_response.t .......................... ok
t/forecast_response_data.t ..................... ok
Possible precedence issue with control flow operator at /tmp/loop_over_bdir-14205-toEwk8/Yahoo-Marketing-7.03-0/blib/lib/Yahoo/Marketing/Service.pm line 615.
t/forecast_service.t ........................... ok
t/gender_target.t .............................. ok
t/geo_location.t ............................... ok
t/geo_location_probability.t ................... ok
t/geo_location_probability_set.t ............... ok
t/geo_target.t ................................. ok
Possible precedence issue with control flow operator at /tmp/loop_over_bdir-14205-toEwk8/Yahoo-Marketing-7.03-0/blib/lib/Yahoo/Marketing/Service.pm line 615.
t/geographical_dictionary_service.t ............ ok
t/historical_keyword.t ......................... ok
t/historical_keyword_response.t ................ ok
t/historical_keyword_response_data.t ........... ok
t/historical_request_data.t .................... ok
t/historical_response_data.t ................... ok
t/keyword.t .................................... ok
t/keyword_carrier_config.t ..................... ok
t/keyword_carrier_editorial_reason_info.t ...... ok
t/keyword_carrier_editorial_reasons.t .......... ok
t/keyword_carrier_setting.t .................... ok
t/keyword_editorial_reasons.t .................. ok
t/keyword_forecast_request_data.t .............. ok
t/keyword_info_request_type.t .................. ok
t/keyword_info_response_type.t ................. ok
t/keyword_info_type.t .......................... ok
t/keyword_optimization_guidelines.t ............ ok
t/keyword_optimization_guidelines_response.t ... ok
t/keyword_participation_status.t ............... ok
t/keyword_rejection_reasons.t .................. ok
Possible precedence issue with control flow operator at /tmp/loop_over_bdir-14205-toEwk8/Yahoo-Marketing-7.03-0/blib/lib/Yahoo/Marketing/Service.pm line 615.
t/keyword_research_service.t ................... ok
t/keyword_response.t ........................... ok
Possible precedence issue with control flow operator at /tmp/loop_over_bdir-14205-toEwk8/Yahoo-Marketing-7.03-0/blib/lib/Yahoo/Marketing/Service.pm line 615.
t/keyword_service.t ............................ ok
t/master_account.t ............................. ok
Possible precedence issue with control flow operator at /tmp/loop_over_bdir-14205-toEwk8/Yahoo-Marketing-7.03-0/blib/lib/Yahoo/Marketing/Service.pm line 615.
t/master_account_service.t ..................... ok
Possible precedence issue with control flow operator at /tmp/loop_over_bdir-14205-toEwk8/Yahoo-Marketing-7.03-0/blib/lib/Yahoo/Marketing/Service.pm line 615.
t/mobile_dictionary_service.t .................. ok
t/network.t .................................... ok
t/network_distribution.t ....................... ok
t/network_target.t ............................. ok
t/opt_in_ad_group_response.t ................... ok
t/opt_in_campaign_response.t ................... ok
t/opt_in_status.t .............................. ok
t/page_related_keyword_request_type.t .......... ok
t/payment_info.t ............................... ok
t/payment_method_info.t ........................ ok
Possible precedence issue with control flow operator at /tmp/loop_over_bdir-14205-toEwk8/Yahoo-Marketing-7.03-0/blib/lib/Yahoo/Marketing/Service.pm line 615.
t/pod-coverage.t ............................... ok
t/pod.t ........................................ ok
t/preferences.t ................................ ok
t/process_status.t ............................. ok
t/range_definition_request_type.t .............. ok
t/range_definition_response_type.t ............. ok
t/range_definition_type.t ...................... ok
t/range_value_type.t ........................... ok
t/related_keyword_request_type.t ............... ok
t/related_keyword_response_type.t .............. ok
t/related_keyword_type.t ....................... ok
t/report_download_info.t ....................... ok
t/report_info.t ................................ ok
t/response.t ................................... ok
t/response_status_type.t ....................... ok
t/role.t ....................................... ok
Possible precedence issue with control flow operator at /tmp/loop_over_bdir-14205-toEwk8/Yahoo-Marketing-7.03-0/blib/lib/Yahoo/Marketing/Service.pm line 615.
t/service.t .................................... ok
t/set_geographic_location_response.t ........... ok
t/spend_limit.t ................................ ok
t/sponsored_search_min_bid_request.t ........... ok
t/sub_phrase_keyword_request_type.t ............ ok
t/summary.t .................................... ok
t/tactic_spend_cap.t ........................... ok
t/targeting_attribute.t ........................ ok
t/targeting_attribute_descriptor.t ............. ok
Possible precedence issue with control flow operator at /tmp/loop_over_bdir-14205-toEwk8/Yahoo-Marketing-7.03-0/blib/lib/Yahoo/Marketing/Service.pm line 615.
t/targeting_converter_service.t ................ ok
Possible precedence issue with control flow operator at /tmp/loop_over_bdir-14205-toEwk8/Yahoo-Marketing-7.03-0/blib/lib/Yahoo/Marketing/Service.pm line 615.
t/targeting_dictionary_service.t ............... ok
t/targeting_premium.t .......................... ok
t/targeting_profile.t .......................... ok
Possible precedence issue with control flow operator at /tmp/loop_over_bdir-14205-toEwk8/Yahoo-Marketing-7.03-0/blib/lib/Yahoo/Marketing/Service.pm line 615.
t/targeting_service.t .......................... ok
t/targeting_type.t ............................. ok
t/token.t ...................................... ok
t/update_for_ad.t .............................. ok
t/update_for_ad_carrier_config.t ............... ok
t/update_for_ad_carrier_setting.t .............. ok
t/update_for_keyword.t ......................... ok
t/update_for_keyword_carrier_config.t .......... ok
t/update_for_keyword_carrier_setting.t ......... ok
t/user.t ....................................... ok
t/user_authorization.t ......................... ok
Possible precedence issue with control flow operator at /tmp/loop_over_bdir-14205-toEwk8/Yahoo-Marketing-7.03-0/blib/lib/Yahoo/Marketing/Service.pm line 615.
t/user_management_service.t .................... ok
Possible precedence issue with control flow operator at /tmp/loop_over_bdir-14205-toEwk8/Yahoo-Marketing-7.03-0/blib/lib/Yahoo/Marketing/Service.pm line 615.
t/vault_service.t .............................. ok
t/warning.t .................................... ok
Possible precedence issue with control flow operator at /tmp/loop_over_bdir-14205-toEwk8/Yahoo-Marketing-7.03-0/blib/lib/Yahoo/Marketing/Service.pm line 615.
t/z_cleanup.t .................................. ok
All tests successful.
Files=170, Tests=1364, 56 wallclock secs ( 0.36 usr  0.81 sys + 42.89 cusr 11.52 csys = 55.58 CPU)
Result: PASS

------------------------------
PREREQUISITES
------------------------------

Prerequisite modules loaded:

requires:

    Module                    Need Have    
    ------------------------- ---- --------
    Cache::Cache              1.01 1.08    
    Class::Accessor::Chained  0.01 0.01    
  ! Crypt::SSLeay             0.40 n/a     
    DateTime::Format::ISO8601 0    0.08    
    DateTime::Format::W3CDTF  0    0.07    
    Error                     0.15 0.17028 
    Module::Build             0.26 0.4229  
    Scalar::Util              1.01 1.50    
    SOAP::Lite                0.66 1.27    
    Test::Class               0.10 0.50    
    Test::More                0    1.302168
    Test::Simple              0.60 1.302168
    XML::XPath                1.10 1.44    
    YAML                      0.01 1.29    

build_requires:

    Module                    Need Have    
    ------------------------- ---- --------
    ExtUtils::MakeMaker       0    7.38    


------------------------------
ENVIRONMENT AND OTHER CONTEXT
------------------------------

Environment variables:

    AUTOMATED_TESTING = 1
    LANG = en_US.UTF-8
    PATH = /home/sand/bin:/usr/local/bin:/usr/local/sbin:/usr/sbin:/usr/bin:/sbin:/bin:/usr/games:/usr/local/games:/usr/local/perl/bin:/usr/X11/bin
    PERL = /tmp/basesmoker-reloperl-YdN8/bin/perl
    PERL5LIB = /tmp/loop_over_bdir-14205-toEwk8/Lemonldap-NG-Cli-0.2-0/blib/arch:/tmp/loop_over_bdir-14205-toEwk8/Lemonldap-NG-Cli-0.2-0/blib/lib:/tmp/loop_over_bdir-14205-toEwk8/Prima-prigraph-win32-1.06-0/blib/arch:/tmp/loop_over_bdir-14205-toEwk8/Prima-prigraph-win32-1.06-0/blib/lib:/tmp/loop_over_bdir-14205-toEwk8/Linux-InitFS-0.2-0/blib/arch:/tmp/loop_over_bdir-14205-toEwk8/Linux-InitFS-0.2-0/blib/lib:/tmp/loop_over_bdir-14205-toEwk8/mmds-1.902-0/blib/arch:/tmp/loop_over_bdir-14205-toEwk8/mmds-1.902-0/blib/lib:/tmp/loop_over_bdir-14205-toEwk8/Simulation-Automate-1.0.1-0/blib/arch:/tmp/loop_over_bdir-14205-toEwk8/Simulation-Automate-1.0.1-0/blib/lib:/tmp/loop_over_bdir-14205-toEwk8/Sysync-0.35-0/blib/arch:/tmp/loop_over_bdir-14205-toEwk8/Sysync-0.35-0/blib/lib:/tmp/loop_over_bdir-14205-toEwk8/HTML-Menu-TreeView-1.22-0/blib/arch:/tmp/loop_over_bdir-14205-toEwk8/HTML-Menu-TreeView-1.22-0/blib/lib:/tmp/loop_over_bdir-14205-toEwk8/dta-tokwrap-0.90-0/blib/arch:/tmp/loop_over_bdir-14205-toEwk8/dta-tokwrap-0.90-0/blib/lib:/tmp/loop_over_bdir-14205-toEwk8/Dpkg-1.19.7-0/blib/arch:/tmp/loop_over_bdir-14205-toEwk8/Dpkg-1.19.7-0/blib/lib:/tmp/loop_over_bdir-14205-toEwk8/RDF-NLP-SPARQLQuery-0.1-0/blib/arch:/tmp/loop_over_bdir-14205-toEwk8/RDF-NLP-SPARQLQuery-0.1-0/blib/lib:/tmp/loop_over_bdir-14205-toEwk8/CORBA-Python-2.66-0/blib/arch:/tmp/loop_over_bdir-14205-toEwk8/CORBA-Python-2.66-0/blib/lib:/tmp/loop_over_bdir-14205-toEwk8/Debian-Packages-0.03-0/blib/arch:/tmp/loop_over_bdir-14205-toEwk8/Debian-Packages-0.03-0/blib/lib
    PERL5OPT = 
    PERL5_CPANPLUS_IS_RUNNING = 14213
    PERL5_CPAN_IS_RUNNING = 14213
    PERL_CANARY_STABILITY_NOPROMPT = 1
    PERL_MM_USE_DEFAULT = 1
    PERL_USE_UNSAFE_INC = 1
    SHELL = /usr/bin/zsh
    TERM = screen

Perl special variables (and OS-specific diagnostics, for MSWin32):

    $^X = /tmp/basesmoker-reloperl-YdN8/bin/perl
    $UID/$EUID = 1005 / 1005
    $GID = 1005 1005
    $EGID = 1005 1005

Perl module toolchain versions installed:

    Module              Have    
    ------------------- --------
    CPAN                2.27    
    CPAN::Meta          2.150010
    Cwd                 3.78    
    ExtUtils::CBuilder  0.280231
    ExtUtils::Command   7.38    
    ExtUtils::Install   2.14    
    ExtUtils::MakeMaker 7.38    
    ExtUtils::Manifest  1.72    
    ExtUtils::ParseXS   3.40    
    File::Spec          3.78    
    JSON                4.02    
    JSON::PP            4.02    
    Module::Build       0.4229  
    Module::Signature   0.83    
    Parse::CPAN::Meta   2.150010
    Test::Harness       3.42    
    Test::More          1.302168
    YAML                1.29    
    YAML::Syck          1.31    
    version             0.9924  


--

Summary of my perl5 (revision 5 version 30 subversion 1) configuration:
  Commit id: c7b0f4381d9ba7446b031fd197f0817ead76cc96
  Platform:
    osname=linux
    osvers=4.15.0-65-generic
    archname=x86_64-linux-thread-multi
    uname='linux k93bionic 4.15.0-65-generic #74-ubuntu smp tue sep 17 17:06:04 utc 2019 x86_64 x86_64 x86_64 gnulinux '
    config_args='-Dprefix=/home/sand/src/perl/repoperls/installed-perls/host/k93bionic/v5.30.1-RC1/7ee9 -Dmyhostname=k93bionic -Dinstallusrbinperl=n -Uversiononly -Dusedevel -des -Ui_db -Dlibswanted=cl pthread socket inet nsl gdbm dbm malloc dl ld sun m crypt sec util c cposix posix ucb BSD gdbm_compat -Duseithreads -Uuselongdouble -DEBUGGING=-g'
    hint=recommended
    useposix=true
    d_sigaction=define
    useithreads=define
    usemultiplicity=define
    use64bitint=define
    use64bitall=define
    uselongdouble=undef
    usemymalloc=n
    default_inc_excludes_dot=define
    bincompat5005=undef
  Compiler:
    cc='cc'
    ccflags ='-D_REENTRANT -D_GNU_SOURCE -fwrapv -fno-strict-aliasing -pipe -fstack-protector-strong -I/usr/local/include -D_LARGEFILE_SOURCE -D_FILE_OFFSET_BITS=64'
    optimize='-O2 -g'
    cppflags='-D_REENTRANT -D_GNU_SOURCE -fwrapv -fno-strict-aliasing -pipe -fstack-protector-strong -I/usr/local/include'
    ccversion=''
    gccversion='7.4.0'
    gccosandvers=''
    intsize=4
    longsize=8
    ptrsize=8
    doublesize=8
    byteorder=12345678
    doublekind=3
    d_longlong=define
    longlongsize=8
    d_longdbl=define
    longdblsize=16
    longdblkind=3
    ivtype='long'
    ivsize=8
    nvtype='double'
    nvsize=8
    Off_t='off_t'
    lseeksize=8
    alignbytes=8
    prototype=define
  Linker and Libraries:
    ld='cc'
    ldflags =' -fstack-protector-strong -L/usr/local/lib'
    libpth=/usr/local/lib /usr/lib/gcc/x86_64-linux-gnu/7/include-fixed /usr/include/x86_64-linux-gnu /usr/lib /lib/x86_64-linux-gnu /lib/../lib /usr/lib/x86_64-linux-gnu /usr/lib/../lib /lib
    libs=-lpthread -lnsl -ldl -lm -lcrypt -lutil -lc
    perllibs=-lpthread -lnsl -ldl -lm -lcrypt -lutil -lc
    libc=libc-2.27.so
    so=so
    useshrplib=false
    libperl=libperl.a
    gnulibc_version='2.27'
  Dynamic Linking:
    dlsrc=dl_dlopen.xs
    dlext=so
    d_dlsymun=undef
    ccdlflags='-Wl,-E'
    cccdlflags='-fPIC'
    lddlflags='-shared -O2 -g -L/usr/local/lib -fstack-protector-strong'


Characteristics of this binary (from libperl): 
  Compile-time options:
    HAS_TIMES
    MULTIPLICITY
    PERLIO_LAYERS
    PERL_COPY_ON_WRITE
    PERL_DONT_CREATE_GVSV
    PERL_IMPLICIT_CONTEXT
    PERL_MALLOC_WRAP
    PERL_OP_PARENT
    PERL_PRESERVE_IVUV
    PERL_USE_DEVEL
    USE_64_BIT_ALL
    USE_64_BIT_INT
    USE_ITHREADS
    USE_LARGE_FILES
    USE_LOCALE
    USE_LOCALE_COLLATE
    USE_LOCALE_CTYPE
    USE_LOCALE_NUMERIC
    USE_LOCALE_TIME
    USE_PERLIO
    USE_PERL_ATOF
    USE_REENTRANT_API
    USE_THREAD_SAFE_LOCALE
  Locally applied patches:
    RC1
  Built under linux
  Compiled at Oct 30 2019 19:21:34
  %ENV:
    PERL="/tmp/basesmoker-reloperl-YdN8/bin/perl"
    PERL5LIB="/tmp/loop_over_bdir-14205-toEwk8/Lemonldap-NG-Cli-0.2-0/blib/arch:/tmp/loop_over_bdir-14205-toEwk8/Lemonldap-NG-Cli-0.2-0/blib/lib:/tmp/loop_over_bdir-14205-toEwk8/Prima-prigraph-win32-1.06-0/blib/arch:/tmp/loop_over_bdir-14205-toEwk8/Prima-prigraph-win32-1.06-0/blib/lib:/tmp/loop_over_bdir-14205-toEwk8/Linux-InitFS-0.2-0/blib/arch:/tmp/loop_over_bdir-14205-toEwk8/Linux-InitFS-0.2-0/blib/lib:/tmp/loop_over_bdir-14205-toEwk8/mmds-1.902-0/blib/arch:/tmp/loop_over_bdir-14205-toEwk8/mmds-1.902-0/blib/lib:/tmp/loop_over_bdir-14205-toEwk8/Simulation-Automate-1.0.1-0/blib/arch:/tmp/loop_over_bdir-14205-toEwk8/Simulation-Automate-1.0.1-0/blib/lib:/tmp/loop_over_bdir-14205-toEwk8/Sysync-0.35-0/blib/arch:/tmp/loop_over_bdir-14205-toEwk8/Sysync-0.35-0/blib/lib:/tmp/loop_over_bdir-14205-toEwk8/HTML-Menu-TreeView-1.22-0/blib/arch:/tmp/loop_over_bdir-14205-toEwk8/HTML-Menu-TreeView-1.22-0/blib/lib:/tmp/loop_over_bdir-14205-toEwk8/dta-tokwrap-0.90-0/blib/arch:/tmp/loop_over_bdir-14205-toEwk8/dta-tokwrap-0.90-0/blib/lib:/tmp/loop_over_bdir-14205-toEwk8/Dpkg-1.19.7-0/blib/arch:/tmp/loop_over_bdir-14205-toEwk8/Dpkg-1.19.7-0/blib/lib:/tmp/loop_over_bdir-14205-toEwk8/RDF-NLP-SPARQLQuery-0.1-0/blib/arch:/tmp/loop_over_bdir-14205-toEwk8/RDF-NLP-SPARQLQuery-0.1-0/blib/lib:/tmp/loop_over_bdir-14205-toEwk8/CORBA-Python-2.66-0/blib/arch:/tmp/loop_over_bdir-14205-toEwk8/CORBA-Python-2.66-0/blib/lib:/tmp/loop_over_bdir-14205-toEwk8/Debian-Packages-0.03-0/blib/arch:/tmp/loop_over_bdir-14205-toEwk8/Debian-Packages-0.03-0/blib/lib"
    PERL5OPT=""
    PERL5_CPANPLUS_IS_RUNNING="14213"
    PERL5_CPAN_IS_RUNNING="14213"
    PERL_CANARY_STABILITY_NOPROMPT="1"
    PERL_MM_USE_DEFAULT="1"
    PERL_USE_UNSAFE_INC="1"
  @INC:
    /tmp/loop_over_bdir-14205-toEwk8/Lemonldap-NG-Cli-0.2-0/blib/arch
    /tmp/loop_over_bdir-14205-toEwk8/Lemonldap-NG-Cli-0.2-0/blib/lib
    /tmp/loop_over_bdir-14205-toEwk8/Prima-prigraph-win32-1.06-0/blib/arch
    /tmp/loop_over_bdir-14205-toEwk8/Prima-prigraph-win32-1.06-0/blib/lib
    /tmp/loop_over_bdir-14205-toEwk8/Linux-InitFS-0.2-0/blib/arch
    /tmp/loop_over_bdir-14205-toEwk8/Linux-InitFS-0.2-0/blib/lib
    /tmp/loop_over_bdir-14205-toEwk8/mmds-1.902-0/blib/arch
    /tmp/loop_over_bdir-14205-toEwk8/mmds-1.902-0/blib/lib
    /tmp/loop_over_bdir-14205-toEwk8/Simulation-Automate-1.0.1-0/blib/arch
    /tmp/loop_over_bdir-14205-toEwk8/Simulation-Automate-1.0.1-0/blib/lib
    /tmp/loop_over_bdir-14205-toEwk8/Sysync-0.35-0/blib/arch
    /tmp/loop_over_bdir-14205-toEwk8/Sysync-0.35-0/blib/lib
    /tmp/loop_over_bdir-14205-toEwk8/HTML-Menu-TreeView-1.22-0/blib/arch
    /tmp/loop_over_bdir-14205-toEwk8/HTML-Menu-TreeView-1.22-0/blib/lib
    /tmp/loop_over_bdir-14205-toEwk8/dta-tokwrap-0.90-0/blib/arch
    /tmp/loop_over_bdir-14205-toEwk8/dta-tokwrap-0.90-0/blib/lib
    /tmp/loop_over_bdir-14205-toEwk8/Dpkg-1.19.7-0/blib/arch
    /tmp/loop_over_bdir-14205-toEwk8/Dpkg-1.19.7-0/blib/lib
    /tmp/loop_over_bdir-14205-toEwk8/RDF-NLP-SPARQLQuery-0.1-0/blib/arch
    /tmp/loop_over_bdir-14205-toEwk8/RDF-NLP-SPARQLQuery-0.1-0/blib/lib
    /tmp/loop_over_bdir-14205-toEwk8/CORBA-Python-2.66-0/blib/arch
    /tmp/loop_over_bdir-14205-toEwk8/CORBA-Python-2.66-0/blib/lib
    /tmp/loop_over_bdir-14205-toEwk8/Debian-Packages-0.03-0/blib/arch
    /tmp/loop_over_bdir-14205-toEwk8/Debian-Packages-0.03-0/blib/lib
    /home/sand/src/perl/repoperls/installed-perls/host/k93bionic/v5.30.1-RC1/7ee9/lib/site_perl/5.30.1/x86_64-linux-thread-multi
    /home/sand/src/perl/repoperls/installed-perls/host/k93bionic/v5.30.1-RC1/7ee9/lib/site_perl/5.30.1
    /home/sand/src/perl/repoperls/installed-perls/host/k93bionic/v5.30.1-RC1/7ee9/lib/5.30.1/x86_64-linux-thread-multi
    /home/sand/src/perl/repoperls/installed-perls/host/k93bionic/v5.30.1-RC1/7ee9/lib/5.30.1
    .