Mail-Mbox-MessageParser v1.5111 Perl 5 v5.8.9 x86_64-linux
- Status
- Pass
- From
- Andreas J. König (ANDK)
- Dist
-
Mail-Mbox-MessageParser v1.5111
- Platform
- Perl 5 v5.8.9 x86_64-linux
- Date
- 2018-07-12 03:57:43
- ID
- ba76dea8-8587-11e8-b4bc-0aa155cd21c2
This distribution has been tested as part of the CPAN Testers
project, supporting the Perl programming language. See
http://wiki.cpantesters.org/ for more information or email
questions to cpan-testers-discuss@perl.org
--
Dear David Coppit,
This is a computer-generated report for Mail-Mbox-MessageParser-1.5111
on perl 5.8.9, created by CPAN-Reporter-1.2018.
Thank you for uploading your work to CPAN. Congratulations!
All tests were successful.
Sections of this report:
* Tester comments
* Program output
* Prerequisites
* Environment and other context
------------------------------
TESTER COMMENTS
------------------------------
Additional comments from tester:
this report is from an automated smoke testing program
and was not reviewed by a human for accuracy
------------------------------
PROGRAM OUTPUT
------------------------------
Output from '/usr/bin/make test':
PERL_DL_NONLAZY=1 "/home/sand/src/perl/repoperls/installed-perls/host/k93msid/perl-5.8.9/da1c/bin/perl" "-MExtUtils::Command::MM" "-MTest::Harness" "-e" "undef *Test::Harness::Switches; test_harness(1, 'blib/lib', 'blib/arch')" t/*.t
t/000_standard__compile.t .......
1..6
ok 1 - Compile test for blib/lib/Mail/Mbox/MessageParser.pm
ok 2 - Compile test for blib/lib/Mail/Mbox/MessageParser/Config.pm
ok 3 - Compile test for blib/lib/Mail/Mbox/MessageParser/Cache.pm
ok 4 - Compile test for blib/lib/Mail/Mbox/MessageParser/MetaInfo.pm
ok 5 - Compile test for blib/lib/Mail/Mbox/MessageParser/Grep.pm
ok 6 - Compile test for blib/lib/Mail/Mbox/MessageParser/Perl.pm
ok
t/000_standard__perl_critic.t ... skipped: Author test. Set $ENV{TEST_AUTHOR} to a true value to run.
t/000_standard__pod.t ...........
1..6
ok 1 - POD test for blib/lib/Mail/Mbox/MessageParser.pm
ok 2 - POD test for blib/lib/Mail/Mbox/MessageParser/Config.pm
ok 3 - POD test for blib/lib/Mail/Mbox/MessageParser/Cache.pm
ok 4 - POD test for blib/lib/Mail/Mbox/MessageParser/MetaInfo.pm
ok 5 - POD test for blib/lib/Mail/Mbox/MessageParser/Grep.pm
ok 6 - POD test for blib/lib/Mail/Mbox/MessageParser/Perl.pm
ok
t/000_standard__pod_coverage.t ..
1..6
ok 1 - Pod coverage on Mail::Mbox::MessageParser
ok 2 - Pod coverage on Mail::Mbox::MessageParser::Config
ok 3 - Pod coverage on Mail::Mbox::MessageParser::Cache
ok 4 - Pod coverage on Mail::Mbox::MessageParser::MetaInfo
ok 5 - Pod coverage on Mail::Mbox::MessageParser::Grep
ok 6 - Pod coverage on Mail::Mbox::MessageParser::Perl
ok
t/appended_mailbox.t ............
1..6
Testing modified mailbox with Perl implementation
Comparing /tmp/Tv7PQ7Ssfp to t/mailboxes/mailarc-1.txt
Output /tmp/Tv7PQ7Ssfp looks good.
ok 1 - Computing differences
Testing modified mailbox with Cache implementation
Comparing /tmp/IfNA_Hzk6G to t/mailboxes/mailarc-1.txt
Output /tmp/IfNA_Hzk6G looks good.
ok 2 - Computing differences
Testing modified mailbox with Grep implementation
ok 3 # skip GNU grep not available
Testing modified mailbox with Perl implementation
Comparing /tmp/H6mQePZVy7 to t/mailboxes/mailarc-1.txt
Output /tmp/H6mQePZVy7 looks good.
ok 4 - Computing differences
Testing modified mailbox with Cache implementation
Comparing /tmp/1rknFQ8iEy to t/mailboxes/mailarc-1.txt
Output /tmp/1rknFQ8iEy looks good.
ok 5 - Computing differences
Testing modified mailbox with Grep implementation
ok 6 # skip GNU grep not available
ok
t/bzip2.t .......................
1..1
Running test:
"/bin/cat" "t/mailboxes/mailarc-2.txt.bz2" | "/bin/bzip2" -cd
Comparing /tmp/KnYkv66vQD to t/results/mailarc-2.txt
Output /tmp/KnYkv66vQD looks good.
Comparing /tmp/HnsIJSfSI_ to t/results/none
Output /tmp/HnsIJSfSI_ looks good.
ok 1 - Computing differences
ok
t/endline.t .....................
1..8
Testing filename: t/mailboxes/mailarc-1-dos.txt
ok 1 - Dos endline expected
ok 2 - Dos endline expected
ok 3 - Dos endline expected
ok 4 # skip GNU grep not available
Testing filename: t/mailboxes/mailarc-1.txt
ok 5 - Unix endline expected
ok 6 - Unix endline expected
ok 7 - Unix endline expected
ok 8 # skip GNU grep not available
ok
t/filehandle_compressed.t .......
1..16
Testing filename: t/mailboxes/mailarc-2.txt.bz2
Comparing /tmp/_L_eBFILIL to t/mailboxes/mailarc-2.txt
Output /tmp/_L_eBFILIL looks good.
ok 1 - Computing differences
Comparing /tmp/qxHfeT2Etd to t/mailboxes/mailarc-2.txt
Output /tmp/qxHfeT2Etd looks good.
ok 2 - Computing differences
Comparing /tmp/JK5tIyEH9s to t/mailboxes/mailarc-2.txt
Output /tmp/JK5tIyEH9s looks good.
ok 3 - Computing differences
ok 4 # skip GNU grep not available
Testing filename: t/mailboxes/mailarc-2.txt.gz
Comparing /tmp/bU4wCYyIMb to t/mailboxes/mailarc-2.txt
Output /tmp/bU4wCYyIMb looks good.
ok 5 - Computing differences
Comparing /tmp/lNWXj66VQa to t/mailboxes/mailarc-2.txt
Output /tmp/lNWXj66VQa looks good.
ok 6 - Computing differences
Comparing /tmp/IBoiCXBCSa to t/mailboxes/mailarc-2.txt
Output /tmp/IBoiCXBCSa looks good.
ok 7 - Computing differences
ok 8 # skip GNU grep not available
Testing filename: t/mailboxes/mailarc-2.txt.lz
ok 9 # skip lzip not available
ok 10 # skip lzip not available
ok 11 # skip lzip not available
ok 12 # skip lzip not available
Testing filename: t/mailboxes/mailarc-2.txt.xz
Comparing /tmp/ilMRlJKMgX to t/mailboxes/mailarc-2.txt
Output /tmp/ilMRlJKMgX looks good.
ok 13 - Computing differences
Comparing /tmp/nj8hbkZ6oL to t/mailboxes/mailarc-2.txt
Output /tmp/nj8hbkZ6oL looks good.
ok 14 - Computing differences
Comparing /tmp/rwhjNHdrYF to t/mailboxes/mailarc-2.txt
Output /tmp/rwhjNHdrYF looks good.
ok 15 - Computing differences
ok 16 # skip GNU grep not available
ok
t/filehandle_noncompressed.t ....
1..44
Testing filename: t/mailboxes/binary_body.txt
Comparing /tmp/d5sZwkLkzt to t/mailboxes/binary_body.txt
Output /tmp/d5sZwkLkzt looks good.
ok 1 - Computing differences
Comparing /tmp/0DlS8_w2Y6 to t/mailboxes/binary_body.txt
Output /tmp/0DlS8_w2Y6 looks good.
ok 2 - Computing differences
Comparing /tmp/grz2kqAiUN to t/mailboxes/binary_body.txt
Output /tmp/grz2kqAiUN looks good.
ok 3 - Computing differences
ok 4 # skip GNU grep not available
Testing filename: t/mailboxes/hessbug.txt
Comparing /tmp/PB_Yf_ucfE to t/mailboxes/hessbug.txt
Output /tmp/PB_Yf_ucfE looks good.
ok 5 - Computing differences
Comparing /tmp/pzNeBFun8G to t/mailboxes/hessbug.txt
Output /tmp/pzNeBFun8G looks good.
ok 6 - Computing differences
Comparing /tmp/u5HsZzSDvB to t/mailboxes/hessbug.txt
Output /tmp/u5HsZzSDvB looks good.
ok 7 - Computing differences
ok 8 # skip GNU grep not available
Testing filename: t/mailboxes/invalid-boundaries.txt
Comparing /tmp/GLSOGZwgkw to t/mailboxes/invalid-boundaries.txt
Output /tmp/GLSOGZwgkw looks good.
ok 9 - Computing differences
Comparing /tmp/FFRIcwRFcx to t/mailboxes/invalid-boundaries.txt
Output /tmp/FFRIcwRFcx looks good.
ok 10 - Computing differences
Comparing /tmp/v8GD0CuF6E to t/mailboxes/invalid-boundaries.txt
Output /tmp/v8GD0CuF6E looks good.
ok 11 - Computing differences
ok 12 # skip GNU grep not available
Testing filename: t/mailboxes/mailarc-1-dos.txt
Comparing /tmp/cxXklB8DOE to t/mailboxes/mailarc-1-dos.txt
Output /tmp/cxXklB8DOE looks good.
ok 13 - Computing differences
Comparing /tmp/hIByp9aIAE to t/mailboxes/mailarc-1-dos.txt
Output /tmp/hIByp9aIAE looks good.
ok 14 - Computing differences
Comparing /tmp/d_ysZt4UbU to t/mailboxes/mailarc-1-dos.txt
Output /tmp/d_ysZt4UbU looks good.
ok 15 - Computing differences
ok 16 # skip GNU grep not available
Testing filename: t/mailboxes/mailarc-1.txt
Comparing /tmp/wi2N6qimV0 to t/mailboxes/mailarc-1.txt
Output /tmp/wi2N6qimV0 looks good.
ok 17 - Computing differences
Comparing /tmp/A3NebF5lhs to t/mailboxes/mailarc-1.txt
Output /tmp/A3NebF5lhs looks good.
ok 18 - Computing differences
Comparing /tmp/ccvnJMMVX3 to t/mailboxes/mailarc-1.txt
Output /tmp/ccvnJMMVX3 looks good.
ok 19 - Computing differences
ok 20 # skip GNU grep not available
Testing filename: t/mailboxes/mailarc-2.txt
Comparing /tmp/DqKEljXE4Q to t/mailboxes/mailarc-2.txt
Output /tmp/DqKEljXE4Q looks good.
ok 21 - Computing differences
Comparing /tmp/So1LQR1NRO to t/mailboxes/mailarc-2.txt
Output /tmp/So1LQR1NRO looks good.
ok 22 - Computing differences
Comparing /tmp/rcOtJuug9i to t/mailboxes/mailarc-2.txt
Output /tmp/rcOtJuug9i looks good.
ok 23 - Computing differences
ok 24 # skip GNU grep not available
Testing filename: t/mailboxes/mailarc-3.txt
Comparing /tmp/vPeTwpv5QG to t/mailboxes/mailarc-3.txt
Output /tmp/vPeTwpv5QG looks good.
ok 25 - Computing differences
Comparing /tmp/NVtadeUpqk to t/mailboxes/mailarc-3.txt
Output /tmp/NVtadeUpqk looks good.
ok 26 - Computing differences
Comparing /tmp/XyFyIJjoXy to t/mailboxes/mailarc-3.txt
Output /tmp/XyFyIJjoXy looks good.
ok 27 - Computing differences
ok 28 # skip GNU grep not available
Testing filename: t/mailboxes/mailseparators.txt
Comparing /tmp/bWjjodIis5 to t/mailboxes/mailseparators.txt
Output /tmp/bWjjodIis5 looks good.
ok 29 - Computing differences
Comparing /tmp/50zturEuXa to t/mailboxes/mailseparators.txt
Output /tmp/50zturEuXa looks good.
ok 30 - Computing differences
Comparing /tmp/AZrSkzMp5Y to t/mailboxes/mailseparators.txt
Output /tmp/AZrSkzMp5Y looks good.
ok 31 - Computing differences
ok 32 # skip GNU grep not available
Testing filename: t/mailboxes/malformed.txt
Comparing /tmp/eUkAdNr54z to t/mailboxes/malformed.txt
Output /tmp/eUkAdNr54z looks good.
ok 33 - Computing differences
Comparing /tmp/CShV7iOXqf to t/mailboxes/malformed.txt
Output /tmp/CShV7iOXqf looks good.
ok 34 - Computing differences
Comparing /tmp/PFIFOCVLEh to t/mailboxes/malformed.txt
Output /tmp/PFIFOCVLEh looks good.
ok 35 - Computing differences
ok 36 # skip GNU grep not available
Testing filename: t/mailboxes/newlines_at_beginning.txt
Comparing /tmp/BubEJvPQtu to t/mailboxes/newlines_at_beginning.txt
Output /tmp/BubEJvPQtu looks good.
ok 37 - Computing differences
Comparing /tmp/BYFUdzqL80 to t/mailboxes/newlines_at_beginning.txt
Output /tmp/BYFUdzqL80 looks good.
ok 38 - Computing differences
Comparing /tmp/Wi11kjivOD to t/mailboxes/newlines_at_beginning.txt
Output /tmp/Wi11kjivOD looks good.
ok 39 - Computing differences
ok 40 # skip GNU grep not available
Testing filename: t/mailboxes/vm-emacs.txt
Comparing /tmp/xabWfwW26i to t/mailboxes/vm-emacs.txt
Output /tmp/xabWfwW26i looks good.
ok 41 - Computing differences
Comparing /tmp/lJRaaYw7zU to t/mailboxes/vm-emacs.txt
Output /tmp/lJRaaYw7zU looks good.
ok 42 - Computing differences
Comparing /tmp/Zv6wJtP2gf to t/mailboxes/vm-emacs.txt
Output /tmp/Zv6wJtP2gf looks good.
ok 43 - Computing differences
ok 44 # skip GNU grep not available
ok
t/filename_compressed.t .........
1..4
Testing filename: t/mailboxes/mailarc-2.txt.bz2
Comparing /tmp/6hdvX6Eyq7 to t/mailboxes/mailarc-2.txt
Output /tmp/6hdvX6Eyq7 looks good.
ok 1 - Computing differences
Testing filename: t/mailboxes/mailarc-2.txt.gz
Comparing /tmp/0dW0gkxnmW to t/mailboxes/mailarc-2.txt
Output /tmp/0dW0gkxnmW looks good.
ok 2 - Computing differences
Testing filename: t/mailboxes/mailarc-2.txt.lz
ok 3 # skip lzip not available
Testing filename: t/mailboxes/mailarc-2.txt.xz
Comparing /tmp/M9xrwcRHMk to t/mailboxes/mailarc-2.txt
Output /tmp/M9xrwcRHMk looks good.
ok 4 - Computing differences
ok
t/filename_noncompressed.t ......
1..11
Testing filename: t/mailboxes/binary_body.txt
Comparing /tmp/OIHiIQmyPs to t/mailboxes/binary_body.txt
Output /tmp/OIHiIQmyPs looks good.
ok 1 - Computing differences
Testing filename: t/mailboxes/hessbug.txt
Comparing /tmp/Wm4D38XbTz to t/mailboxes/hessbug.txt
Output /tmp/Wm4D38XbTz looks good.
ok 2 - Computing differences
Testing filename: t/mailboxes/invalid-boundaries.txt
Comparing /tmp/fhhcK62S6x to t/mailboxes/invalid-boundaries.txt
Output /tmp/fhhcK62S6x looks good.
ok 3 - Computing differences
Testing filename: t/mailboxes/mailarc-1-dos.txt
Comparing /tmp/vQf7GzcJjB to t/mailboxes/mailarc-1-dos.txt
Output /tmp/vQf7GzcJjB looks good.
ok 4 - Computing differences
Testing filename: t/mailboxes/mailarc-1.txt
Comparing /tmp/93axpdroYt to t/mailboxes/mailarc-1.txt
Output /tmp/93axpdroYt looks good.
ok 5 - Computing differences
Testing filename: t/mailboxes/mailarc-2.txt
Comparing /tmp/OSywhfrdHj to t/mailboxes/mailarc-2.txt
Output /tmp/OSywhfrdHj looks good.
ok 6 - Computing differences
Testing filename: t/mailboxes/mailarc-3.txt
Comparing /tmp/0hagWDFT2u to t/mailboxes/mailarc-3.txt
Output /tmp/0hagWDFT2u looks good.
ok 7 - Computing differences
Testing filename: t/mailboxes/mailseparators.txt
Comparing /tmp/B1ctPVxNKn to t/mailboxes/mailseparators.txt
Output /tmp/B1ctPVxNKn looks good.
ok 8 - Computing differences
Testing filename: t/mailboxes/malformed.txt
Comparing /tmp/xjqNxf94ef to t/mailboxes/malformed.txt
Output /tmp/xjqNxf94ef looks good.
ok 9 - Computing differences
Testing filename: t/mailboxes/newlines_at_beginning.txt
Comparing /tmp/eBxLSfTtld to t/mailboxes/newlines_at_beginning.txt
Output /tmp/eBxLSfTtld looks good.
ok 10 - Computing differences
Testing filename: t/mailboxes/vm-emacs.txt
Comparing /tmp/H4StuaEdP8 to t/mailboxes/vm-emacs.txt
Output /tmp/H4StuaEdP8 looks good.
ok 11 - Computing differences
ok
t/grep.t ........................
1..4
Running test:
unset LC_ALL LC_COLLATE LANG LC_CTYPE LC_MESSAGES; grep --extended-regexp --line-number --byte-offset --binary-files=text "^From [^:]+(:[0-9][0-9]){1,2}( *([A-Z]{2,6}|[+-]?[0-9]{4})){1,3}( remote from .*)?
?$" t/mailboxes/mailarc-1.txt
ok 1 # skip 1
Running test:
unset LC_ALL LC_COLLATE LANG LC_CTYPE LC_MESSAGES; grep --extended-regexp --line-number --byte-offset --binary-files=text "^From [^:]+(:[0-9][0-9]){1,2}( *([A-Z]{2,6}|[+-]?[0-9]{4})){1,3}( remote from .*)?
?$" t/mailboxes/mailarc-2.txt
ok 2 # skip 1
Running test:
unset LC_ALL LC_COLLATE LANG LC_CTYPE LC_MESSAGES; grep --extended-regexp --line-number --byte-offset --binary-files=text "^From [^:]+(:[0-9][0-9]){1,2}( *([A-Z]{2,6}|[+-]?[0-9]{4})){1,3}( remote from .*)?
?$" t/mailboxes/mailarc-3.txt
ok 3 # skip 1
Running test:
unset LC_ALL LC_COLLATE LANG LC_CTYPE LC_MESSAGES; grep --extended-regexp --line-number --byte-offset --binary-files=text "^From [^:]+(:[0-9][0-9]){1,2}( *([A-Z]{2,6}|[+-]?[0-9]{4})){1,3}( remote from .*)?
?$" t/mailboxes/mailseparators.txt
ok 4 # skip 1
ok
t/gzip.t ........................
1..1
Running test:
"/bin/cat" "t/mailboxes/mailarc-2.txt.gz" | "/bin/gzip" -cd
Comparing /tmp/0Tx_9wiuaz to t/results/mailarc-2.txt
Output /tmp/0Tx_9wiuaz looks good.
Comparing /tmp/416BfADLUS to t/results/none
Output /tmp/416BfADLUS looks good.
ok 1 - Computing differences
ok
t/length.t ......................
1..30
Testing filename: t/mailboxes/binary_body.txt
Comparing /tmp/6qxBducTDZ to t/results/length_binary_body.stdout
Output /tmp/6qxBducTDZ looks good.
ok 1 - Computing differences
Comparing /tmp/scON3fiInB to t/results/length_binary_body.stdout
Output /tmp/scON3fiInB looks good.
ok 2 - Computing differences
ok 3 # skip GNU grep not available
Testing filename: t/mailboxes/hessbug.txt
Comparing /tmp/vrY3ncVyGu to t/results/length_hessbug.stdout
Output /tmp/vrY3ncVyGu looks good.
ok 4 - Computing differences
Comparing /tmp/zWlV9ThaKq to t/results/length_hessbug.stdout
Output /tmp/zWlV9ThaKq looks good.
ok 5 - Computing differences
ok 6 # skip GNU grep not available
Testing filename: t/mailboxes/invalid-boundaries.txt
Comparing /tmp/XZjTxEOfo9 to t/results/length_invalid-boundaries.stdout
Output /tmp/XZjTxEOfo9 looks good.
ok 7 - Computing differences
Comparing /tmp/lsTSrsZ03P to t/results/length_invalid-boundaries.stdout
Output /tmp/lsTSrsZ03P looks good.
ok 8 - Computing differences
ok 9 # skip GNU grep not available
Testing filename: t/mailboxes/mailarc-1-dos.txt
Comparing /tmp/6dMClJpLCU to t/results/length_mailarc-1-dos.stdout
Output /tmp/6dMClJpLCU looks good.
ok 10 - Computing differences
Comparing /tmp/yysnxYE6y5 to t/results/length_mailarc-1-dos.stdout
Output /tmp/yysnxYE6y5 looks good.
ok 11 - Computing differences
ok 12 # skip GNU grep not available
Testing filename: t/mailboxes/mailarc-1.txt
Comparing /tmp/Q_akbkHq32 to t/results/length_mailarc-1.stdout
Output /tmp/Q_akbkHq32 looks good.
ok 13 - Computing differences
Comparing /tmp/sE5NEZiy5l to t/results/length_mailarc-1.stdout
Output /tmp/sE5NEZiy5l looks good.
ok 14 - Computing differences
ok 15 # skip GNU grep not available
Testing filename: t/mailboxes/mailarc-2.txt
Comparing /tmp/wWKhpJ2ZQl to t/results/length_mailarc-2.stdout
Output /tmp/wWKhpJ2ZQl looks good.
ok 16 - Computing differences
Comparing /tmp/XSHKWBl2Ah to t/results/length_mailarc-2.stdout
Output /tmp/XSHKWBl2Ah looks good.
ok 17 - Computing differences
ok 18 # skip GNU grep not available
Testing filename: t/mailboxes/mailarc-3.txt
Comparing /tmp/nnY32cFsFF to t/results/length_mailarc-3.stdout
Output /tmp/nnY32cFsFF looks good.
ok 19 - Computing differences
Comparing /tmp/ziOGNEddwE to t/results/length_mailarc-3.stdout
Output /tmp/ziOGNEddwE looks good.
ok 20 - Computing differences
ok 21 # skip GNU grep not available
Testing filename: t/mailboxes/mailseparators.txt
Comparing /tmp/FqYhdWv3tn to t/results/length_mailseparators.stdout
Output /tmp/FqYhdWv3tn looks good.
ok 22 - Computing differences
Comparing /tmp/o0WzUgasj2 to t/results/length_mailseparators.stdout
Output /tmp/o0WzUgasj2 looks good.
ok 23 - Computing differences
ok 24 # skip GNU grep not available
Testing filename: t/mailboxes/malformed.txt
Comparing /tmp/6aChZkbDgj to t/results/length_malformed.stdout
Output /tmp/6aChZkbDgj looks good.
ok 25 - Computing differences
Comparing /tmp/4BXVZ6lAsx to t/results/length_malformed.stdout
Output /tmp/4BXVZ6lAsx looks good.
ok 26 - Computing differences
ok 27 # skip GNU grep not available
Testing filename: t/mailboxes/newlines_at_beginning.txt
Comparing /tmp/6o9p2xqswc to t/results/length_newlines_at_beginning.stdout
Output /tmp/6o9p2xqswc looks good.
ok 28 - Computing differences
Comparing /tmp/dO_2XrZpXW to t/results/length_newlines_at_beginning.stdout
Output /tmp/dO_2XrZpXW looks good.
ok 29 - Computing differences
ok 30 # skip GNU grep not available
ok
t/line_number.t .................
1..30
Testing filename: t/mailboxes/binary_body.txt
Comparing /tmp/vxFoU1Bzqy to t/results/line_number_binary_body.stdout
Output /tmp/vxFoU1Bzqy looks good.
ok 1 - Computing differences
Comparing /tmp/LwlBjkkssI to t/results/line_number_binary_body.stdout
Output /tmp/LwlBjkkssI looks good.
ok 2 - Computing differences
ok 3 # skip GNU grep not available
Testing filename: t/mailboxes/hessbug.txt
Comparing /tmp/G3Xoj6j_33 to t/results/line_number_hessbug.stdout
Output /tmp/G3Xoj6j_33 looks good.
ok 4 - Computing differences
Comparing /tmp/j0SSTeJJAS to t/results/line_number_hessbug.stdout
Output /tmp/j0SSTeJJAS looks good.
ok 5 - Computing differences
ok 6 # skip GNU grep not available
Testing filename: t/mailboxes/invalid-boundaries.txt
Comparing /tmp/nhf66kiYLr to t/results/line_number_invalid-boundaries.stdout
Output /tmp/nhf66kiYLr looks good.
ok 7 - Computing differences
Comparing /tmp/il_fcdphn9 to t/results/line_number_invalid-boundaries.stdout
Output /tmp/il_fcdphn9 looks good.
ok 8 - Computing differences
ok 9 # skip GNU grep not available
Testing filename: t/mailboxes/mailarc-1-dos.txt
Comparing /tmp/kOibug9tFJ to t/results/line_number_mailarc-1-dos.stdout
Output /tmp/kOibug9tFJ looks good.
ok 10 - Computing differences
Comparing /tmp/feIXOzOflK to t/results/line_number_mailarc-1-dos.stdout
Output /tmp/feIXOzOflK looks good.
ok 11 - Computing differences
ok 12 # skip GNU grep not available
Testing filename: t/mailboxes/mailarc-1.txt
Comparing /tmp/Fd5MHOKeM4 to t/results/line_number_mailarc-1.stdout
Output /tmp/Fd5MHOKeM4 looks good.
ok 13 - Computing differences
Comparing /tmp/QxLj0kL1oO to t/results/line_number_mailarc-1.stdout
Output /tmp/QxLj0kL1oO looks good.
ok 14 - Computing differences
ok 15 # skip GNU grep not available
Testing filename: t/mailboxes/mailarc-2.txt
Comparing /tmp/z6D5NlsskK to t/results/line_number_mailarc-2.stdout
Output /tmp/z6D5NlsskK looks good.
ok 16 - Computing differences
Comparing /tmp/yWsR7mbanZ to t/results/line_number_mailarc-2.stdout
Output /tmp/yWsR7mbanZ looks good.
ok 17 - Computing differences
ok 18 # skip GNU grep not available
Testing filename: t/mailboxes/mailarc-3.txt
Comparing /tmp/UkCOpCPgPJ to t/results/line_number_mailarc-3.stdout
Output /tmp/UkCOpCPgPJ looks good.
ok 19 - Computing differences
Comparing /tmp/HWAXTXfUtj to t/results/line_number_mailarc-3.stdout
Output /tmp/HWAXTXfUtj looks good.
ok 20 - Computing differences
ok 21 # skip GNU grep not available
Testing filename: t/mailboxes/mailseparators.txt
Comparing /tmp/iweDkk76if to t/results/line_number_mailseparators.stdout
Output /tmp/iweDkk76if looks good.
ok 22 - Computing differences
Comparing /tmp/xA2HJEPWTt to t/results/line_number_mailseparators.stdout
Output /tmp/xA2HJEPWTt looks good.
ok 23 - Computing differences
ok 24 # skip GNU grep not available
Testing filename: t/mailboxes/malformed.txt
Comparing /tmp/8gyC_KedY7 to t/results/line_number_malformed.stdout
Output /tmp/8gyC_KedY7 looks good.
ok 25 - Computing differences
Comparing /tmp/EsllbIhpsb to t/results/line_number_malformed.stdout
Output /tmp/EsllbIhpsb looks good.
ok 26 - Computing differences
ok 27 # skip GNU grep not available
Testing filename: t/mailboxes/newlines_at_beginning.txt
Comparing /tmp/yzUvf4lwUI to t/results/line_number_newlines_at_beginning.stdout
Output /tmp/yzUvf4lwUI looks good.
ok 28 - Computing differences
Comparing /tmp/sB6QlkaXwK to t/results/line_number_newlines_at_beginning.stdout
Output /tmp/sB6QlkaXwK looks good.
ok 29 - Computing differences
ok 30 # skip GNU grep not available
ok
t/lzip.t ........................
1..1
Running test:
"/bin/cat" "t/mailboxes/mailarc-2.txt.lz" | "lzip" -cd
ok 1 # skip lzip not available
ok
t/number.t ......................
1..30
Testing filename: t/mailboxes/binary_body.txt
Comparing /tmp/1Sr6cm68BV to t/results/number_binary_body.stdout
Output /tmp/1Sr6cm68BV looks good.
ok 1 - Computing differences
Comparing /tmp/ywg5xS3PT9 to t/results/number_binary_body.stdout
Output /tmp/ywg5xS3PT9 looks good.
ok 2 - Computing differences
ok 3 # skip GNU grep not available
Testing filename: t/mailboxes/hessbug.txt
Comparing /tmp/n5spfAKedH to t/results/number_hessbug.stdout
Output /tmp/n5spfAKedH looks good.
ok 4 - Computing differences
Comparing /tmp/gvhC3gXdQb to t/results/number_hessbug.stdout
Output /tmp/gvhC3gXdQb looks good.
ok 5 - Computing differences
ok 6 # skip GNU grep not available
Testing filename: t/mailboxes/invalid-boundaries.txt
Comparing /tmp/HBTgBINaEa to t/results/number_invalid-boundaries.stdout
Output /tmp/HBTgBINaEa looks good.
ok 7 - Computing differences
Comparing /tmp/UvNydUre4t to t/results/number_invalid-boundaries.stdout
Output /tmp/UvNydUre4t looks good.
ok 8 - Computing differences
ok 9 # skip GNU grep not available
Testing filename: t/mailboxes/mailarc-1-dos.txt
Comparing /tmp/2YW6EjOIxx to t/results/number_mailarc-1-dos.stdout
Output /tmp/2YW6EjOIxx looks good.
ok 10 - Computing differences
Comparing /tmp/aZMKl0wPr_ to t/results/number_mailarc-1-dos.stdout
Output /tmp/aZMKl0wPr_ looks good.
ok 11 - Computing differences
ok 12 # skip GNU grep not available
Testing filename: t/mailboxes/mailarc-1.txt
Comparing /tmp/vG4EkmkvDI to t/results/number_mailarc-1.stdout
Output /tmp/vG4EkmkvDI looks good.
ok 13 - Computing differences
Comparing /tmp/R5xpkVRqd9 to t/results/number_mailarc-1.stdout
Output /tmp/R5xpkVRqd9 looks good.
ok 14 - Computing differences
ok 15 # skip GNU grep not available
Testing filename: t/mailboxes/mailarc-2.txt
Comparing /tmp/Rmbk4yHtnf to t/results/number_mailarc-2.stdout
Output /tmp/Rmbk4yHtnf looks good.
ok 16 - Computing differences
Comparing /tmp/oqUBsSbjOL to t/results/number_mailarc-2.stdout
Output /tmp/oqUBsSbjOL looks good.
ok 17 - Computing differences
ok 18 # skip GNU grep not available
Testing filename: t/mailboxes/mailarc-3.txt
Comparing /tmp/EqsYl_XUdT to t/results/number_mailarc-3.stdout
Output /tmp/EqsYl_XUdT looks good.
ok 19 - Computing differences
Comparing /tmp/z5SCY2Ulsn to t/results/number_mailarc-3.stdout
Output /tmp/z5SCY2Ulsn looks good.
ok 20 - Computing differences
ok 21 # skip GNU grep not available
Testing filename: t/mailboxes/mailseparators.txt
Comparing /tmp/7WGK8NcTZw to t/results/number_mailseparators.stdout
Output /tmp/7WGK8NcTZw looks good.
ok 22 - Computing differences
Comparing /tmp/lNYPzBJojL to t/results/number_mailseparators.stdout
Output /tmp/lNYPzBJojL looks good.
ok 23 - Computing differences
ok 24 # skip GNU grep not available
Testing filename: t/mailboxes/malformed.txt
Comparing /tmp/RMLlo5PUzQ to t/results/number_malformed.stdout
Output /tmp/RMLlo5PUzQ looks good.
ok 25 - Computing differences
Comparing /tmp/uk8Mm5ESl7 to t/results/number_malformed.stdout
Output /tmp/uk8Mm5ESl7 looks good.
ok 26 - Computing differences
ok 27 # skip GNU grep not available
Testing filename: t/mailboxes/newlines_at_beginning.txt
Comparing /tmp/sYUYyChfEO to t/results/number_newlines_at_beginning.stdout
Output /tmp/sYUYyChfEO looks good.
ok 28 - Computing differences
Comparing /tmp/FSR3_A8cqR to t/results/number_newlines_at_beginning.stdout
Output /tmp/FSR3_A8cqR looks good.
ok 29 - Computing differences
ok 30 # skip GNU grep not available
ok
t/offset.t ......................
1..30
Testing filename: t/mailboxes/binary_body.txt
Comparing /tmp/FGYk3B3htQ to t/results/offset_binary_body.stdout
Output /tmp/FGYk3B3htQ looks good.
ok 1 - Computing differences
Comparing /tmp/NiB8uNe3N5 to t/results/offset_binary_body.stdout
Output /tmp/NiB8uNe3N5 looks good.
ok 2 - Computing differences
ok 3 # skip GNU grep not available
Testing filename: t/mailboxes/hessbug.txt
Comparing /tmp/nhcZacI7PX to t/results/offset_hessbug.stdout
Output /tmp/nhcZacI7PX looks good.
ok 4 - Computing differences
Comparing /tmp/4HVRlfOksa to t/results/offset_hessbug.stdout
Output /tmp/4HVRlfOksa looks good.
ok 5 - Computing differences
ok 6 # skip GNU grep not available
Testing filename: t/mailboxes/invalid-boundaries.txt
Comparing /tmp/wWtWfniZnm to t/results/offset_invalid-boundaries.stdout
Output /tmp/wWtWfniZnm looks good.
ok 7 - Computing differences
Comparing /tmp/oCXiRVsHF2 to t/results/offset_invalid-boundaries.stdout
Output /tmp/oCXiRVsHF2 looks good.
ok 8 - Computing differences
ok 9 # skip GNU grep not available
Testing filename: t/mailboxes/mailarc-1-dos.txt
Comparing /tmp/AfwkVL0OSP to t/results/offset_mailarc-1-dos.stdout
Output /tmp/AfwkVL0OSP looks good.
ok 10 - Computing differences
Comparing /tmp/9i4sjJrYZw to t/results/offset_mailarc-1-dos.stdout
Output /tmp/9i4sjJrYZw looks good.
ok 11 - Computing differences
ok 12 # skip GNU grep not available
Testing filename: t/mailboxes/mailarc-1.txt
Comparing /tmp/0anaelf7jm to t/results/offset_mailarc-1.stdout
Output /tmp/0anaelf7jm looks good.
ok 13 - Computing differences
Comparing /tmp/N1qOPzH1_J to t/results/offset_mailarc-1.stdout
Output /tmp/N1qOPzH1_J looks good.
ok 14 - Computing differences
ok 15 # skip GNU grep not available
Testing filename: t/mailboxes/mailarc-2.txt
Comparing /tmp/d4P4lX77Sr to t/results/offset_mailarc-2.stdout
Output /tmp/d4P4lX77Sr looks good.
ok 16 - Computing differences
Comparing /tmp/U8PMN72DcP to t/results/offset_mailarc-2.stdout
Output /tmp/U8PMN72DcP looks good.
ok 17 - Computing differences
ok 18 # skip GNU grep not available
Testing filename: t/mailboxes/mailarc-3.txt
Comparing /tmp/Slq1pBnL4c to t/results/offset_mailarc-3.stdout
Output /tmp/Slq1pBnL4c looks good.
ok 19 - Computing differences
Comparing /tmp/AwW6LDNfP2 to t/results/offset_mailarc-3.stdout
Output /tmp/AwW6LDNfP2 looks good.
ok 20 - Computing differences
ok 21 # skip GNU grep not available
Testing filename: t/mailboxes/mailseparators.txt
Comparing /tmp/8SNiQLRRSg to t/results/offset_mailseparators.stdout
Output /tmp/8SNiQLRRSg looks good.
ok 22 - Computing differences
Comparing /tmp/FTBuOfdIiw to t/results/offset_mailseparators.stdout
Output /tmp/FTBuOfdIiw looks good.
ok 23 - Computing differences
ok 24 # skip GNU grep not available
Testing filename: t/mailboxes/malformed.txt
Comparing /tmp/KUvwLSu2SO to t/results/offset_malformed.stdout
Output /tmp/KUvwLSu2SO looks good.
ok 25 - Computing differences
Comparing /tmp/Nr4ajzgNGH to t/results/offset_malformed.stdout
Output /tmp/Nr4ajzgNGH looks good.
ok 26 - Computing differences
ok 27 # skip GNU grep not available
Testing filename: t/mailboxes/newlines_at_beginning.txt
Comparing /tmp/7QmlyUoAyQ to t/results/offset_newlines_at_beginning.stdout
Output /tmp/7QmlyUoAyQ looks good.
ok 28 - Computing differences
Comparing /tmp/6P0J_OfkDD to t/results/offset_newlines_at_beginning.stdout
Output /tmp/6P0J_OfkDD looks good.
ok 29 - Computing differences
ok 30 # skip GNU grep not available
ok
t/prologue.t ....................
1..33
Testing filename: t/mailboxes/binary_body.txt
Comparing /tmp/B2St4cLXrn to t/mailboxes/binary_body.txt
Output /tmp/B2St4cLXrn looks good.
ok 1 - Computing differences
Comparing /tmp/zavrs4OkMI to t/mailboxes/binary_body.txt
Output /tmp/zavrs4OkMI looks good.
ok 2 - Computing differences
ok 3 # skip GNU grep not available
Testing filename: t/mailboxes/hessbug.txt
Comparing /tmp/KPhm1KRXU7 to t/mailboxes/hessbug.txt
Output /tmp/KPhm1KRXU7 looks good.
ok 4 - Computing differences
Comparing /tmp/lyKnzbOhkz to t/mailboxes/hessbug.txt
Output /tmp/lyKnzbOhkz looks good.
ok 5 - Computing differences
ok 6 # skip GNU grep not available
Testing filename: t/mailboxes/invalid-boundaries.txt
Comparing /tmp/bE0VLPncQE to t/mailboxes/invalid-boundaries.txt
Output /tmp/bE0VLPncQE looks good.
ok 7 - Computing differences
Comparing /tmp/aGesUopOY_ to t/mailboxes/invalid-boundaries.txt
Output /tmp/aGesUopOY_ looks good.
ok 8 - Computing differences
ok 9 # skip GNU grep not available
Testing filename: t/mailboxes/mailarc-1-dos.txt
Comparing /tmp/wzZOFwDNFh to t/mailboxes/mailarc-1-dos.txt
Output /tmp/wzZOFwDNFh looks good.
ok 10 - Computing differences
Comparing /tmp/6LvCrvBq1x to t/mailboxes/mailarc-1-dos.txt
Output /tmp/6LvCrvBq1x looks good.
ok 11 - Computing differences
ok 12 # skip GNU grep not available
Testing filename: t/mailboxes/mailarc-1.txt
Comparing /tmp/dzGC91G7w4 to t/mailboxes/mailarc-1.txt
Output /tmp/dzGC91G7w4 looks good.
ok 13 - Computing differences
Comparing /tmp/_8UmqhImts to t/mailboxes/mailarc-1.txt
Output /tmp/_8UmqhImts looks good.
ok 14 - Computing differences
ok 15 # skip GNU grep not available
Testing filename: t/mailboxes/mailarc-2.txt
Comparing /tmp/u0OhlwYZPY to t/mailboxes/mailarc-2.txt
Output /tmp/u0OhlwYZPY looks good.
ok 16 - Computing differences
Comparing /tmp/nmKLBA30ZA to t/mailboxes/mailarc-2.txt
Output /tmp/nmKLBA30ZA looks good.
ok 17 - Computing differences
ok 18 # skip GNU grep not available
Testing filename: t/mailboxes/mailarc-3.txt
Comparing /tmp/Oud9LR_J7n to t/mailboxes/mailarc-3.txt
Output /tmp/Oud9LR_J7n looks good.
ok 19 - Computing differences
Comparing /tmp/UZL4HlNWE9 to t/mailboxes/mailarc-3.txt
Output /tmp/UZL4HlNWE9 looks good.
ok 20 - Computing differences
ok 21 # skip GNU grep not available
Testing filename: t/mailboxes/mailseparators.txt
Comparing /tmp/k82ig8LYQv to t/mailboxes/mailseparators.txt
Output /tmp/k82ig8LYQv looks good.
ok 22 - Computing differences
Comparing /tmp/v4LRhAZFNh to t/mailboxes/mailseparators.txt
Output /tmp/v4LRhAZFNh looks good.
ok 23 - Computing differences
ok 24 # skip GNU grep not available
Testing filename: t/mailboxes/malformed.txt
Comparing /tmp/pmXF3uAMwX to t/mailboxes/malformed.txt
Output /tmp/pmXF3uAMwX looks good.
ok 25 - Computing differences
Comparing /tmp/bCnQM_gidH to t/mailboxes/malformed.txt
Output /tmp/bCnQM_gidH looks good.
ok 26 - Computing differences
ok 27 # skip GNU grep not available
Testing filename: t/mailboxes/newlines_at_beginning.txt
Comparing /tmp/y4HJ4gIZmP to t/mailboxes/newlines_at_beginning.txt
Output /tmp/y4HJ4gIZmP looks good.
ok 28 - Computing differences
Comparing /tmp/lvrzcXNvv9 to t/mailboxes/newlines_at_beginning.txt
Output /tmp/lvrzcXNvv9 looks good.
ok 29 - Computing differences
ok 30 # skip GNU grep not available
Testing filename: t/mailboxes/vm-emacs.txt
Comparing /tmp/bKHtmj8Zmw to t/mailboxes/vm-emacs.txt
Output /tmp/bKHtmj8Zmw looks good.
ok 31 - Computing differences
Comparing /tmp/HIr21beTTq to t/mailboxes/vm-emacs.txt
Output /tmp/HIr21beTTq looks good.
ok 32 - Computing differences
ok 33 # skip GNU grep not available
ok
t/reset.t .......................
1..60
Testing filename: t/mailboxes/binary_body.txt
Testing partial mailbox reset with Perl implementation
Comparing /tmp/y3rcc6hnhk to t/results/reset_binary_body.stdout
Output /tmp/y3rcc6hnhk looks good.
ok 1 - Computing differences
Testing partial mailbox reset with Cache implementation
Comparing /tmp/Wb72R_4NIj to t/results/reset_binary_body.stdout
Output /tmp/Wb72R_4NIj looks good.
ok 2 - Computing differences
Testing partial mailbox reset with Grep implementation
ok 3 # skip GNU grep not available
Testing full mailbox reset with Perl implementation
Comparing /tmp/WzN5cgjKiu to t/results/reset_binary_body.stdout
Output /tmp/WzN5cgjKiu looks good.
ok 4 - Computing differences
Testing full mailbox reset with Cache implementation
Comparing /tmp/5DpCF2jmGy to t/results/reset_binary_body.stdout
Output /tmp/5DpCF2jmGy looks good.
ok 5 - Computing differences
Testing full mailbox reset with Grep implementation
ok 6 # skip GNU grep not available
Testing filename: t/mailboxes/hessbug.txt
Testing partial mailbox reset with Perl implementation
Comparing /tmp/lnP1j1xb5d to t/results/reset_hessbug.stdout
Output /tmp/lnP1j1xb5d looks good.
ok 7 - Computing differences
Testing partial mailbox reset with Cache implementation
Comparing /tmp/KW_PjghuU8 to t/results/reset_hessbug.stdout
Output /tmp/KW_PjghuU8 looks good.
ok 8 - Computing differences
Testing partial mailbox reset with Grep implementation
ok 9 # skip GNU grep not available
Testing full mailbox reset with Perl implementation
Comparing /tmp/3GIBU5J9H7 to t/results/reset_hessbug.stdout
Output /tmp/3GIBU5J9H7 looks good.
ok 10 - Computing differences
Testing full mailbox reset with Cache implementation
Comparing /tmp/84QgZIwm5h to t/results/reset_hessbug.stdout
Output /tmp/84QgZIwm5h looks good.
ok 11 - Computing differences
Testing full mailbox reset with Grep implementation
ok 12 # skip GNU grep not available
Testing filename: t/mailboxes/invalid-boundaries.txt
Testing partial mailbox reset with Perl implementation
Comparing /tmp/L0zv88eTt6 to t/results/reset_invalid-boundaries.stdout
Output /tmp/L0zv88eTt6 looks good.
ok 13 - Computing differences
Testing partial mailbox reset with Cache implementation
Comparing /tmp/6gPIZ3yjnG to t/results/reset_invalid-boundaries.stdout
Output /tmp/6gPIZ3yjnG looks good.
ok 14 - Computing differences
Testing partial mailbox reset with Grep implementation
ok 15 # skip GNU grep not available
Testing full mailbox reset with Perl implementation
Comparing /tmp/IRB5FJVQks to t/results/reset_invalid-boundaries.stdout
Output /tmp/IRB5FJVQks looks good.
ok 16 - Computing differences
Testing full mailbox reset with Cache implementation
Comparing /tmp/2BB7mLOHSJ to t/results/reset_invalid-boundaries.stdout
Output /tmp/2BB7mLOHSJ looks good.
ok 17 - Computing differences
Testing full mailbox reset with Grep implementation
ok 18 # skip GNU grep not available
Testing filename: t/mailboxes/mailarc-1-dos.txt
Testing partial mailbox reset with Perl implementation
Comparing /tmp/H7yBSN1zvb to t/results/reset_mailarc-1-dos.stdout
Output /tmp/H7yBSN1zvb looks good.
ok 19 - Computing differences
Testing partial mailbox reset with Cache implementation
Comparing /tmp/eeqhdSEek6 to t/results/reset_mailarc-1-dos.stdout
Output /tmp/eeqhdSEek6 looks good.
ok 20 - Computing differences
Testing partial mailbox reset with Grep implementation
ok 21 # skip GNU grep not available
Testing full mailbox reset with Perl implementation
Comparing /tmp/Ma3Avf9Zlx to t/results/reset_mailarc-1-dos.stdout
Output /tmp/Ma3Avf9Zlx looks good.
ok 22 - Computing differences
Testing full mailbox reset with Cache implementation
Comparing /tmp/z_4s2ri78h to t/results/reset_mailarc-1-dos.stdout
Output /tmp/z_4s2ri78h looks good.
ok 23 - Computing differences
Testing full mailbox reset with Grep implementation
ok 24 # skip GNU grep not available
Testing filename: t/mailboxes/mailarc-1.txt
Testing partial mailbox reset with Perl implementation
Comparing /tmp/C01kq3mpVT to t/results/reset_mailarc-1.stdout
Output /tmp/C01kq3mpVT looks good.
ok 25 - Computing differences
Testing partial mailbox reset with Cache implementation
Comparing /tmp/INH82WE3GQ to t/results/reset_mailarc-1.stdout
Output /tmp/INH82WE3GQ looks good.
ok 26 - Computing differences
Testing partial mailbox reset with Grep implementation
ok 27 # skip GNU grep not available
Testing full mailbox reset with Perl implementation
Comparing /tmp/c6zui56wHp to t/results/reset_mailarc-1.stdout
Output /tmp/c6zui56wHp looks good.
ok 28 - Computing differences
Testing full mailbox reset with Cache implementation
Comparing /tmp/ggLrJUkWab to t/results/reset_mailarc-1.stdout
Output /tmp/ggLrJUkWab looks good.
ok 29 - Computing differences
Testing full mailbox reset with Grep implementation
ok 30 # skip GNU grep not available
Testing filename: t/mailboxes/mailarc-2.txt
Testing partial mailbox reset with Perl implementation
Comparing /tmp/mhvA3s43bl to t/results/reset_mailarc-2.stdout
Output /tmp/mhvA3s43bl looks good.
ok 31 - Computing differences
Testing partial mailbox reset with Cache implementation
Comparing /tmp/LnKjZfoguZ to t/results/reset_mailarc-2.stdout
Output /tmp/LnKjZfoguZ looks good.
ok 32 - Computing differences
Testing partial mailbox reset with Grep implementation
ok 33 # skip GNU grep not available
Testing full mailbox reset with Perl implementation
Comparing /tmp/1djUY5FJxO to t/results/reset_mailarc-2.stdout
Output /tmp/1djUY5FJxO looks good.
ok 34 - Computing differences
Testing full mailbox reset with Cache implementation
Comparing /tmp/IawWDmc0uB to t/results/reset_mailarc-2.stdout
Output /tmp/IawWDmc0uB looks good.
ok 35 - Computing differences
Testing full mailbox reset with Grep implementation
ok 36 # skip GNU grep not available
Testing filename: t/mailboxes/mailarc-3.txt
Testing partial mailbox reset with Perl implementation
Comparing /tmp/fXp4oVFrmN to t/results/reset_mailarc-3.stdout
Output /tmp/fXp4oVFrmN looks good.
ok 37 - Computing differences
Testing partial mailbox reset with Cache implementation
Comparing /tmp/A1vYCD4ln9 to t/results/reset_mailarc-3.stdout
Output /tmp/A1vYCD4ln9 looks good.
ok 38 - Computing differences
Testing partial mailbox reset with Grep implementation
ok 39 # skip GNU grep not available
Testing full mailbox reset with Perl implementation
Comparing /tmp/RZdxASRAdC to t/results/reset_mailarc-3.stdout
Output /tmp/RZdxASRAdC looks good.
ok 40 - Computing differences
Testing full mailbox reset with Cache implementation
Comparing /tmp/LwWOZajZMy to t/results/reset_mailarc-3.stdout
Output /tmp/LwWOZajZMy looks good.
ok 41 - Computing differences
Testing full mailbox reset with Grep implementation
ok 42 # skip GNU grep not available
Testing filename: t/mailboxes/mailseparators.txt
Testing partial mailbox reset with Perl implementation
Comparing /tmp/vM6ePQKCYc to t/results/reset_mailseparators.stdout
Output /tmp/vM6ePQKCYc looks good.
ok 43 - Computing differences
Testing partial mailbox reset with Cache implementation
Comparing /tmp/c7ZmTxT2Gb to t/results/reset_mailseparators.stdout
Output /tmp/c7ZmTxT2Gb looks good.
ok 44 - Computing differences
Testing partial mailbox reset with Grep implementation
ok 45 # skip GNU grep not available
Testing full mailbox reset with Perl implementation
Comparing /tmp/YudWDDiSwm to t/results/reset_mailseparators.stdout
Output /tmp/YudWDDiSwm looks good.
ok 46 - Computing differences
Testing full mailbox reset with Cache implementation
Comparing /tmp/rdQXjPsdER to t/results/reset_mailseparators.stdout
Output /tmp/rdQXjPsdER looks good.
ok 47 - Computing differences
Testing full mailbox reset with Grep implementation
ok 48 # skip GNU grep not available
Testing filename: t/mailboxes/malformed.txt
Testing partial mailbox reset with Perl implementation
Comparing /tmp/FD4aDrm6H0 to t/results/reset_malformed.stdout
Output /tmp/FD4aDrm6H0 looks good.
ok 49 - Computing differences
Testing partial mailbox reset with Cache implementation
Comparing /tmp/8UQVOuicsR to t/results/reset_malformed.stdout
Output /tmp/8UQVOuicsR looks good.
ok 50 - Computing differences
Testing partial mailbox reset with Grep implementation
ok 51 # skip GNU grep not available
Testing full mailbox reset with Perl implementation
Comparing /tmp/RuXBo5Wo9x to t/results/reset_malformed.stdout
Output /tmp/RuXBo5Wo9x looks good.
ok 52 - Computing differences
Testing full mailbox reset with Cache implementation
Comparing /tmp/wdlEC5um3g to t/results/reset_malformed.stdout
Output /tmp/wdlEC5um3g looks good.
ok 53 - Computing differences
Testing full mailbox reset with Grep implementation
ok 54 # skip GNU grep not available
Testing filename: t/mailboxes/newlines_at_beginning.txt
Testing partial mailbox reset with Perl implementation
Comparing /tmp/fZC7q45WrP to t/results/reset_newlines_at_beginning.stdout
Output /tmp/fZC7q45WrP looks good.
ok 55 - Computing differences
Testing partial mailbox reset with Cache implementation
Comparing /tmp/uVe6Co1cpq to t/results/reset_newlines_at_beginning.stdout
Output /tmp/uVe6Co1cpq looks good.
ok 56 - Computing differences
Testing partial mailbox reset with Grep implementation
ok 57 # skip GNU grep not available
Testing full mailbox reset with Perl implementation
Comparing /tmp/Qx6lngk0lK to t/results/reset_newlines_at_beginning.stdout
Output /tmp/Qx6lngk0lK looks good.
ok 58 - Computing differences
Testing full mailbox reset with Cache implementation
Comparing /tmp/WB23FqS8_r to t/results/reset_newlines_at_beginning.stdout
Output /tmp/WB23FqS8_r looks good.
ok 59 - Computing differences
Testing full mailbox reset with Grep implementation
ok 60 # skip GNU grep not available
ok
t/separators.t ..................
1..6
Testing filename: t/mailboxes/separators2.sep
ok 1 - Number of emails in t/mailboxes/separators2.sep
ok 2 - Number of emails in t/mailboxes/separators2.sep
ok 3 # skip GNU grep not available
Testing filename: t/mailboxes/separators1.sep
ok 4 - Number of emails in t/mailboxes/separators1.sep
ok 5 - Number of emails in t/mailboxes/separators1.sep
ok 6 # skip GNU grep not available
ok
t/stdin_compressed.t ............
1..4
Testing filename: t/mailboxes/mailarc-2.txt.bz2
Comparing /tmp/0YWXjO7UIl to t/mailboxes/mailarc-2.txt
Output /tmp/0YWXjO7UIl looks good.
ok 1 - Computing differences
Testing filename: t/mailboxes/mailarc-2.txt.gz
Comparing /tmp/qVqzfp8pV9 to t/mailboxes/mailarc-2.txt
Output /tmp/qVqzfp8pV9 looks good.
ok 2 - Computing differences
Testing filename: t/mailboxes/mailarc-2.txt.lz
ok 3 # skip lzip not available
Testing filename: t/mailboxes/mailarc-2.txt.xz
Comparing /tmp/IIQvYWDY14 to t/mailboxes/mailarc-2.txt
Output /tmp/IIQvYWDY14 looks good.
ok 4 - Computing differences
ok
t/stdin_uncompressed.t ..........
1..11
Testing filename: t/mailboxes/binary_body.txt
Comparing /tmp/P5xZc0hGmS to t/mailboxes/binary_body.txt
Output /tmp/P5xZc0hGmS looks good.
ok 1 - Computing differences
Testing filename: t/mailboxes/hessbug.txt
Comparing /tmp/qrfjVrcYF8 to t/mailboxes/hessbug.txt
Output /tmp/qrfjVrcYF8 looks good.
ok 2 - Computing differences
Testing filename: t/mailboxes/invalid-boundaries.txt
Comparing /tmp/BYaWp6SlIM to t/mailboxes/invalid-boundaries.txt
Output /tmp/BYaWp6SlIM looks good.
ok 3 - Computing differences
Testing filename: t/mailboxes/mailarc-1-dos.txt
Comparing /tmp/kLSao3U17E to t/mailboxes/mailarc-1-dos.txt
Output /tmp/kLSao3U17E looks good.
ok 4 - Computing differences
Testing filename: t/mailboxes/mailarc-1.txt
Comparing /tmp/2VXBfTWyyU to t/mailboxes/mailarc-1.txt
Output /tmp/2VXBfTWyyU looks good.
ok 5 - Computing differences
Testing filename: t/mailboxes/mailarc-2.txt
Comparing /tmp/kUeQnPsE34 to t/mailboxes/mailarc-2.txt
Output /tmp/kUeQnPsE34 looks good.
ok 6 - Computing differences
Testing filename: t/mailboxes/mailarc-3.txt
Comparing /tmp/brPHBrANXq to t/mailboxes/mailarc-3.txt
Output /tmp/brPHBrANXq looks good.
ok 7 - Computing differences
Testing filename: t/mailboxes/mailseparators.txt
Comparing /tmp/s4gIZkbcxu to t/mailboxes/mailseparators.txt
Output /tmp/s4gIZkbcxu looks good.
ok 8 - Computing differences
Testing filename: t/mailboxes/malformed.txt
Comparing /tmp/lhA_Uo9IGL to t/mailboxes/malformed.txt
Output /tmp/lhA_Uo9IGL looks good.
ok 9 - Computing differences
Testing filename: t/mailboxes/newlines_at_beginning.txt
Comparing /tmp/8lyn1t16e5 to t/mailboxes/newlines_at_beginning.txt
Output /tmp/8lyn1t16e5 looks good.
ok 10 - Computing differences
Testing filename: t/mailboxes/vm-emacs.txt
Comparing /tmp/vd1qDx_Z2l to t/mailboxes/vm-emacs.txt
Output /tmp/vd1qDx_Z2l looks good.
ok 11 - Computing differences
ok
t/undef_return_value.t ..........
1..33
Testing Perl
Comparing /tmp/y2gT3Zp_a0 to t/mailboxes/binary_body.txt
Output /tmp/y2gT3Zp_a0 looks good.
ok 1 - Computing differences
Testing Cache implementation
Comparing /tmp/4DyFvPs4Tw to t/mailboxes/binary_body.txt
Output /tmp/4DyFvPs4Tw looks good.
ok 2 - Computing differences
ok 3 # skip GNU grep not available
Testing Perl
Comparing /tmp/p_26oiuG2z to t/mailboxes/hessbug.txt
Output /tmp/p_26oiuG2z looks good.
ok 4 - Computing differences
Testing Cache implementation
Comparing /tmp/ctEoWw6wnz to t/mailboxes/hessbug.txt
Output /tmp/ctEoWw6wnz looks good.
ok 5 - Computing differences
ok 6 # skip GNU grep not available
Testing Perl
Comparing /tmp/NUjdDuAlcT to t/mailboxes/invalid-boundaries.txt
Output /tmp/NUjdDuAlcT looks good.
ok 7 - Computing differences
Testing Cache implementation
Comparing /tmp/KRMdc2P_K2 to t/mailboxes/invalid-boundaries.txt
Output /tmp/KRMdc2P_K2 looks good.
ok 8 - Computing differences
ok 9 # skip GNU grep not available
Testing Perl
Comparing /tmp/iD1w8ymajh to t/mailboxes/mailarc-1-dos.txt
Output /tmp/iD1w8ymajh looks good.
ok 10 - Computing differences
Testing Cache implementation
Comparing /tmp/xg5yjtISIy to t/mailboxes/mailarc-1-dos.txt
Output /tmp/xg5yjtISIy looks good.
ok 11 - Computing differences
ok 12 # skip GNU grep not available
Testing Perl
Comparing /tmp/cfBlQAxC2J to t/mailboxes/mailarc-1.txt
Output /tmp/cfBlQAxC2J looks good.
ok 13 - Computing differences
Testing Cache implementation
Comparing /tmp/Tn_0L3MGGY to t/mailboxes/mailarc-1.txt
Output /tmp/Tn_0L3MGGY looks good.
ok 14 - Computing differences
ok 15 # skip GNU grep not available
Testing Perl
Comparing /tmp/4wieOS5kYT to t/mailboxes/mailarc-2.txt
Output /tmp/4wieOS5kYT looks good.
ok 16 - Computing differences
Testing Cache implementation
Comparing /tmp/_sXEwpGjvi to t/mailboxes/mailarc-2.txt
Output /tmp/_sXEwpGjvi looks good.
ok 17 - Computing differences
ok 18 # skip GNU grep not available
Testing Perl
Comparing /tmp/8FI4PeMM1m to t/mailboxes/mailarc-3.txt
Output /tmp/8FI4PeMM1m looks good.
ok 19 - Computing differences
Testing Cache implementation
Comparing /tmp/ZUn2UPA2M8 to t/mailboxes/mailarc-3.txt
Output /tmp/ZUn2UPA2M8 looks good.
ok 20 - Computing differences
ok 21 # skip GNU grep not available
Testing Perl
Comparing /tmp/QUL0BCLRkr to t/mailboxes/mailseparators.txt
Output /tmp/QUL0BCLRkr looks good.
ok 22 - Computing differences
Testing Cache implementation
Comparing /tmp/OJ21UM0pHe to t/mailboxes/mailseparators.txt
Output /tmp/OJ21UM0pHe looks good.
ok 23 - Computing differences
ok 24 # skip GNU grep not available
Testing Perl
Comparing /tmp/njVRNQjwoW to t/mailboxes/malformed.txt
Output /tmp/njVRNQjwoW looks good.
ok 25 - Computing differences
Testing Cache implementation
Comparing /tmp/k3j7xTO7uU to t/mailboxes/malformed.txt
Output /tmp/k3j7xTO7uU looks good.
ok 26 - Computing differences
ok 27 # skip GNU grep not available
Testing Perl
Comparing /tmp/IySfUZ0Uju to t/mailboxes/newlines_at_beginning.txt
Output /tmp/IySfUZ0Uju looks good.
ok 28 - Computing differences
Testing Cache implementation
Comparing /tmp/6EecrPdulQ to t/mailboxes/newlines_at_beginning.txt
Output /tmp/6EecrPdulQ looks good.
ok 29 - Computing differences
ok 30 # skip GNU grep not available
Testing Perl
Comparing /tmp/MZjahxkLT6 to t/mailboxes/vm-emacs.txt
Output /tmp/MZjahxkLT6 looks good.
ok 31 - Computing differences
Testing Cache implementation
Comparing /tmp/2Nb5t3kQwX to t/mailboxes/vm-emacs.txt
Output /tmp/2Nb5t3kQwX looks good.
ok 32 - Computing differences
ok 33 # skip GNU grep not available
ok
t/xz.t ..........................
1..1
Running test:
"/bin/cat" "t/mailboxes/mailarc-2.txt.xz" | "/usr/bin/xz" -cd
Comparing /tmp/b1EnItmb_U to t/results/mailarc-2.txt
Output /tmp/b1EnItmb_U looks good.
Comparing /tmp/MMiObncHlC to t/results/none
Output /tmp/MMiObncHlC looks good.
ok 1 - Computing differences
ok
All tests successful.
Files=25, Tests=382, 14 wallclock secs ( 0.14 usr 0.13 sys + 3.14 cusr 1.07 csys = 4.48 CPU)
Result: PASS
------------------------------
PREREQUISITES
------------------------------
Prerequisite modules loaded:
requires:
Module Need Have
------------------- ----- --------
FileHandle::Unget 0 0.1632
perl 5.005 5.008009
Storable 0 3.11
build_requires:
Module Need Have
------------------- ----- --------
ExtUtils::MakeMaker 6.36 7.35_04
File::Path 2.08 2.15
File::Slurper 0 0.012
Test::Compile 0 v1.3.0
Test::More 0 1.302136
Text::Diff 0 1.45
UNIVERSAL::require 0 0.18
URI::Escape 0 3.31
configure_requires:
Module Need Have
------------------- ----- --------
ExtUtils::MakeMaker 6.36 7.35_04
URI::Escape 0 3.31
------------------------------
ENVIRONMENT AND OTHER CONTEXT
------------------------------
Environment variables:
AUTOMATED_TESTING = 1
LANG = en_US.UTF-8
PATH = /home/sand/bin:/usr/local/bin:/usr/bin:/bin:/usr/games:/usr/local/perl/bin:/usr/X11/bin:/sbin:/usr/sbin
PERL5LIB =
PERL5OPT =
PERL5_CPANPLUS_IS_RUNNING = 27449
PERL5_CPAN_IS_RUNNING = 27449
PERL_CANARY_STABILITY_NOPROMPT = 1
PERL_MM_USE_DEFAULT = 1
SHELL = /usr/bin/zsh
TERM = screen
Perl special variables (and OS-specific diagnostics, for MSWin32):
$^X = /home/sand/src/perl/repoperls/installed-perls/host/k93msid/perl-5.8.9/da1c/bin/perl
$UID/$EUID = 1005 / 1005
$GID = 1005 1005
$EGID = 1005 1005
Perl module toolchain versions installed:
Module Have
------------------- --------
CPAN 2.16
CPAN::Meta 2.150010
Cwd 3.74
ExtUtils::CBuilder 0.280230
ExtUtils::Command 7.35_04
ExtUtils::Install 2.06
ExtUtils::MakeMaker 7.35_04
ExtUtils::Manifest 1.70
ExtUtils::ParseXS 3.35
File::Spec 3.74
JSON 2.97001
JSON::PP 2.97001
Module::Build 0.42_28
Module::Signature n/a
Parse::CPAN::Meta 2.150010
Test::Harness 3.43_01
Test::More 1.302136
YAML 1.26
YAML::Syck 1.30
version 0.9922
--
Summary of my perl5 (revision 5 version 8 subversion 9) configuration:
Platform:
osname=linux, osvers=4.14.0-3-amd64, archname=x86_64-linux
uname='linux k93msid 4.14.0-3-amd64 #1 smp debian 4.14.12-2 (2018-01-06) x86_64 gnulinux '
config_args='-Dprefix=/home/sand/src/perl/repoperls/installed-perls/host/k93msid/perl-5.8.9/da1c -Dmyhostname=k93msid -Dinstallusrbinperl=n -Uversiononly -Dusedevel -des -Ui_db -Dlibswanted=cl pthread socket inet nsl gdbm dbm malloc dl ld sun m crypt sec util c cposix posix ucb BSD gdbm_compat -Uuseithreads -Uuselongdouble -DEBUGGING=-g'
hint=recommended, useposix=true, d_sigaction=define
usethreads=undef use5005threads=undef useithreads=undef usemultiplicity=undef
useperlio=define d_sfio=undef uselargefiles=define usesocks=undef
use64bitint=define use64bitall=define uselongdouble=undef
usemymalloc=n, bincompat5005=undef
Compiler:
cc='cc', ccflags ='-fno-strict-aliasing -pipe -I/usr/local/include -D_LARGEFILE_SOURCE -D_FILE_OFFSET_BITS=64',
optimize='-O2 -g',
cppflags='-fno-strict-aliasing -pipe -I/usr/local/include'
ccversion='', gccversion='7.2.0', gccosandvers=''
intsize=4, longsize=8, ptrsize=8, doublesize=8, byteorder=12345678
d_longlong=define, longlongsize=8, d_longdbl=define, longdblsize=16
ivtype='long', ivsize=8, nvtype='double', nvsize=8, Off_t='off_t', lseeksize=8
alignbytes=8, prototype=define
Linker and Libraries:
ld='cc', ldflags =' -L/usr/local/lib'
libpth=/usr/local/lib /lib/x86_64-linux-gnu /lib/../lib /usr/lib/x86_64-linux-gnu /usr/lib/../lib /lib /usr/lib
libs=-lpthread -lnsl -ldl -lm -lcrypt -lutil -lc
perllibs=-lpthread -lnsl -ldl -lm -lcrypt -lutil -lc
libc=libc-2.26.so, so=so, useshrplib=false, libperl=libperl.a
gnulibc_version='2.26'
Dynamic Linking:
dlsrc=dl_dlopen.xs, dlext=so, d_dlsymun=undef, ccdlflags='-Wl,-E'
cccdlflags='-fPIC', lddlflags='-shared -O2 -g -L/usr/local/lib'
Characteristics of this binary (from libperl):
Compile-time options: PERL_MALLOC_WRAP USE_64_BIT_ALL USE_64_BIT_INT
USE_FAST_STDIO USE_LARGE_FILES USE_PERLIO
Built under linux
Compiled at Jan 10 2018 20:25:03
%ENV:
PERL5LIB=""
PERL5OPT=""
PERL5_CPANPLUS_IS_RUNNING="27449"
PERL5_CPAN_IS_RUNNING="27449"
PERL_CANARY_STABILITY_NOPROMPT="1"
PERL_MM_USE_DEFAULT="1"
@INC:
/home/sand/src/perl/repoperls/installed-perls/host/k93msid/perl-5.8.9/da1c/lib/5.8.9/x86_64-linux
/home/sand/src/perl/repoperls/installed-perls/host/k93msid/perl-5.8.9/da1c/lib/5.8.9
/home/sand/src/perl/repoperls/installed-perls/host/k93msid/perl-5.8.9/da1c/lib/site_perl/5.8.9/x86_64-linux
/home/sand/src/perl/repoperls/installed-perls/host/k93msid/perl-5.8.9/da1c/lib/site_perl/5.8.9
.