Text-Amuse-Preprocessor v0.67 Perl 5 v5.28.3 x86_64-linux-thread-multi-quadmath
- Status
- Pass
- From
- Chris Williams (BINGOS)
- Dist
-
Text-Amuse-Preprocessor v0.67
- Platform
- Perl 5 v5.28.3 x86_64-linux-thread-multi-quadmath
- Date
- 2023-07-15 08:00:56
- ID
- ba6ea84a-22e5-11ee-98b0-b3c3213a625c
This distribution has been tested as part of the CPAN Testers
project, supporting the Perl programming language. See
http://wiki.cpantesters.org/ for more information or email
questions to cpan-testers-discuss@perl.org
--
Dear MELMOTHX,
This is a computer-generated error report created automatically by
CPANPLUS, version 0.9914. Testers personal comments may appear
at the end of this report.
Thank you for uploading your work to CPAN. Congratulations!
All tests were successful.
TEST RESULTS:
Below is the error stack from stage 'make test':
PERL_DL_NONLAZY=1 "/home/cpan/pit/thr-qm/perl-5.28.3/bin/perl" "-MExtUtils::Command::MM" "-MTest::Harness" "-e" "undef *Test::Harness::Switches; test_harness(0, 'blib/lib', 'blib/arch')" t/*.t
# Testing Text::Amuse::Preprocessor 0.67, Perl 5.028003, /home/cpan/pit/thr-qm/perl-5.28.3/bin/perl
t/00-load.t ........... ok
t/changes.t ........... skipped: Changes testing not required (or Test::CPAN::Changes not found)
t/chars.t ............. ok
t/chinese.t ........... ok
# Using /tmp/eMHU6fWYmh for ligatures
# Using /tmp/FlDdMxKjLC for missing_nl
# Using /tmp/hHkksiVcgW for garbage
# Using /tmp/mhjJoD1KbH for ellipsis_no_fix
# Using /tmp/u4K_wGG4Sf for ellipsis
# Using /tmp/hUk3qUPdcc for links
# Using /tmp/KAvMxWbfBa for en
# Using /tmp/7jRMcWi40m for fi
# Using /tmp/Px0aVLJCHP for es
# Using /tmp/dK12EWzu1a for sr
# Using /tmp/rsHpsrkmGf for hr
# Using /tmp/qUTaE3zFYY for ru
# Using /tmp/NRLqPR4axk for it
# Using /tmp/B6OAwRPk31 for mk
# Using /tmp/J1_7hJdRB6 for sv
# Using /tmp/g72rZr8mS8 for de
# Using /tmp/9pOICo4cxC for pl
# Using /tmp/Sz3VBXDCjq for bg
# Using /tmp/LrzyrPbDlI for eo
# Using /tmp/qAprVem2JQ for fr
# Using /tmp/lIUinDAU52 for pt
# Using /tmp/nMav9SeMto for sq
# Using /tmp/E5mRGKiUjN for da
# Using /tmp/UsAUyz5Nag for nl
# Using /tmp/tnOfVT6Qdp for id
# Using /tmp/k4KJSVTdnh for Full example
# Using /tmp/vswHvZtHUk for Quote
# Using /tmp/PFeq6XgTwa for Quote
# Using /tmp/dB2XrDsSDe for Nl quotation
t/common.t ............ ok
t/crash-on-verb.t ..... ok
# $VAR1 = "#title Test
# #lang en
#
# 0
#
# \x{201c}0\x{201d}
#
# 0
# ";
# $VAR1 = "#title Test
# #lang en
#
# 0
#
# \x{201c}0\x{201d}
#
# 0
# ";
t/crash_on_loop.t ..... ok
# /tmp/wbmVGJw5pA/verbatim-in.muse
# /tmp/wbmVGJw5pA
t/exclude-verbatim.t .. ok
tagpile mismatch: meta, head
tagpile mismatch: head, html
tagpile mismatch: link, head
tagpile mismatch: hr, div
tagpile mismatch: br, body
tagpile mismatch: div, html
#
#
# <right>
# óÃÂçÃÂ
ÃÂ
àÃÂÃÂÃÂéóàÃÂÃÂóêÃÂ
.[1]
# </right>
#
# <br>
#
# [1] https://amusewiki.org
#
tagpile mismatch: link, head
tagpile mismatch: hr, div
tagpile mismatch: br, body
tagpile mismatch: div, html
#
#
# óÃÂçÃÂ
ÃÂ
àÃÂÃÂÃÂéóàÃÂÃÂóêÃÂ
.[1]
#
# <br>
#
# [1] https://amusewiki.org
#
t/farsi.t ............. ok
# Testing t/footnotes/good.in => t/footnotes/good.out
# Testing t/footnotes/good2.in => t/footnotes/good2.out
# Testing t/footnotes/good3.in => t/footnotes/good3.out
# Testing t/footnotes/mixed.in => t/footnotes/mixed.out
# Testing t/footnotes/indentation.in => t/footnotes/indentation.out
# Testing t/footnotes/sec-good.in => t/footnotes/sec-good.out
# Testing t/footnotes/sec-good2.in => t/footnotes/sec-good2.out
# Testing t/footnotes/sec-good3.in => t/footnotes/sec-good3.out
# Testing t/footnotes/sec-bad.in => t/footnotes/sec-bad.out
# @@ -1 +1,2 @@
# -{4}
# +{3}
# +{3}
# Testing t/footnotes/sec-bad2.in => t/footnotes/sec-bad2.out
# @@ -1,3 +1,2 @@
# -{4}
# +{3}
# -{5}
# +{3}
# -{6}
# Testing t/footnotes/bad.in => t/footnotes/bad.out
# @@ -1,2 +1,3 @@
# [1]
# -[1]
# +[2]
# +[4]
# Testing t/footnotes/bad2.in => t/footnotes/bad2.out
# @@ -1,4 +1,3 @@
# [1]
# -[1]
# +[2]
# [4]
# -[5]
t/footnotes.t ......... ok
tagpile mismatch: root, p
t/html-2.t ............ ok
# Using /tmp/XKGIh8FkyS.html
# Using /tmp/FqdJ4x5um5.html
# Using /tmp/QY_K_wrMCB.html
# Using /tmp/SMPeu73j3O.html
# Using /tmp/ARjOrj2Zv4.html
# Using /tmp/NY3IJGHmqU.html
# Using /tmp/Kqh4_kie60.html
# Using /tmp/a6Ex9KS6ge.html
# Using /tmp/eBv3ZLFg3v.html
# Using /tmp/z7o2SrVa6w.html
# Using /tmp/2aYjbb0W_N.html
# Using /tmp/UqEXO1zQnC.html
# Using /tmp/1k04f7Ux3O.html
# Using /tmp/37lkkEb0v5.html
# Using /tmp/RVOwTXJvcE.html
# Using /tmp/ij25OxcKUY.html
# Using /tmp/5qoSziTIwx.html
t/html.t .............. ok
# Retrieved on February 2, 2011 from http://j12.org/spunk/library/writers/meltzer/sp001500.html
# Retrieved on February 2, 2011 from [[http://j12.org/spunk/library/writers/meltzer/sp001500.html][j12.org]]
# Retrieved on December 22, 2011 from http://libertarian-labyrinth.org/archive/The_Great_Debacle
# Retrieved on December 22, 2011 from [[http://libertarian-labyrinth.org/archive/The_Great_Debacle][libertarian-labyrinth.org]]
# <br>http://www.nancho.net/advisors/anaes.html<br>
# <br>[[http://www.nancho.net/advisors/anaes.html][www.nancho.net]]<br>
# http://www.nancho.net/advisors/anaes.html<br>http://www.nancho.net/advisors/anaes.html<br>
# [[http://www.nancho.net/advisors/anaes.html][www.nancho.net]]<br>[[http://www.nancho.net/advisors/anaes.html][www.nancho.net]]<br>
# https://web.archive.org/web/20220504202253/https://amusewiki.org/special/index
# [[https://web.archive.org/web/20220504202253/https://amusewiki.org/special/index][web.archive.org]]
# [[https://web.archive.org/web/20220504202253/https://amusewiki.org/special/index][web.archive.org]]
# [[https://web.archive.org/web/20220504202253/https://amusewiki.org/special/index][web.archive.org]]
# http://test.org/xx and http://test.org/xx
# [[http://test.org/xx][test.org]] and [[http://test.org/xx][test.org]]
# [[http://test.org/xx][test.org]] and [[http://test.org/xx][test.org]]
# [[http://test.org/xx][test.org]] and [[http://test.org/xx][test.org]]
# http://test.org/xx and [[http://test.org/xx][test.org]]
# [[http://test.org/xx][test.org]] and [[http://test.org/xx][test.org]]
# http://test.org/xx and http://test.org/xx][test.org]]
# [[http://test.org/xx][test.org]] and http://test.org/xx][test.org]]
# <http://test.org/xx> and >http://test.org/xx<
# <[[http://test.org/xx][test.org]]> and >[[http://test.org/xx][test.org]]<
# <http://test.org/xx> and https://test.org:80/>http://test.org/xx< and https://test.org/ and [[https://test.org/][test.org]]
# <[[http://test.org/xx][test.org]]> and [[https://test.org:80/][test.org]]>[[http://test.org/xx][test.org]]< and [[https://test.org/][test.org]] and [[https://test.org/][test.org]]
# https://example.com/@test and https://example.com/@test
# [[https://example.com/@test][example.com]] and [[https://example.com/@test][example.com]]
# (http://en.wikipedia.org/wiki/Pi_%28instrument%29)
# ([[http://en.wikipedia.org/wiki/Pi_%28instrument%29][en.wikipedia.org]])
# (http://en.wikipedia.org?test=1)
# ([[http://en.wikipedia.org?test=1][en.wikipedia.org]])
# (http://en.wikipedia.org?test=1&test=2) (http://en.wikipedia.org/test?test=1)
# ([[http://en.wikipedia.org?test=1&test=2][en.wikipedia.org]]) ([[http://en.wikipedia.org/test?test=1][en.wikipedia.org]])
t/links.t ............. ok
t/manifest.t .......... skipped: Author tests not required for installation
t/memory-cycles.t ..... skipped: Test::Memory::Cycle required for testing memory cycles
t/nbsp.t .............. ok
# Infile is /tmp/F4Tto_vwNG/input.txt
# Using /tmp/hK7ad5MaOa as temporary dir
t/object.t ............ ok
t/pod-coverage.t ...... skipped: Pod coverage not required for installation
t/pod.t ............... skipped: Pod test not required for installation
t/russian.t ........... ok
t/subs.t .............. ok
t/typography.t ........ ok
All tests successful.
Files=22, Tests=480, 2 wallclock secs ( 0.11 usr 0.01 sys + 1.89 cusr 0.31 csys = 2.32 CPU)
Result: PASS
PREREQUISITES:
Here is a list of prerequisites you specified and versions we
managed to load:
Module Name Have Want
HTML::PullParser 3.81 0
IO::HTML 1.004 1
Pod::Simple::Wiki 0.20 0.19
Test::More 1.302195 0
Text::Amuse 1.83 0.95
Text::Diff 1.45 0
Perl module toolchain versions installed:
Module Name Have
CPANPLUS 0.9914
CPANPLUS::Dist::Build 0.90
Cwd 3.75
ExtUtils::CBuilder 0.280236
ExtUtils::Command 7.70
ExtUtils::Install 2.22
ExtUtils::MakeMaker 7.70
ExtUtils::Manifest 1.75
ExtUtils::ParseXS 3.44
File::Spec 3.75
Module::Build 0.4234
Pod::Parser 1.63
Pod::Simple 3.35
Test2 1.302195
Test::Harness 3.44
Test::More 1.302195
version 0.9929
******************************** NOTE ********************************
The comments above are created mechanically, possibly without manual
checking by the sender. As there are many people performing automatic
tests on each upload to CPAN, it is likely that you will receive
identical messages about the same problem.
If you believe that the message is mistaken, please reply to the first
one with correction and/or additional informations, and do not take
it personally. We appreciate your patience. :)
**********************************************************************
Additional comments:
This report was machine-generated by CPANPLUS::Dist::YACSmoke 1.08.
Powered by minismokebox version 0.68
CPANPLUS is prefering Build.PL
------------------------------
ENVIRONMENT AND OTHER CONTEXT
------------------------------
Environment variables:
AUTOMATED_TESTING = 1
LANG = en_GB.UTF-8
LANGUAGE = en_GB:en
NONINTERACTIVE_TESTING = 1
PATH = /home/cpan/pit/thr-qm/conf/perl-5.28.3/.cpanplus/5.28.3/build/yLwQZOvCRB/Text-Amuse-Preprocessor-0.67/blib/script:/usr/local/sbin:/usr/local/bin:/usr/sbin:/usr/bin:/sbin:/bin:/usr/games:/usr/local/games:/snap/bin
PERL5LIB = /home/cpan/pit/jail/a2xukiqxN2/lib/perl5:/home/cpan/pit/thr-qm/conf/perl-5.28.3/.cpanplus/5.28.3/build/yLwQZOvCRB/Text-Amuse-Preprocessor-0.67/blib/lib:/home/cpan/pit/thr-qm/conf/perl-5.28.3/.cpanplus/5.28.3/build/yLwQZOvCRB/Text-Amuse-Preprocessor-0.67/blib/arch
PERL5_CPANPLUS_IS_RUNNING = 515251
PERL5_CPANPLUS_IS_VERSION = 0.9914
PERL5_MINISMOKEBOX = 0.68
PERL5_YACSMOKE_BASE = /home/cpan/pit/thr-qm/conf/perl-5.28.3
PERL_EXTUTILS_AUTOINSTALL = --defaultdeps
PERL_LOCAL_LIB_ROOT = /home/cpan/pit/jail/a2xukiqxN2
PERL_MB_OPT = --install_base "/home/cpan/pit/jail/a2xukiqxN2"
PERL_MM_OPT = INSTALL_BASE=/home/cpan/pit/jail/a2xukiqxN2
PERL_MM_USE_DEFAULT = 1
SHELL = /bin/bash
TERM = screen.xterm-256color
Perl special variables (and OS-specific diagnostics, for MSWin32):
Perl: $^X = /home/cpan/pit/thr-qm/perl-5.28.3/bin/perl
UID: $< = 1001
EUID: $> = 1001
GID: $( = 1001 1001
EGID: $) = 1001 1001
-------------------------------
--
Summary of my perl5 (revision 5 version 28 subversion 3) configuration:
Platform:
osname=linux
osvers=5.4.0-26-generic
archname=x86_64-linux-thread-multi-quadmath
uname='linux uchder 5.4.0-26-generic #30-ubuntu smp mon apr 20 16:58:30 utc 2020 x86_64 x86_64 x86_64 gnulinux '
config_args='-des -Dprefix=/home/cpan/pit/thr-qm/perl-5.28.3 -Dusethreads -Dusequadmath'
hint=recommended
useposix=true
d_sigaction=define
useithreads=define
usemultiplicity=define
use64bitint=define
use64bitall=define
uselongdouble=undef
usemymalloc=n
default_inc_excludes_dot=define
bincompat5005=undef
Compiler:
cc='cc'
ccflags ='-D_REENTRANT -D_GNU_SOURCE -fwrapv -fno-strict-aliasing -pipe -fstack-protector-strong -I/usr/local/include -D_LARGEFILE_SOURCE -D_FILE_OFFSET_BITS=64'
optimize='-O2'
cppflags='-D_REENTRANT -D_GNU_SOURCE -fwrapv -fno-strict-aliasing -pipe -fstack-protector-strong -I/usr/local/include'
ccversion=''
gccversion='9.3.0'
gccosandvers=''
intsize=4
longsize=8
ptrsize=8
doublesize=8
byteorder=12345678
doublekind=3
d_longlong=define
longlongsize=8
d_longdbl=define
longdblsize=16
longdblkind=3
ivtype='long'
ivsize=8
nvtype='__float128'
nvsize=16
Off_t='off_t'
lseeksize=8
alignbytes=16
prototype=define
Linker and Libraries:
ld='cc'
ldflags =' -fstack-protector-strong -L/usr/local/lib'
libpth=/usr/local/lib /usr/include/x86_64-linux-gnu /usr/lib /lib/x86_64-linux-gnu /lib/../lib /usr/lib/x86_64-linux-gnu /usr/lib/../lib /lib
libs=-lpthread -lnsl -lgdbm -ldl -lm -lcrypt -lutil -lc -lquadmath
perllibs=-lpthread -lnsl -ldl -lm -lcrypt -lutil -lc -lquadmath
libc=libc-2.31.so
so=so
useshrplib=false
libperl=libperl.a
gnulibc_version='2.31'
Dynamic Linking:
dlsrc=dl_dlopen.xs
dlext=so
d_dlsymun=undef
ccdlflags='-Wl,-E'
cccdlflags='-fPIC'
lddlflags='-shared -O2 -L/usr/local/lib -fstack-protector-strong'
Characteristics of this binary (from libperl):
Compile-time options:
HAS_TIMES
MULTIPLICITY
PERLIO_LAYERS
PERL_COPY_ON_WRITE
PERL_DONT_CREATE_GVSV
PERL_IMPLICIT_CONTEXT
PERL_MALLOC_WRAP
PERL_OP_PARENT
PERL_PRESERVE_IVUV
USE_64_BIT_ALL
USE_64_BIT_INT
USE_ITHREADS
USE_LARGE_FILES
USE_LOCALE
USE_LOCALE_COLLATE
USE_LOCALE_CTYPE
USE_LOCALE_NUMERIC
USE_LOCALE_TIME
USE_PERLIO
USE_PERL_ATOF
USE_QUADMATH
USE_REENTRANT_API
Locally applied patches:
Devel::PatchPerl 1.98
Built under linux
Compiled at Jun 2 2020 00:30:59
%ENV:
PERL5LIB="/home/cpan/pit/jail/a2xukiqxN2/lib/perl5:/home/cpan/pit/thr-qm/conf/perl-5.28.3/.cpanplus/5.28.3/build/yLwQZOvCRB/Text-Amuse-Preprocessor-0.67/blib/lib:/home/cpan/pit/thr-qm/conf/perl-5.28.3/.cpanplus/5.28.3/build/yLwQZOvCRB/Text-Amuse-Preprocessor-0.67/blib/arch"
PERL5_CPANPLUS_IS_RUNNING="515251"
PERL5_CPANPLUS_IS_VERSION="0.9914"
PERL5_MINISMOKEBOX="0.68"
PERL5_YACSMOKE_BASE="/home/cpan/pit/thr-qm/conf/perl-5.28.3"
PERL_EXTUTILS_AUTOINSTALL="--defaultdeps"
PERL_LOCAL_LIB_ROOT="/home/cpan/pit/jail/a2xukiqxN2"
PERL_MB_OPT="--install_base "/home/cpan/pit/jail/a2xukiqxN2""
PERL_MM_OPT="INSTALL_BASE=/home/cpan/pit/jail/a2xukiqxN2"
PERL_MM_USE_DEFAULT="1"
@INC:
/home/cpan/pit/jail/a2xukiqxN2/lib/perl5/5.28.3/x86_64-linux-thread-multi-quadmath
/home/cpan/pit/jail/a2xukiqxN2/lib/perl5/5.28.3
/home/cpan/pit/jail/a2xukiqxN2/lib/perl5/x86_64-linux-thread-multi-quadmath
/home/cpan/pit/jail/a2xukiqxN2/lib/perl5
/home/cpan/pit/thr-qm/conf/perl-5.28.3/.cpanplus/5.28.3/build/yLwQZOvCRB/Text-Amuse-Preprocessor-0.67/blib/lib
/home/cpan/pit/thr-qm/conf/perl-5.28.3/.cpanplus/5.28.3/build/yLwQZOvCRB/Text-Amuse-Preprocessor-0.67/blib/arch
/home/cpan/pit/thr-qm/perl-5.28.3/lib/site_perl/5.28.3/x86_64-linux-thread-multi-quadmath
/home/cpan/pit/thr-qm/perl-5.28.3/lib/site_perl/5.28.3
/home/cpan/pit/thr-qm/perl-5.28.3/lib/5.28.3/x86_64-linux-thread-multi-quadmath
/home/cpan/pit/thr-qm/perl-5.28.3/lib/5.28.3