Back
From: metabase:user:20a45eae-6c1a-1014-abaf-4bc2b30e56df
Subject: PASS YAML-Syck-1.17 v5.11.4 Windows (Cygwin)
Date: 2011-01-29T01:22:07Z
This distribution has been tested as part of the CPAN Testers
project, supporting the Perl programming language. See
http://wiki.cpantesters.org/ for more information or email
questions to cpan-testers-discuss@perl.org
--
Dear AEvar Arnfjord Bjarmason,
This is a computer-generated report for YAML-Syck-1.17
on perl 5.11.4, created by CPAN-Reporter-1.1803.
Thank you for uploading your work to CPAN. Congratulations!
All tests were successful.
Sections of this report:
* Tester comments
* Program output
* Prerequisites
* Environment and other context
------------------------------
TESTER COMMENTS
------------------------------
Additional comments from tester:
none provided
------------------------------
PROGRAM OUTPUT
------------------------------
Output from '/usr/bin/make test':
PERL_DL_NONLAZY=1 /opt/perl/inst/perl-5.11.4-cygwin-thread-multi-64int/bin/perl5.11.4.exe "-MExtUtils::Command::MM" "-e" "test_harness(0, 'inc', 'blib/lib', 'blib/arch')" t/*.t t/*/*.t
t/1-basic.t ................... ok
t/11-loadfile.t ............... ok
t/12-dumpfile.t ............... ok
t/2-scalars.t ................. ok
t/3-objects.t ................. ok
t/4-perl_tag_scheme.t ......... ok
t/bug/rt-49404-double_free.t .. ok
t/bug/rt-54167.t .............. ok
t/json-basic.t ................ ok
t/json-circular-ref.t ......... ok
t/json-crlf.t ................. ok
t/json-empty.t ................ ok
t/json-indent.t ............... ok
t/json-loadfile.t ............. ok
t/json-minus.t ................ ok
t/json-newline.t .............. ok
t/json-null.t ................. ok
t/json-numbers.t .............. ok
t/json-refs.t ................. ok
t/json-singlequote.t .......... ok
t/leak.t ...................... ok
t/yaml-alias.t ................ ok
t/yaml-blessed-ref.t .......... ok
t/yaml-implicit-warnings.t .... ok
t/yaml-str-colon-first.t ...... ok
t/yaml-tie.t .................. ok
All tests successful.
Test Summary Report
-------------------
t/json-basic.t (Wstat: 0 Tests: 104 Failed: 0)
TODO passed: 81-82, 85-86, 93-94, 97-98
Files=26, Tests=586, 8 wallclock secs ( 1.69 usr 0.16 sys + 3.72 cusr 2.99 csys = 8.55 CPU)
Result: PASS
------------------------------
PREREQUISITES
------------------------------
Prerequisite modules loaded:
requires:
Module Need Have
------------------- ---- ----
ExtUtils::MakeMaker 6.42 6.56
Scalar::Util 0 1.22
configure_requires:
Module Need Have
------------------- ---- ----
ExtUtils::MakeMaker 6.42 6.56
------------------------------
ENVIRONMENT AND OTHER CONTEXT
------------------------------
Environment variables:
AUTHOR_TESTING = 1
COMSPEC = C:\WINDOWS\system32\cmd.exe
LANG = C.UTF-8
NUMBER_OF_PROCESSORS = 4
PATH = /opt/perl/inst/perl-5.11.4-cygwin-thread-multi-64int/local/bin:/opt/perl/inst/perl-5.11.4-cygwin-thread-multi-64int/bin:/usr/local/bin:/usr/bin
PERL5LIB = /opt/perl/inst/perl-5.11.4-cygwin-thread-multi-64int/local/lib:/opt/perl/inst/perl-5.11.4-cygwin-thread-multi-64int/local/lib/site_perl:/opt/perl/inst/perl-5.11.4-cygwin-thread-multi-64int/local/lib/perl5
PERL5OPT =
PERL5_CPANPLUS_IS_RUNNING = 5216
PERL5_CPAN_IS_RUNNING = 5216
PROCESSOR_IDENTIFIER = x86 Family 6 Model 37 Stepping 5, GenuineIntel
TEMP = /cygdrive/c/DOCUME~1/ospja/LOKALE~1/Temp
TERM = cygwin
Perl special variables (and OS-specific diagnostics, for MSWin32):
$^X = /opt/perl/inst/perl-5.11.4-cygwin-thread-multi-64int/bin/perl5.11.4
$UID/$EUID = 22755 / 22755
$GID = 10513 544 545 555 43588 44771 44776 47153 45205 10513 51781 18818 43044 30568 43061 36594 18761 56667 12652 12669 12778 42734 20077 51528 11073 51645 17963 51289 43366 55368 57206 20667 20955 49381 50556 23333 65644 65646 51916 51926 51837 45099 30321 49625 31369 45094
$EGID = 10513 544 545 555 43588 44771 44776 47153 45205 10513 51781 18818 43044 30568 43061 36594 18761 56667 12652 12669 12778 42734 20077 51528 11073 51645 17963 51289 43366 55368 57206 20667 20955 49381 50556 23333 65644 65646 51916 51926 51837 45099 30321 49625 31369 45094
Perl module toolchain versions installed:
Module Have
------------------- -------
CPAN 1.94_54
Cwd 3.33
ExtUtils::CBuilder 0.2802
ExtUtils::Command 1.16
ExtUtils::Install 1.55
ExtUtils::MakeMaker 6.56
ExtUtils::Manifest 1.57
ExtUtils::ParseXS 2.21
File::Spec 3.33
Module::Build 0.3603
Module::Signature 0.66
Test::Harness 3.22
Test::More 0.96
YAML 0.72
YAML::Syck n/a
version 0.87
--
Summary of my perl5 (revision 5 version 11 subversion 4) configuration:
Platform:
osname=cygwin, osvers=1.7.7(0.23053), archname=cygwin-thread-multi-64int
uname='cygwin_nt-5.1 los061 1.7.7(0.23053) 2010-08-31 09:58 i686 cygwin '
config_args='-de -Dcc=gcc -Dprefix=/opt/perl/inst/perl-5.11.4-cygwin-thread-multi-64int -Dperladmin=pjacklam@online.no -Dusedevel -Dmksymlinks -Dusethreads -Dusemultiplicity -Duse64bitint'
hint=recommended, useposix=true, d_sigaction=define
useithreads=define, usemultiplicity=define
useperlio=define, d_sfio=undef, uselargefiles=define, usesocks=undef
use64bitint=define, use64bitall=undef, uselongdouble=undef
usemymalloc=y, bincompat5005=undef
Compiler:
cc='gcc', ccflags ='-DPERL_USE_SAFE_PUTENV -U__STRICT_ANSI__ -fno-strict-aliasing -pipe -fstack-protector',
optimize='-O3',
cppflags='-DPERL_USE_SAFE_PUTENV -U__STRICT_ANSI__ -fno-strict-aliasing -pipe -fstack-protector'
ccversion='', gccversion='4.3.4 20090804 (release) 1', gccosandvers=''
intsize=4, longsize=4, ptrsize=4, doublesize=8, byteorder=12345678
d_longlong=define, longlongsize=8, d_longdbl=define, longdblsize=12
ivtype='long long', ivsize=8, nvtype='double', nvsize=8, Off_t='off_t', lseeksize=8
alignbytes=8, prototype=define
Linker and Libraries:
ld='g++', ldflags =' -Wl,--enable-auto-import -Wl,--export-all-symbols -Wl,--stack,8388608 -Wl,--enable-auto-image-base -fstack-protector -L/usr/local/lib'
libpth=/usr/local/lib /usr/lib /lib
libs=-lgdbm -ldb -ldl -lcrypt -lgdbm_compat
perllibs=-ldl -lcrypt
libc=/usr/lib/libc.a, so=dll, useshrplib=true, libperl=cygperl5_11_4.dll
gnulibc_version=''
Dynamic Linking:
dlsrc=dl_dlopen.xs, dlext=dll, d_dlsymun=undef, ccdlflags=' '
cccdlflags=' ', lddlflags=' --shared -Wl,--enable-auto-import -Wl,--export-all-symbols -Wl,--stack,8388608 -Wl,--enable-auto-image-base -L/usr/local/lib -fstack-protector'
Characteristics of this binary (from libperl):
Compile-time options: MULTIPLICITY MYMALLOC PERL_DONT_CREATE_GVSV
PERL_IMPLICIT_CONTEXT PERL_MALLOC_WRAP PERL_USE_DEVEL
PERL_USE_SAFE_PUTENV USE_64_BIT_INT USE_ITHREADS
USE_LARGE_FILES USE_PERLIO USE_REENTRANT_API
Built under cygwin
Compiled at Dec 7 2010 03:40:42
%ENV:
PERL5LIB="/opt/perl/inst/perl-5.11.4-cygwin-thread-multi-64int/local/lib:/opt/perl/inst/perl-5.11.4-cygwin-thread-multi-64int/local/lib/site_perl:/opt/perl/inst/perl-5.11.4-cygwin-thread-multi-64int/local/lib/perl5"
PERL5OPT=""
PERL5_CPANPLUS_IS_RUNNING="5216"
PERL5_CPAN_IS_RUNNING="5216"
CYGWIN="codepage:utf8 nodosfilewarning"
@INC:
/opt/perl/inst/perl-5.11.4-cygwin-thread-multi-64int/local/lib/5.11.4/cygwin-thread-multi-64int
/opt/perl/inst/perl-5.11.4-cygwin-thread-multi-64int/local/lib/5.11.4
/opt/perl/inst/perl-5.11.4-cygwin-thread-multi-64int/local/lib
/opt/perl/inst/perl-5.11.4-cygwin-thread-multi-64int/local/lib/site_perl/5.11.4/cygwin-thread-multi-64int
/opt/perl/inst/perl-5.11.4-cygwin-thread-multi-64int/local/lib/site_perl/5.11.4
/opt/perl/inst/perl-5.11.4-cygwin-thread-multi-64int/local/lib/site_perl
/opt/perl/inst/perl-5.11.4-cygwin-thread-multi-64int/local/lib/perl5/cygwin-thread-multi-64int
/opt/perl/inst/perl-5.11.4-cygwin-thread-multi-64int/local/lib/perl5
/opt/perl/inst/perl-5.11.4-cygwin-thread-multi-64int/lib/site_perl/5.11.4/cygwin-thread-multi-64int
/opt/perl/inst/perl-5.11.4-cygwin-thread-multi-64int/lib/site_perl/5.11.4
/opt/perl/inst/perl-5.11.4-cygwin-thread-multi-64int/lib/5.11.4/cygwin-thread-multi-64int
/opt/perl/inst/perl-5.11.4-cygwin-thread-multi-64int/lib/5.11.4
.