Plack-Middleware-ServerStatus-Lite v0.36 Perl 5 v5.18.2 i386-netbsd-thread-multi-64int

Status
Pass
From
Chris Williams (BINGOS)
Dist
Plack-Middleware-ServerStatus-Lite v0.36
Platform
Perl 5 v5.18.2 i386-netbsd-thread-multi-64int
Date
2019-09-12 14:50:57
ID
ba52f8fe-d56c-11e9-99fe-b031dbec7dbf
This distribution has been tested as part of the CPAN Testers
project, supporting the Perl programming language.  See
http://wiki.cpantesters.org/ for more information or email
questions to cpan-testers-discuss@perl.org


--

Dear Masahiro Nagano,

This is a computer-generated error report created automatically by
CPANPLUS, version 0.9178. Testers personal comments may appear
at the end of this report.


Thank you for uploading your work to CPAN.  Congratulations!
All tests were successful.

TEST RESULTS:

Below is the error stack from stage 'make test':

t/00_compile.t .............. ok
t/01_builder.t .............. ok
using Starman for test at t/02_server.t line 29.
2019/09/12-15:50:35 Starman::Server (type Net::Server::PreFork) starting! pid(7274)
Resolved [localhost]:54349 to [127.0.0.1]:54349, IPv4
Binding to TCP port 54349 on host 127.0.0.1 with IPv4
Setting gid to "100 100 100"
2019/09/12-15:50:38 Server closing!
t/02_server.t ............... ok
using Starman for test at t/03_server_delayed_res.t line 29.
2019/09/12-15:50:38 Starman::Server (type Net::Server::PreFork) starting! pid(4948)
Resolved [localhost]:54344 to [127.0.0.1]:54344, IPv4
Binding to TCP port 54344 on host 127.0.0.1 with IPv4
Setting gid to "100 100 100"
2019/09/12-15:50:41 Server closing!
using Starman for test at t/03_server_delayed_res.t line 89.
2019/09/12-15:50:41 Starman::Server (type Net::Server::PreFork) starting! pid(12205)
Resolved [localhost]:54339 to [127.0.0.1]:54339, IPv4
Binding to TCP port 54339 on host 127.0.0.1 with IPv4
Setting gid to "100 100 100"
2019/09/12-15:50:45 Server closing!
t/03_server_delayed_res.t ... ok
using Starman for test at t/04_json.t line 31.
2019/09/12-15:50:45 Starman::Server (type Net::Server::PreFork) starting! pid(20167)
Resolved [localhost]:54334 to [127.0.0.1]:54334, IPv4
Binding to TCP port 54334 on host 127.0.0.1 with IPv4
Setting gid to "100 100 100"
2019/09/12-15:50:48 Server closing!
t/04_json.t ................. ok
using Starman for test at t/05_counter.t line 31.
2019/09/12-15:50:49 Starman::Server (type Net::Server::PreFork) starting! pid(22990)
Resolved [localhost]:54329 to [127.0.0.1]:54329, IPv4
Binding to TCP port 54329 on host 127.0.0.1 with IPv4
Setting gid to "100 100 100"
2019/09/12-15:50:49 Server closing!
t/05_counter.t .............. ok
using Starman for test at t/06_counter_delayed_res.t line 33.
2019/09/12-15:50:49 Starman::Server (type Net::Server::PreFork) starting! pid(1765)
Resolved [localhost]:54311 to [127.0.0.1]:54311, IPv4
Binding to TCP port 54311 on host 127.0.0.1 with IPv4
Setting gid to "100 100 100"
2019/09/12-15:50:49 Server closing!
using Starman for test at t/06_counter_delayed_res.t line 95.
2019/09/12-15:50:50 Starman::Server (type Net::Server::PreFork) starting! pid(16567)
Resolved [localhost]:54293 to [127.0.0.1]:54293, IPv4
Binding to TCP port 54293 on host 127.0.0.1 with IPv4
Setting gid to "100 100 100"
2019/09/12-15:50:50 Server closing!
t/06_counter_delayed_res.t .. ok
using Starman for test at t/07_skip_ps.t line 29.
2019/09/12-15:50:50 Starman::Server (type Net::Server::PreFork) starting! pid(8503)
Resolved [localhost]:54275 to [127.0.0.1]:54275, IPv4
Binding to TCP port 54275 on host 127.0.0.1 with IPv4
Setting gid to "100 100 100"
2019/09/12-15:50:51 Server closing!
t/07_skip_ps.t .............. ok
2019/09/12-15:50:52 Starman::Server (type Net::Server::PreFork) starting! pid(19140)
Resolved [localhost]:54271 to [127.0.0.1]:54271, IPv4
Binding to TCP port 54271 on host 127.0.0.1 with IPv4
Setting gid to "100 100 100"
2019/09/12-15:50:55 Server closing!
t/08_command.t .............. ok
All tests successful.
Files=9, Tests=86, 21 wallclock secs ( 0.06 usr  0.02 sys +  2.68 cusr  2.43 csys =  5.19 CPU)
Result: PASS


PREREQUISITES:

Here is a list of prerequisites you specified and versions we
managed to load:

	  Module Name                        Have     Want
	  B                               1.42_02        0
	  Capture::Tiny                      0.48        0
	  Getopt::Long                       2.39     2.38
	  JSON                               4.02     2.53
	  LWP::UserAgent                     6.39        0
	  Net::CIDR::Lite                    0.21        0
	  Parallel::Scoreboard               0.08     0.03
	  Plack::Middleware                     0        0
	  Pod::Usage                         1.61        0
	  Starman                          0.4015   0.3013
	  Test::More                     1.302164        0
	  Test::SharedFork                   0.35        0
	  Test::TCP                          2.20     2.00
	  Try::Tiny                          0.30     0.09
	  parent                            0.225        0

Perl module toolchain versions installed:
	Module Name                        Have
	CPANPLUS                         0.9178
	CPANPLUS::Dist::Build              0.90
	Cwd                                3.75
	ExtUtils::CBuilder             0.280231
	ExtUtils::Command                  7.36
	ExtUtils::Install                  2.14
	ExtUtils::MakeMaker                7.36
	ExtUtils::Manifest                 1.72
	ExtUtils::ParseXS                  3.35
	File::Spec                         3.75
	Module::Build                    0.4229
	Pod::Parser                        1.60
	Pod::Simple                        3.28
	Test2                          1.302164
	Test::Harness                      3.42
	Test::More                     1.302164
	version                          0.9924

******************************** NOTE ********************************
The comments above are created mechanically, possibly without manual
checking by the sender.  As there are many people performing automatic
tests on each upload to CPAN, it is likely that you will receive
identical messages about the same problem.

If you believe that the message is mistaken, please reply to the first
one with correction and/or additional informations, and do not take
it personally.  We appreciate your patience. :)
**********************************************************************

Additional comments:


This report was machine-generated by CPANPLUS::Dist::YACSmoke 1.08.
Powered by minismokebox version 0.68

CPANPLUS is prefering Build.PL

------------------------------
ENVIRONMENT AND OTHER CONTEXT
------------------------------

Environment variables:

    AUTOMATED_TESTING = 1
    NONINTERACTIVE_TESTING = 1
    PATH = /home/cpan/pit/rel/conf/perl-5.18.2/.cpanplus/5.18.2/build/Ef6dUeSpj3/Plack-Middleware-ServerStatus-Lite-0.36/blib/script:/home/cpan/pit/rel/conf/perl-5.18.2/.cpanplus/5.18.2/build/RZFV7S6cYk/Starman-0.4015/blib/script:/home/cpan/bin:/bin:/sbin:/usr/bin:/usr/sbin:/usr/X11R7/bin:/usr/pkg/bin:/usr/pkg/sbin:/usr/games:/usr/local/bin:/usr/local/sbin
    PERL5LIB = /home/cpan/pit/jail/bbec4YIVhO/lib/perl5:/home/cpan/pit/rel/conf/perl-5.18.2/.cpanplus/5.18.2/build/RZFV7S6cYk/Starman-0.4015/blib/lib:/home/cpan/pit/rel/conf/perl-5.18.2/.cpanplus/5.18.2/build/RZFV7S6cYk/Starman-0.4015/blib/arch:/home/cpan/pit/rel/conf/perl-5.18.2/.cpanplus/5.18.2/build/Ef6dUeSpj3/Plack-Middleware-ServerStatus-Lite-0.36/blib/lib:/home/cpan/pit/rel/conf/perl-5.18.2/.cpanplus/5.18.2/build/Ef6dUeSpj3/Plack-Middleware-ServerStatus-Lite-0.36/blib/arch
    PERL5_CPANPLUS_IS_RUNNING = 8180
    PERL5_CPANPLUS_IS_VERSION = 0.9178
    PERL5_MINISMOKEBOX = 0.68
    PERL5_YACSMOKE_BASE = /home/cpan/pit/rel/conf/perl-5.18.2
    PERL_EXTUTILS_AUTOINSTALL = --defaultdeps
    PERL_LOCAL_LIB_ROOT = /home/cpan/pit/jail/bbec4YIVhO
    PERL_MB_OPT = --install_base "/home/cpan/pit/jail/bbec4YIVhO"
    PERL_MM_OPT = INSTALL_BASE=/home/cpan/pit/jail/bbec4YIVhO
    PERL_MM_USE_DEFAULT = 1
    SHELL = /usr/pkg/bin/bash
    TERM = screen

Perl special variables (and OS-specific diagnostics, for MSWin32):

    Perl: $^X = /home/cpan/pit/rel/perl-5.18.2/bin/perl
    UID:  $<  = 1001
    EUID: $>  = 1001
    GID:  $(  = 100 100
    EGID: $)  = 100 100


-------------------------------


--

Summary of my perl5 (revision 5 version 18 subversion 2) configuration:
   
  Platform:
    osname=netbsd, osvers=8.1, archname=i386-netbsd-thread-multi-64int
    uname='netbsd naboo.bingosnet.co.uk 8.1 netbsd 8.1 (generic) #0: fri may 31 08:43:59 utc 2019 mkrepro@mkrepro.netbsd.org:usrsrcsysarchi386compilegeneric i386 '
    config_args='-des -Dprefix=/home/cpan/pit/rel/perl-5.18.2 -Dusethreads -Duse64bitint'
    hint=recommended, useposix=true, d_sigaction=define
    useithreads=define, usemultiplicity=define
    useperlio=define, d_sfio=undef, uselargefiles=define, usesocks=undef
    use64bitint=define, use64bitall=undef, uselongdouble=undef
    usemymalloc=n, bincompat5005=undef
  Compiler:
    cc='cc', ccflags ='-fwrapv -fno-strict-aliasing -pipe -fstack-protector -I/usr/pkg/include',
    optimize='-O',
    cppflags='-fwrapv -fno-strict-aliasing -pipe -fstack-protector -I/usr/pkg/include'
    ccversion='', gccversion='5.5.0', gccosandvers=''
    intsize=4, longsize=4, ptrsize=4, doublesize=8, byteorder=12345678
    d_longlong=define, longlongsize=8, d_longdbl=define, longdblsize=12
    ivtype='long long', ivsize=8, nvtype='double', nvsize=8, Off_t='off_t', lseeksize=8
    alignbytes=4, prototype=define
  Linker and Libraries:
    ld='cc', ldflags =' -Wl,-rpath,/usr/pkg/lib -Wl,-rpath,/usr/local/lib -fstack-protector -L/usr/pkg/lib'
    libpth=/usr/pkg/lib /lib /usr/lib
    libs=-lgdbm -lm -lcrypt -lutil -lc -lposix -lpthread
    perllibs=-lm -lcrypt -lutil -lc -lposix -lpthread
    libc=/lib/libc.so, so=so, useshrplib=false, libperl=libperl.a
    gnulibc_version=''
  Dynamic Linking:
    dlsrc=dl_dlopen.xs, dlext=so, d_dlsymun=undef, ccdlflags='-Wl,-E '
    cccdlflags='-DPIC -fPIC ', lddlflags='-shared  -L/usr/pkg/lib -fstack-protector'


Characteristics of this binary (from libperl): 
  Compile-time options: HAS_TIMES MULTIPLICITY PERLIO_LAYERS
                        PERL_DONT_CREATE_GVSV
                        PERL_HASH_FUNC_ONE_AT_A_TIME_HARD
                        PERL_IMPLICIT_CONTEXT PERL_MALLOC_WRAP
                        PERL_PRESERVE_IVUV PERL_SAWAMPERSAND USE_64_BIT_INT
                        USE_ITHREADS USE_LARGE_FILES USE_LOCALE
                        USE_LOCALE_COLLATE USE_LOCALE_CTYPE
                        USE_LOCALE_NUMERIC USE_PERLIO USE_PERL_ATOF
                        USE_REENTRANT_API
  Locally applied patches:
	Devel::PatchPerl 1.64
  Built under netbsd
  Compiled at Aug  4 2019 09:15:40
  %ENV:
    PERL5LIB="/home/cpan/pit/jail/bbec4YIVhO/lib/perl5:/home/cpan/pit/rel/conf/perl-5.18.2/.cpanplus/5.18.2/build/RZFV7S6cYk/Starman-0.4015/blib/lib:/home/cpan/pit/rel/conf/perl-5.18.2/.cpanplus/5.18.2/build/RZFV7S6cYk/Starman-0.4015/blib/arch:/home/cpan/pit/rel/conf/perl-5.18.2/.cpanplus/5.18.2/build/Ef6dUeSpj3/Plack-Middleware-ServerStatus-Lite-0.36/blib/lib:/home/cpan/pit/rel/conf/perl-5.18.2/.cpanplus/5.18.2/build/Ef6dUeSpj3/Plack-Middleware-ServerStatus-Lite-0.36/blib/arch"
    PERL5_CPANPLUS_IS_RUNNING="8180"
    PERL5_CPANPLUS_IS_VERSION="0.9178"
    PERL5_MINISMOKEBOX="0.68"
    PERL5_YACSMOKE_BASE="/home/cpan/pit/rel/conf/perl-5.18.2"
    PERL_EXTUTILS_AUTOINSTALL="--defaultdeps"
    PERL_LOCAL_LIB_ROOT="/home/cpan/pit/jail/bbec4YIVhO"
    PERL_MB_OPT="--install_base "/home/cpan/pit/jail/bbec4YIVhO""
    PERL_MM_OPT="INSTALL_BASE=/home/cpan/pit/jail/bbec4YIVhO"
    PERL_MM_USE_DEFAULT="1"
  @INC:
    /home/cpan/pit/jail/bbec4YIVhO/lib/perl5/5.18.2/i386-netbsd-thread-multi-64int
    /home/cpan/pit/jail/bbec4YIVhO/lib/perl5/5.18.2
    /home/cpan/pit/jail/bbec4YIVhO/lib/perl5/i386-netbsd-thread-multi-64int
    /home/cpan/pit/jail/bbec4YIVhO/lib/perl5
    /home/cpan/pit/rel/conf/perl-5.18.2/.cpanplus/5.18.2/build/RZFV7S6cYk/Starman-0.4015/blib/lib
    /home/cpan/pit/rel/conf/perl-5.18.2/.cpanplus/5.18.2/build/RZFV7S6cYk/Starman-0.4015/blib/arch
    /home/cpan/pit/rel/conf/perl-5.18.2/.cpanplus/5.18.2/build/Ef6dUeSpj3/Plack-Middleware-ServerStatus-Lite-0.36/blib/lib
    /home/cpan/pit/rel/conf/perl-5.18.2/.cpanplus/5.18.2/build/Ef6dUeSpj3/Plack-Middleware-ServerStatus-Lite-0.36/blib/arch
    /home/cpan/pit/rel/perl-5.18.2/lib/site_perl/5.18.2/i386-netbsd-thread-multi-64int
    /home/cpan/pit/rel/perl-5.18.2/lib/site_perl/5.18.2
    /home/cpan/pit/rel/perl-5.18.2/lib/5.18.2/i386-netbsd-thread-multi-64int
    /home/cpan/pit/rel/perl-5.18.2/lib/5.18.2
    .