Back
From: metabase:user:668472ea-2218-11e0-9b87-3b755637a8bc
Subject: PASS Catalyst-Devel-1.33 v5.12.4 GNU/Linux
Date: 2011-07-14T02:55:26Z
This distribution has been tested as part of the CPAN Testers
project, supporting the Perl programming language. See
http://wiki.cpantesters.org/ for more information or email
questions to cpan-testers-discuss@perl.org
--
Dear Florian Ragwitz,
This is a computer-generated report for Catalyst-Devel-1.33
on perl 5.12.4, created by CPAN-Reporter-1.1902.
Thank you for uploading your work to CPAN. Congratulations!
All tests were successful.
Sections of this report:
* Tester comments
* Program output
* Prerequisites
* Environment and other context
------------------------------
TESTER COMMENTS
------------------------------
Additional comments from tester:
none provided
------------------------------
PROGRAM OUTPUT
------------------------------
Output from '/usr/bin/make test':
PERL_DL_NONLAZY=1 /usr/bin/perl "-MExtUtils::Command::MM" "-e" "test_harness(0, 'inc', 'blib/lib', 'blib/arch')" t/01use.t t/back_compat.t t/generated_app.t t/get_sharedir_file.t t/optional_http-server-restart.t t/render_file_contents.t t/render_share_dir_file.t
t/01use.t ......................... ok
t/back_compat.t ................... ok
# Generated app is in /tmp/tbI1i4Q83M
# Installed app is in /tmp/Rj9CX9THz4
t/generated_app.t ................. ok
t/get_sharedir_file.t ............. ok
t/optional_http-server-restart.t .. skipped: set TEST_HTTP to enable this test
t/render_file_contents.t .......... ok
t/render_share_dir_file.t ......... ok
All tests successful.
Files=7, Tests=89, 44 wallclock secs ( 0.20 usr 0.05 sys + 39.35 cusr 3.56 csys = 43.16 CPU)
Result: PASS
------------------------------
PREREQUISITES
------------------------------
Prerequisite modules loaded:
requires:
Module Need Have
-------------------------------------- ------- -------
Catalyst 5.80015 5.80032
Catalyst::Action::RenderView 0.10 0.16
Catalyst::Plugin::ConfigLoader 0.30 0.30
Catalyst::Plugin::Static::Simple 0.28 0.29
Config::General 2.42 2.50
ExtUtils::MakeMaker 6.42 6.56
File::ChangeNotify 0.07 0.20
File::Copy::Recursive 0 0.38
File::ShareDir 0 1.03
Module::Install 0.91 1.01
Moose 0 2.0010
MooseX::Emulate::Class::Accessor::Fast 0 0.00903
namespace::autoclean 0 0.12
namespace::clean 0 0.20
Path::Class 0.09 0.24
Template 2.14 2.22
Test::Fatal 0.003 0.006
Test::More 0.94 0.98
configure_requires:
Module Need Have
-------------------------------------- ------- -------
ExtUtils::MakeMaker 6.42 6.56
------------------------------
ENVIRONMENT AND OTHER CONTEXT
------------------------------
Environment variables:
DBICTEST_MSSQL_PERL5LIB = /home/rkitover/perl5/lib/perl5:/home/rkitover/perl5/lib/perl5/i486-linux-gnu-thread-multi-64int
INCLUDE = /home/sybase/OCS-15_0/include:
LANG = en_US.UTF-8
LC_CTYPE = en_US.utf8
LD_LIBRARY_PATH = /home/rkitover/lib:/usr/local/lib:/lib:/usr/lib:/home/rkitover/instantclient_10_2:/usr/lib/oracle/xe/app/oracle/product/10.2.0/server/lib:/opt/sqlanywhere11/lib32:/home/informix/lib:/home/informix/lib/esql
LIB = /home/sybase/OCS-15_0/lib:
PATH = /home/rkitover/bin:/home/rkitover/perl5/bin:/home/rkitover/instantclient_10_2:/usr/lib/oracle/xe/app/oracle/product/10.2.0/server/bin:/usr/local/bin:/usr/local/sbin:/usr/bin:/bin:/usr/sbin:/sbin:/usr/bin/X11:/usr/games:/opt/cxoffice/bin:/opt/cxgames/bin:/home/rkitover/android-sdk/tools:/home/informix/bin:/home/sybase/DBISQL/bin:/home/sybase/OCS-15_0/bin:/home/sybase/ASE-15_0/bin:/home/sybase/ASE-15_0/install:/home/db2inst1/sqllib/bin:/home/db2inst1/sqllib/adm:/home/db2inst1/sqllib/misc:/home/db2inst1/sqllib/db2tss/bin
PERL5LIB =
PERL5OPT =
PERL5_CPANPLUS_IS_RUNNING = 20308
PERL5_CPAN_IS_RUNNING = 20308
PERLDB_OPTS = NonStop
PERL_AUTOINSTALL_PREFER_CPAN = 1
PERL_CPANM_OPT = --sudo --notest --mirror http://cpan.cpantesters.org/
PERL_DL_NONLAZY = 1
PERL_MM_OPT = INSTALLMAN1DIR=none INSTALLMAN3DIR=none
SHELL = zsh
TERM = screen-256color
Perl special variables (and OS-specific diagnostics, for MSWin32):
$^X = /usr/bin/perl
$UID/$EUID = 1000 / 1000
$GID = 1000 6 20 24 25 29 44 46 100 104 106 108 110 113 133 1000
$EGID = 1000 6 20 24 25 29 44 46 100 104 106 108 110 113 133 1000
Perl module toolchain versions installed:
Module Have
------------------- --------
CPAN 1.9600
Cwd 3.33
ExtUtils::CBuilder 0.280202
ExtUtils::Command 1.16
ExtUtils::Install 1.55
ExtUtils::MakeMaker 6.56
ExtUtils::Manifest 1.57
ExtUtils::ParseXS 2.21
File::Spec 3.33
Module::Build 0.3800
Module::Signature n/a
Test::Harness 3.23
Test::More 0.98
YAML 0.73
YAML::Syck 1.17
version 0.91
--
Summary of my perl5 (revision 5 version 12 subversion 4) configuration:
Derived from:
Platform:
osname=linux, osvers=2.6.32-5-686, archname=i486-linux-gnu-thread-multi-64int
uname='linux callisto 2.6.32-5-686 #1 smp mon jun 13 04:13:06 utc 2011 i686 gnulinux '
config_args='-Dusethreads -Duselargefiles -Dccflags=-DDEBIAN -Dcccdlflags=-fPIC -Darchname=i486-linux-gnu -Dprefix=/usr -Dprivlib=/usr/share/perl/5.12 -Darchlib=/usr/lib/perl/5.12 -Dvendorprefix=/usr -Dvendorlib=/usr/share/perl5 -Dvendorarch=/usr/lib/perl5 -Dsiteprefix=/usr/local -Dsitelib=/usr/local/share/perl/5.12.4 -Dsitearch=/usr/local/lib/perl/5.12.4 -Dman1dir=/usr/share/man/man1 -Dman3dir=/usr/share/man/man3 -Dsiteman1dir=/usr/local/man/man1 -Dsiteman3dir=/usr/local/man/man3 -Duse64bitint -Dman1ext=1 -Dman3ext=3perl -Dpager=/usr/bin/sensible-pager -Uafs -Ud_csh -Ud_ualarm -Uusesfio -Uusenm -Ui_libutil -DDEBUGGING=-g -Doptimize=-O2 -Duseshrplib -Dlibperl=libperl.so.5.12.4 -des'
hint=recommended, useposix=true, d_sigaction=define
useithreads=define, usemultiplicity=define
useperlio=define, d_sfio=undef, uselargefiles=define, usesocks=undef
use64bitint=define, use64bitall=undef, uselongdouble=undef
usemymalloc=n, bincompat5005=undef
Compiler:
cc='cc', ccflags ='-D_REENTRANT -D_GNU_SOURCE -DDEBIAN -fno-strict-aliasing -pipe -fstack-protector -I/usr/local/include -D_LARGEFILE_SOURCE -D_FILE_OFFSET_BITS=64',
optimize='-O2 -g',
cppflags='-D_REENTRANT -D_GNU_SOURCE -DDEBIAN -fno-strict-aliasing -pipe -fstack-protector -I/usr/local/include'
ccversion='', gccversion='4.6.1', gccosandvers=''
intsize=4, longsize=4, ptrsize=4, doublesize=8, byteorder=12345678
d_longlong=define, longlongsize=8, d_longdbl=define, longdblsize=12
ivtype='long long', ivsize=8, nvtype='double', nvsize=8, Off_t='off_t', lseeksize=8
alignbytes=4, prototype=define
Linker and Libraries:
ld='cc', ldflags =' -fstack-protector -L/usr/local/lib'
libpth=/usr/local/lib /lib /usr/lib /usr/lib/i386-linux-gnu /usr/lib64
libs=-lgdbm -lgdbm_compat -ldb -ldl -lm -lpthread -lc -lcrypt
perllibs=-ldl -lm -lpthread -lc -lcrypt
libc=, so=so, useshrplib=true, libperl=libperl.so.5.12.4
gnulibc_version='2.13'
Dynamic Linking:
dlsrc=dl_dlopen.xs, dlext=so, d_dlsymun=undef, ccdlflags='-Wl,-E'
cccdlflags='-fPIC', lddlflags='-shared -O2 -g -L/usr/local/lib -fstack-protector'
Characteristics of this binary (from libperl):
Compile-time options: MULTIPLICITY PERL_DONT_CREATE_GVSV
PERL_IMPLICIT_CONTEXT PERL_MALLOC_WRAP USE_64_BIT_INT
USE_ITHREADS USE_LARGE_FILES USE_PERLIO USE_PERL_ATOF
USE_REENTRANT_API
Locally applied patches:
uncommitted-changes
DEBPKG:debian/arm_thread_stress_timeout - http://bugs.debian.org/501970 Raise the timeout of ext/threads/shared/t/stress.t to accommodate slower build hosts
DEBPKG:debian/cpan_config_path - Set location of CPAN::Config to /etc/perl as /usr may not be writable.
DEBPKG:debian/cpan_definstalldirs - Provide a sensible INSTALLDIRS default for modules installed from CPAN.
DEBPKG:debian/db_file_ver - http://bugs.debian.org/340047 Remove overly restrictive DB_File version check.
DEBPKG:debian/doc_info - Replace generic man(1) instructions with Debian-specific information.
DEBPKG:debian/enc2xs_inc - http://bugs.debian.org/290336 Tweak enc2xs to follow symlinks and ignore missing @INC directories.
DEBPKG:debian/errno_ver - http://bugs.debian.org/343351 Remove Errno version check due to upgrade problems with long-running processes.
DEBPKG:debian/libperl_embed_doc - http://bugs.debian.org/186778 Note that libperl-dev package is required for embedded linking
DEBPKG:fixes/respect_umask - Respect umask during installation
DEBPKG:debian/writable_site_dirs - Set umask approproately for site install directories
DEBPKG:debian/extutils_set_libperl_path - EU:MM: Set location of libperl.a to /usr/lib
DEBPKG:debian/no_packlist_perllocal - Don't install .packlist or perllocal.pod for perl or vendor
DEBPKG:debian/prefix_changes - Fiddle with *PREFIX and variables written to the makefile
DEBPKG:debian/fakeroot - Postpone LD_LIBRARY_PATH evaluation to the binary targets.
DEBPKG:debian/instmodsh_doc - Debian policy doesn't install .packlist files for core or vendor.
DEBPKG:debian/ld_run_path - Remove standard libs from LD_RUN_PATH as per Debian policy.
DEBPKG:debian/libnet_config_path - Set location of libnet.cfg to /etc/perl/Net as /usr may not be writable.
DEBPKG:debian/m68k_thread_stress - http://bugs.debian.org/517938 http://bugs.debian.org/495826 Disable some threads tests on m68k for now due to missing TLS.
DEBPKG:debian/mod_paths - Tweak @INC ordering for Debian
DEBPKG:debian/module_build_man_extensions - http://bugs.debian.org/479460 Adjust Module::Build manual page extensions for the Debian Perl policy
DEBPKG:debian/prune_libs - http://bugs.debian.org/128355 Prune the list of libraries wanted to what we actually need.
DEBPKG:fixes/net_smtp_docs - [rt.cpan.org #36038] http://bugs.debian.org/100195 Document the Net::SMTP 'Port' option
DEBPKG:debian/perlivp - http://bugs.debian.org/510895 Make perlivp skip include directories in /usr/local
DEBPKG:debian/disable-zlib-bundling - Disable zlib bundling in Compress::Raw::Zlib
DEBPKG:debian/cpanplus_definstalldirs - http://bugs.debian.org/533707 Configure CPANPLUS to use the site directories by default.
DEBPKG:debian/cpanplus_config_path - Save local versions of CPANPLUS::Config::System into /etc/perl.
DEBPKG:fixes/autodie-flock - http://bugs.debian.org/543731 Allow for flock returning EAGAIN instead of EWOULDBLOCK on linux/parisc
DEBPKG:fixes/cpanplus-without-home - http://bugs.debian.org/577011 [rt.cpan.org #52988] Fix CPANPLUS test failures when HOME doesn't exist
DEBPKG:debian/deprecate-with-apt - http://bugs.debian.org/580034 Point users to Debian packages of deprecated core modules
DEBPKG:fixes/hurd-ccflags - [a190e64] http://bugs.debian.org/587901 [perl #92244] Make hints/gnu.sh append to $ccflags rather than overriding them
DEBPKG:debian/squelch-locale-warnings - http://bugs.debian.org/508764 Squelch locale warnings in Debian package maintainer scripts
DEBPKG:fixes/lc-numeric-docs - [903eb63] [perl #78452] http://bugs.debian.org/379329 LC_NUMERIC documentation fixes
DEBPKG:fixes/lc-numeric-sprintf - [b3fd614] [perl #78632] http://bugs.debian.org/601549 Fix sprintf not to ignore LC_NUMERIC with constants
DEBPKG:fixes/concat-stack-corruption - [e3393f5] [perl #78674] http://bugs.debian.org/596105 Fix stack pointer corruption in pp_concat() with 'use encoding'
DEBPKG:fixes/h2ph-gcc-4.5 - [8d66b3f] http://bugs.debian.org/599933 h2ph fix for gcc 4.5
DEBPKG:fixes/module-build-home-directory - http://bugs.debian.org/624850 [rt.cpan.org #67893] Fix failing tilde test when run under a UID without a passwd entry
DEBPKG:debian/patchlevel - http://bugs.debian.org/567489 List packaged patches for 5.12.4-1 in patchlevel.h
DEBPKG:fixes/h2ph-multiarch - [e7ec705] http://bugs.debian.org/625808 [perl #90122] Make h2ph correctly search gcc include directories
DEBPKG:fixes/odbm-multiarch - [3c998e0] http://bugs.debian.org/625634 [perl #90106] Fix ODBM_File failures on Ubuntu natty [multiarch]
DEBPKG:fixes/re.t_sh4_timeout - [7c47ab2] [perl #92226] http://bugs.debian.org/626125 Update lengthen time-out time for t/re/re.t.
Built under linux
Compiled at Jun 28 2011 21:59:02
%ENV:
PERL5LIB=""
PERL5OPT=""
PERL5_CPANPLUS_IS_RUNNING="20308"
PERL5_CPAN_IS_RUNNING="20308"
PERLDB_OPTS="NonStop"
PERL_AUTOINSTALL_PREFER_CPAN="1"
PERL_CPANM_OPT="--sudo --notest --mirror http://cpan.cpantesters.org/"
PERL_DL_NONLAZY="1"
PERL_MM_OPT="INSTALLMAN1DIR=none INSTALLMAN3DIR=none"
@INC:
/etc/perl
/usr/local/lib/perl/5.12.4
/usr/local/share/perl/5.12.4
/usr/lib/perl5
/usr/share/perl5
/usr/lib/perl/5.12
/usr/share/perl/5.12
/usr/local/lib/site_perl
.