Back
From: metabase:user:efaea432-2c23-11e4-82e9-b1bd3c985d1a
Subject: PASS Dist-Zilla-Plugin-MinimumPerl-1.006 v5.25.12 GNU/Linux
Date: 2017-04-23T19:33:28Z
This distribution has been tested as part of the CPAN Testers
project, supporting the Perl programming language. See
http://wiki.cpantesters.org/ for more information or email
questions to cpan-testers-discuss@perl.org
--
Dear APOCAL,
This is a computer-generated report for Dist-Zilla-Plugin-MinimumPerl-1.006
on perl 5.25.12, created by App::cpanminus::reporter 0.17 (1.7043).
Thank you for uploading your work to CPAN. Congratulations!
All tests were successful.
Sections of this report:
* Tester comments
* Program output
* Prerequisites
* Environment and other context
------------------------------
TESTER COMMENTS
------------------------------
Additional comments from tester:
none provided
------------------------------
PROGRAM OUTPUT
------------------------------
Output from '':
Building and testing Dist-Zilla-Plugin-MinimumPerl-1.006
cp lib/Dist/Zilla/Plugin/MinimumPerl.pm blib/lib/Dist/Zilla/Plugin/MinimumPerl.pm
t/00-compile.t ................ ok
#
#
# Generated by Dist::Zilla::Plugin::ReportVersions::Tiny v1.10
# perl: 5.025012 (wanted 5.006) on linux from /opt/plenv/versions/5.25.12/bin/perl5.25.12
#
# Dist::Zilla::Role::FileFinderUser => 6.009 (want 4.200006)
# Dist::Zilla::Role::PrereqSource => 6.009 (want 5.006)
# ExtUtils::MakeMaker => 7.24 (want any version)
# File::Spec => 3.67 (want any version)
# File::Temp => 0.2304 (want any version)
# IO::Handle => 1.36 (want any version)
# IPC::Open3 => 1.20 (want any version)
# Module::Build::Tiny => 0.039 (want 0.039)
# Moose => 2.2004 (want 1.03)
# Moose::Util::TypeConstraints => 2.2004 (want 1.01)
# MooseX::Types::Perl => 0.101343 (want 0.101340)
# Perl::MinimumVersion => 1.38 (want 1.26)
# Test::More => 1.302083 (want 0.88)
# strict => 1.11 (want any version)
# warnings => 1.37 (want any version)
#
# Thanks for using my code. I hope it works for you.
# If not, please try and include this output in the bug report.
# That will help me reproduce the issue and solve your problem.
#
t/000-report-versions-tiny.t .. ok
t/apocalypse.t ................ skipped: Test::Apocalypse required for validating the distribution
All tests successful.
Files=3, Tests=2, 1 wallclock secs ( 0.03 usr 0.00 sys + 0.78 cusr 0.10 csys = 0.91 CPU)
Result: PASS
------------------------------
PREREQUISITES
------------------------------
Prerequisite modules loaded:
No requirements found
------------------------------
ENVIRONMENT AND OTHER CONTEXT
------------------------------
Environment variables:
LANG = en_US.UTF-8
LC_ALL = en_US.UTF-8
PATH = /opt/plenv/versions/5.25.12/bin:/opt/plenv/libexec:/opt/plenv/plugins/perl-build/bin:/opt/cmake/bin:/opt/plenv/shims:/opt/plenv/bin:/opt/nvm/versions/node/v7.3.0/bin:/opt/git/bin:/opt/plenv/shims:/opt/plenv/bin:/home/genehack/bin:/opt/vim/bin:/opt/tmux/bin:/opt/ruby/bin:/opt/rust/bin:/opt/emacs/bin:/opt/local/bin:/opt/git/bin:/usr/local/bin:/usr/bin:/bin:/usr/games:/opt/cmake/bin:/opt/cmake/bin:/home/genehack/src/swift-src/build/Ninja-RelWithDebInfoAssert/swift-linux-x86_64/bin:/home/genehack/swift-3.1-RELEASE-ubuntu14.04/usr/bin
PERL_CPANM_OPT = --skip-installed --prompt
SHELL = /bin/zsh
TERM = screen-256color
Perl special variables (and OS-specific diagnostics, for MSWin32):
EGID = 1001 24 25 27 29 30 44 46 102 1001
EUID = 1001
EXECUTABLE_NAME = /opt/plenv/versions/5.25.12/bin/perl5.25.12
GID = 1001 24 25 27 29 30 44 46 102 1001
UID = 1001
Perl module toolchain versions installed:
Module Have
------------------- ----------
CPAN 2.18
CPAN::Meta 2.150010
Cwd 3.67
ExtUtils::CBuilder 0.280225
ExtUtils::Command 7.24
ExtUtils::Install 2.04
ExtUtils::MakeMaker 7.24
ExtUtils::Manifest 1.70
ExtUtils::ParseXS 3.34
File::Spec 3.67
JSON 2.90
JSON::PP 2.27400_02
Module::Build 0.4222
Module::Signature n/a
Parse::CPAN::Meta 2.150010
Test::Harness 3.38
Test::More 1.302083
YAML 1.23
YAML::Syck n/a
version 0.9917
--
Summary of my perl5 (revision 5 version 25 subversion 12) configuration:
Platform:
osname=linux
osvers=3.16.0-4-amd64
archname=x86_64-linux
uname='linux ferb 3.16.0-4-amd64 #1 smp debian 3.16.39-1+deb8u2 (2017-03-07) x86_64 gnulinux '
config_args='-Dprefix=/opt/plenv/versions/5.25.12 -de -Dusedevel -A'eval:scriptdir=/opt/plenv/versions/5.25.12/bin''
hint=recommended
useposix=true
d_sigaction=define
useithreads=undef
usemultiplicity=undef
use64bitint=define
use64bitall=define
uselongdouble=undef
usemymalloc=n
default_inc_excludes_dot=define
bincompat5005=undef
Compiler:
cc='cc'
ccflags ='-fwrapv -fno-strict-aliasing -pipe -fstack-protector-strong -I/usr/local/include -D_LARGEFILE_SOURCE -D_FILE_OFFSET_BITS=64 -D_FORTIFY_SOURCE=2'
optimize='-O2'
cppflags='-fwrapv -fno-strict-aliasing -pipe -fstack-protector-strong -I/usr/local/include'
ccversion=''
gccversion='4.9.2'
gccosandvers=''
intsize=4
longsize=8
ptrsize=8
doublesize=8
byteorder=12345678
doublekind=3
d_longlong=define
longlongsize=8
d_longdbl=define
longdblsize=16
longdblkind=3
ivtype='long'
ivsize=8
nvtype='double'
nvsize=8
Off_t='off_t'
lseeksize=8
alignbytes=8
prototype=define
Linker and Libraries:
ld='cc'
ldflags =' -fstack-protector-strong -L/usr/local/lib -L/opt/local/lib'
libpth=/usr/local/lib /usr/lib/gcc/x86_64-linux-gnu/4.9/include-fixed /usr/include/x86_64-linux-gnu /usr/lib /opt/local/lib /lib/x86_64-linux-gnu /lib/../lib /usr/lib/x86_64-linux-gnu /usr/lib/../lib /lib
libs=-lpthread -lnsl -lgdbm -ldl -lm -lcrypt -lutil -lc -lgdbm_compat
perllibs=-lpthread -lnsl -ldl -lm -lcrypt -lutil -lc
libc=libc-2.19.so
so=so
useshrplib=false
libperl=libperl.a
gnulibc_version='2.19'
Dynamic Linking:
dlsrc=dl_dlopen.xs
dlext=so
d_dlsymun=undef
ccdlflags='-Wl,-E'
cccdlflags='-fPIC'
lddlflags='-shared -O2 -L/usr/local/lib -L/opt/local/lib -fstack-protector-strong'
Characteristics of this binary (from libperl):
Compile-time options:
HAS_TIMES
PERLIO_LAYERS
PERL_COPY_ON_WRITE
PERL_DONT_CREATE_GVSV
PERL_MALLOC_WRAP
PERL_OP_PARENT
PERL_PRESERVE_IVUV
PERL_USE_DEVEL
USE_64_BIT_ALL
USE_64_BIT_INT
USE_LARGE_FILES
USE_LOCALE
USE_LOCALE_COLLATE
USE_LOCALE_CTYPE
USE_LOCALE_NUMERIC
USE_LOCALE_TIME
USE_PERLIO
USE_PERL_ATOF
Locally applied patches:
Devel::PatchPerl 1.48
Built under linux
Compiled at Apr 23 2017 11:42:58
%ENV:
PERL_CPANM_OPT="--skip-installed --prompt"
@INC:
/opt/plenv/versions/5.25.12/lib/perl5/site_perl/5.25.12/x86_64-linux
/opt/plenv/versions/5.25.12/lib/perl5/site_perl/5.25.12
/opt/plenv/versions/5.25.12/lib/perl5/5.25.12/x86_64-linux
/opt/plenv/versions/5.25.12/lib/perl5/5.25.12