PDF-ReportWriter v1.5 Perl 5 v5.37.10 x86_64-linux-thread-multi

Status
Pass
From
Andreas J. König (ANDK)
Dist
PDF-ReportWriter v1.5
Platform
Perl 5 v5.37.10 x86_64-linux-thread-multi
Date
2023-04-06 01:45:36
ID
b9dcfa2a-d41c-11ed-a8b3-4f8719a83ec4
This distribution has been tested as part of the CPAN Testers
project, supporting the Perl programming language.  See
http://wiki.cpantesters.org/ for more information or email
questions to cpan-testers-discuss@perl.org


--
Dear Daniel Kasak,

This is a computer-generated report for PDF-ReportWriter-1.5
on perl 5.37.10, created by CPAN-Reporter-1.2018.

Thank you for uploading your work to CPAN.  Congratulations!
All tests were successful.

Sections of this report:

    * Tester comments
    * Program output
    * Prerequisites
    * Environment and other context

------------------------------
TESTER COMMENTS
------------------------------

Additional comments from tester:

this report is from an automated smoke testing program
and was not reviewed by a human for accuracy

------------------------------
PROGRAM OUTPUT
------------------------------

Output from '/usr/bin/make test':

PERL_DL_NONLAZY=1 "/tmp/basesmoker-reloperl-ABGN/bin/perl" "-MExtUtils::Command::MM" "-MTest::Harness" "-e" "undef *Test::Harness::Switches; test_harness(0, 'blib/lib', 'blib/arch')" t/*.t
t/000_load.t ......... ok
# $rp=undef
# $rp=PDF::ReportWriter::Report=HASH(0x560f18315378)
# $VAR1 = {
#           'definition' => {
#                             'name' => 'basic',
#                             'debug' => '0',
#                             'destination' => 'myreport.pdf',
#                             'orientation' => 'landscape',
#                             'font' => [
#                                         'Helvetica',
#                                         'Courier'
#                                       ],
#                             'default_font_size' => '10',
#                             'x_margin' => '20',
#                             'template' => 'mytemplate.pdf',
#                             'paper' => 'A4',
#                             'y_margin' => '20',
#                             'default_font' => 'Helvetica',
#                             'file' => 'basic.xml'
#                           },
#           'data' => {
#                       'fields' => [
#                                     {
#                                       'label' => 'item',
#                                       'index' => '0',
#                                       'font_size' => '12',
#                                       'header_colour' => 'white',
#                                       'percent' => '20',
#                                       'align' => 'left'
#                                     },
#                                     {
#                                       'align' => 'left',
#                                       'percent' => '20',
#                                       'label' => 'date',
#                                       'index' => '1',
#                                       'font_size' => '12',
#                                       'header_colour' => 'white'
#                                     }
#                                   ],
#                       'page' => {
#                                   'footer' => [
#                                                 {
#                                                   'colour' => 'red',
#                                                   'index' => '0',
#                                                   'y' => '200',
#                                                   'text' => 'My Cell 1',
#                                                   'x' => '500',
#                                                   'percent' => '20',
#                                                   'background' => {
#                                                                     'colour' => 'grey',
#                                                                     'shape' => 'box'
#                                                                   }
#                                                 },
#                                                 {
#                                                   'x' => '200',
#                                                   'background' => {
#                                                                     'colour' => 'green',
#                                                                     'shape' => 'box'
#                                                                   },
#                                                   'percent' => '20',
#                                                   'colour' => 'yellow',
#                                                   'y' => '100',
#                                                   'text' => 'My Cell 2',
#                                                   'index' => '1'
#                                                 }
#                                               ],
#                                   'header' => [
#                                                 {}
#                                               ]
#                                 },
#                       'cell_borders' => '1',
#                       'groups' => [
#                                     {
#                                       'name' => 'GrandTotals',
#                                       'aggregate_source' => '0',
#                                       'data_column' => '1'
#                                     },
#                                     {
#                                       'name' => 'ItemTotals',
#                                       'aggregate_source' => '0',
#                                       'data_column' => '1'
#                                     }
#                                   ],
#                       'max_font_size' => '12'
#                     }
#         };
# $VAR1 = {
#           'data' => {
#                       'fields' => [
#                                     {
#                                       'font_size' => '12',
#                                       'header_colour' => 'white',
#                                       'label' => 'item',
#                                       'index' => '0',
#                                       'align' => 'left',
#                                       'percent' => '20'
#                                     },
#                                     {
#                                       'align' => 'left',
#                                       'percent' => '20',
#                                       'font_size' => '12',
#                                       'header_colour' => 'white',
#                                       'label' => 'date',
#                                       'index' => '1'
#                                     }
#                                   ],
#                       'page' => {
#                                   'header' => [
#                                                 {}
#                                               ],
#                                   'footer' => [
#                                                 {
#                                                   'colour' => 'red',
#                                                   'index' => '0',
#                                                   'y' => '200',
#                                                   'text' => 'My Cell 1',
#                                                   'x' => '500',
#                                                   'percent' => '20',
#                                                   'background' => {
#                                                                     'colour' => 'grey',
#                                                                     'shape' => 'box'
#                                                                   }
#                                                 },
#                                                 {
#                                                   'text' => 'My Cell 2',
#                                                   'y' => '100',
#                                                   'index' => '1',
#                                                   'colour' => 'yellow',
#                                                   'background' => {
#                                                                     'shape' => 'box',
#                                                                     'colour' => 'green'
#                                                                   },
#                                                   'percent' => '20',
#                                                   'x' => '200'
#                                                 }
#                                               ]
#                                 },
#                       'cell_borders' => '1',
#                       'groups' => [
#                                     {
#                                       'name' => 'GrandTotals',
#                                       'aggregate_source' => '0',
#                                       'data_column' => '1'
#                                     },
#                                     {
#                                       'aggregate_source' => '0',
#                                       'name' => 'SubTotals',
#                                       'data_column' => '1'
#                                     }
#                                   ],
#                       'max_font_size' => '12'
#                     },
#           'definition' => {
#                             'font' => [
#                                         'Helvetica',
#                                         'Courier'
#                                       ],
#                             'info' => {
#                                         'Title' => 'The sample report title',
#                                         'ModDate' => '2006-03-13',
#                                         'CreationDate' => '2006-03-13',
#                                         'Subject' => 'A sample report',
#                                         'Author' => 'Cosimo Streppone',
#                                         'Creator' => 'PDF::ReportWriter',
#                                         'Keywords' => 'Bla Bla Bla'
#                                       },
#                             'paper' => 'A4',
#                             'template' => 'mytemplate.pdf',
#                             'x_margin' => '20',
#                             'default_font_size' => '10',
#                             'default_font' => 'Helvetica',
#                             'y_margin' => '20',
#                             'url' => 'sample.xml',
#                             'name' => 'sample',
#                             'orientation' => 'landscape',
#                             'destination' => 'myreport.pdf',
#                             'debug' => '0'
#                           }
#         };
# $VAR1 = {
#           'data' => {
#                       'cell_borders' => '1',
#                       'groups' => [
#                                     {
#                                       'name' => 'GrandTotals',
#                                       'aggregate_source' => '0',
#                                       'data_column' => '1'
#                                     },
#                                     {
#                                       'data_column' => '1',
#                                       'name' => 'SubTotals',
#                                       'aggregate_source' => '0'
#                                     }
#                                   ],
#                       'max_font_size' => '12',
#                       'fields' => [
#                                     {
#                                       'font_size' => '12',
#                                       'index' => '0',
#                                       'label' => 'item',
#                                       'header_colour' => 'white',
#                                       'align' => 'left',
#                                       'percent' => '20'
#                                     },
#                                     {
#                                       'percent' => '20',
#                                       'align' => 'left',
#                                       'index' => '1',
#                                       'label' => 'date',
#                                       'header_colour' => 'white',
#                                       'font_size' => '12'
#                                     }
#                                   ],
#                       'page' => {
#                                   'footer' => [
#                                                 {
#                                                   'y' => '200',
#                                                   'text' => 'My Cell 1',
#                                                   'index' => '0',
#                                                   'colour' => 'red',
#                                                   'background' => {
#                                                                     'shape' => 'box',
#                                                                     'colour' => 'grey'
#                                                                   },
#                                                   'percent' => '20',
#                                                   'x' => '500'
#                                                 },
#                                                 {
#                                                   'index' => '1',
#                                                   'text' => 'My Cell 2',
#                                                   'y' => '100',
#                                                   'colour' => 'yellow',
#                                                   'percent' => '20',
#                                                   'background' => {
#                                                                     'colour' => 'green',
#                                                                     'shape' => 'box'
#                                                                   },
#                                                   'x' => '200'
#                                                 }
#                                               ],
#                                   'header' => [
#                                                 {}
#                                               ]
#                                 }
#                     },
#           'definition' => {
#                             'default_font_size' => '10',
#                             'x_margin' => '20',
#                             'paper' => 'A4',
#                             'template' => 'mytemplate.pdf',
#                             'url' => 'sample.xml',
#                             'default_font' => 'Helvetica',
#                             'y_margin' => '20',
#                             'font' => [
#                                         'Helvetica',
#                                         'Courier'
#                                       ],
#                             'info' => {
#                                         'Keywords' => 'Bla Bla Bla',
#                                         'Author' => 'Cosimo Streppone',
#                                         'Title' => 'The sample report title',
#                                         'Creator' => 'PDF::ReportWriter',
#                                         'ModDate' => '2006-03-13',
#                                         'Subject' => 'A sample report',
#                                         'CreationDate' => '2006-03-13'
#                                       },
#                             'debug' => '0',
#                             'destination' => 'myreport.pdf',
#                             'orientation' => 'landscape',
#                             'name' => 'sample'
#                           }
#         };
# $VAR1 = {
#           'data' => {
#                       'groups' => []
#                     },
#           'definition' => {
#                             'name' => 'empty',
#                             'font' => [
#                                         undef
#                                       ],
#                             'file' => 'empty.xml'
#                           }
#         };
t/010_report.t ....... ok
# $rp=PDF::ReportWriter::Report=HASH(0x5582d5529b30)
# $VAR1 = bless( {
#                  '_config' => {
#                                 'definition' => {
#                                                   'name' => 'datasources',
#                                                   'destination' => 'myreport.pdf',
#                                                   'font' => [
#                                                               undef
#                                                             ],
#                                                   'paper' => 'A4',
#                                                   'file' => 'datasources.xml'
#                                                 },
#                                 'data' => {
#                                             'fields' => [
#                                                           {
#                                                             'header_colour' => 'white',
#                                                             'index' => '0',
#                                                             'font_size' => '12',
#                                                             'percent' => '20',
#                                                             'align' => 'left',
#                                                             'label' => 'item'
#                                                           }
#                                                         ],
#                                             'groups' => [
#                                                           {}
#                                                         ],
#                                             'page' => {
#                                                         'header' => [
#                                                                       {}
#                                                                     ],
#                                                         'footer' => [
#                                                                       {}
#                                                                     ]
#                                                       },
#                                             'datasource' => [
#                                                               {
#                                                                 'sql' => 'SELECT docnum,docdate,docstate FROM documents WHERE docnum = ? LIMIT 1',
#                                                                 'name' => 'master',
#                                                                 'type' => 'DBI'
#                                                               },
#                                                               {
#                                                                 'type' => 'DBI',
#                                                                 'name' => 'detail',
#                                                                 'sql' => 'SELECT * FROM documents WHERE docnum = ?'
#                                                               }
#                                                             ]
#                                           }
#                               },
#                  'report' => './t/reports/datasources.xml'
#                }, 'PDF::ReportWriter::Report' );
t/011_datasources.t .. ok
t/020_cell.t ......... ok
All tests successful.
Files=4, Tests=30,  1 wallclock secs ( 0.02 usr  0.02 sys +  0.57 cusr  0.16 csys =  0.77 CPU)
Result: PASS

------------------------------
PREREQUISITES
------------------------------

Prerequisite modules loaded:

requires:

    Module              Need Have 
    ------------------- ---- -----
    Image::Size         2    3.300
    PDF::API2           0.3  2.044
    XML::Simple         0    2.25 

build_requires:

    Module              Need Have 
    ------------------- ---- -----
    ExtUtils::MakeMaker 0    7.70 


------------------------------
ENVIRONMENT AND OTHER CONTEXT
------------------------------

Environment variables:

    AUTOMATED_TESTING = 1
    LANG = en_US.UTF-8
    LC_ADDRESS = de_DE.UTF-8
    LC_IDENTIFICATION = de_DE.UTF-8
    LC_MEASUREMENT = de_DE.UTF-8
    LC_MONETARY = de_DE.UTF-8
    LC_NAME = de_DE.UTF-8
    LC_NUMERIC = de_DE.UTF-8
    LC_PAPER = de_DE.UTF-8
    LC_TELEPHONE = de_DE.UTF-8
    LC_TIME = de_DE.UTF-8
    PATH = /home/sand/bin:/usr/local/bin:/usr/local/sbin:/usr/sbin:/usr/bin:/sbin:/bin:/usr/games:/usr/local/games:/snap/bin:/usr/local/perl/bin:/usr/X11/bin
    PERL = /tmp/basesmoker-reloperl-ABGN/bin/perl
    PERL5LIB = /tmp/loop_over_bdir-95083-HAJg94/mmds-1.902-0/blib/arch:/tmp/loop_over_bdir-95083-HAJg94/mmds-1.902-0/blib/lib:/tmp/loop_over_bdir-95083-HAJg94/dta-tokwrap-0.98-0/blib/arch:/tmp/loop_over_bdir-95083-HAJg94/dta-tokwrap-0.98-0/blib/lib:/tmp/loop_over_bdir-95083-HAJg94/makepp-1.19-0/blib/arch:/tmp/loop_over_bdir-95083-HAJg94/makepp-1.19-0/blib/lib:/tmp/loop_over_bdir-95083-HAJg94/Lemonldap-NG-Cli-0.2-0/blib/arch:/tmp/loop_over_bdir-95083-HAJg94/Lemonldap-NG-Cli-0.2-0/blib/lib:/tmp/loop_over_bdir-95083-HAJg94/Lingua-BioYaTeA-0.11-0/blib/arch:/tmp/loop_over_bdir-95083-HAJg94/Lingua-BioYaTeA-0.11-0/blib/lib:/tmp/loop_over_bdir-95083-HAJg94/App-rmcd-0.280-0/blib/arch:/tmp/loop_over_bdir-95083-HAJg94/App-rmcd-0.280-0/blib/lib:/tmp/loop_over_bdir-95083-HAJg94/DBIx-Migration-Directories-0.12-0/blib/arch:/tmp/loop_over_bdir-95083-HAJg94/DBIx-Migration-Directories-0.12-0/blib/lib:/tmp/loop_over_bdir-95083-HAJg94/NoZone-1.3-0/blib/arch:/tmp/loop_over_bdir-95083-HAJg94/NoZone-1.3-0/blib/lib:/tmp/loop_over_bdir-95083-HAJg94/Lingua-YaTeA-0.626-0/blib/arch:/tmp/loop_over_bdir-95083-HAJg94/Lingua-YaTeA-0.626-0/blib/lib:/tmp/loop_over_bdir-95083-HAJg94/triceps-2.1.0-0/blib/arch:/tmp/loop_over_bdir-95083-HAJg94/triceps-2.1.0-0/blib/lib:/tmp/loop_over_bdir-95083-HAJg94/CGI-Application-NetNewsIface-0.0204-0/blib/arch:/tmp/loop_over_bdir-95083-HAJg94/CGI-Application-NetNewsIface-0.0204-0/blib/lib:/tmp/loop_over_bdir-95083-HAJg94/downsexta-0/blib/arch:/tmp/loop_over_bdir-95083-HAJg94/downsexta-0/blib/lib:/tmp/loop_over_bdir-95083-HAJg94/Business-Shipping-DataFiles-1.02-0/blib/arch:/tmp/loop_over_bdir-95083-HAJg94/Business-Shipping-DataFiles-1.02-0/blib/lib:/tmp/loop_over_bdir-95083-HAJg94/ProjectBuilder-0.14.1-0/blib/arch:/tmp/loop_over_bdir-95083-HAJg94/ProjectBuilder-0.14.1-0/blib/lib:/tmp/loop_over_bdir-95083-HAJg94/Simulation-Automate-1.0.1-0/blib/arch:/tmp/loop_over_bdir-95083-HAJg94/Simulation-Automate-1.0.1-0/blib/lib:/tmp/loop_over_bdir-95083-HAJg94/RDF-NLP-SPARQLQuery-0.1-0/blib/arch:/tmp/loop_over_bdir-95083-HAJg94/RDF-NLP-SPARQLQuery-0.1-0/blib/lib:/tmp/loop_over_bdir-95083-HAJg94/EJBCA-CrlPublish-0.60-0/blib/arch:/tmp/loop_over_bdir-95083-HAJg94/EJBCA-CrlPublish-0.60-0/blib/lib:/tmp/loop_over_bdir-95083-HAJg94/shishi-0.0.1-0/blib/arch:/tmp/loop_over_bdir-95083-HAJg94/shishi-0.0.1-0/blib/lib:/tmp/loop_over_bdir-95083-HAJg94/Dpkg-1.21.19-0/blib/arch:/tmp/loop_over_bdir-95083-HAJg94/Dpkg-1.21.19-0/blib/lib:/tmp/loop_over_bdir-95083-HAJg94/perl-Hardware-UPS-Perl-0.43-0/blib/arch:/tmp/loop_over_bdir-95083-HAJg94/perl-Hardware-UPS-Perl-0.43-0/blib/lib:/tmp/loop_over_bdir-95083-HAJg94/HTML-Menu-TreeView-1.22-0/blib/arch:/tmp/loop_over_bdir-95083-HAJg94/HTML-Menu-TreeView-1.22-0/blib/lib:/tmp/loop_over_bdir-95083-HAJg94/Net-OpenVPN-DDNS-0.1-0/blib/arch:/tmp/loop_over_bdir-95083-HAJg94/Net-OpenVPN-DDNS-0.1-0/blib/lib:/tmp/loop_over_bdir-95083-HAJg94/Devel-Required-0.16-0/blib/arch:/tmp/loop_over_bdir-95083-HAJg94/Devel-Required-0.16-0/blib/lib:/tmp/loop_over_bdir-95083-HAJg94/MP3-PodcastFetch-1.05-0/blib/arch:/tmp/loop_over_bdir-95083-HAJg94/MP3-PodcastFetch-1.05-0/blib/lib:/tmp/loop_over_bdir-95083-HAJg94/Linux-InitFS-0.2-0/blib/arch:/tmp/loop_over_bdir-95083-HAJg94/Linux-InitFS-0.2-0/blib/lib
    PERL5OPT = 
    PERL5_CPANPLUS_IS_RUNNING = 95091
    PERL5_CPAN_IS_RUNNING = 95091
    PERL_CANARY_STABILITY_NOPROMPT = 1
    PERL_MM_USE_DEFAULT = 1
    PERL_USE_UNSAFE_INC = 1
    SHELL = /usr/bin/zsh
    TERM = screen

Perl special variables (and OS-specific diagnostics, for MSWin32):

    $^X = /tmp/basesmoker-reloperl-ABGN/bin/perl
    $UID/$EUID = 1005 / 1005
    $GID = 1005 1005
    $EGID = 1005 1005

Perl module toolchain versions installed:

    Module              Have    
    ------------------- --------
    CPAN                2.34    
    CPAN::Meta          2.150010
    Cwd                 3.89    
    ExtUtils::CBuilder  0.280238
    ExtUtils::Command   7.70    
    ExtUtils::Install   2.22    
    ExtUtils::MakeMaker 7.70    
    ExtUtils::Manifest  1.73    
    ExtUtils::ParseXS   3.49    
    File::Spec          3.88    
    JSON                4.10    
    JSON::PP            4.16    
    Module::Build       0.4232  
    Module::Signature   0.88    
    Parse::CPAN::Meta   2.150010
    Test::Harness       3.44    
    Test::More          1.302194
    YAML                1.30    
    YAML::Syck          1.34    
    version             0.9929  


--

Summary of my perl5 (revision 5 version 37 subversion 10) configuration:
  Commit id: d62f5d9eddd273f5a82c0dbad932a8f4d18f9488
  Platform:
    osname=linux
    osvers=5.19.0-38-generic
    archname=x86_64-linux-thread-multi
    uname='linux k93jammy 5.19.0-38-generic #39~22.04.1-ubuntu smp preempt_dynamic fri mar 17 21:16:15 utc 2 x86_64 x86_64 x86_64 gnulinux '
    config_args='-Dprefix=/home/sand/src/perl/repoperls/installed-perls/host/k93jammy/v5.37.10/b4f3 -Dmyhostname=k93jammy -Dinstallusrbinperl=n -Uversiononly -Dusedevel -des -Ui_db -Dlibswanted=cl pthread socket inet nsl gdbm dbm malloc dl ld sun m crypt sec util c cposix posix ucb BSD gdbm_compat -Duseithreads -Uuselongdouble -DEBUGGING=-g'
    hint=recommended
    useposix=true
    d_sigaction=define
    useithreads=define
    usemultiplicity=define
    use64bitint=define
    use64bitall=define
    uselongdouble=undef
    usemymalloc=n
    default_inc_excludes_dot=define
  Compiler:
    cc='cc'
    ccflags ='-D_REENTRANT -D_GNU_SOURCE -fwrapv -fno-strict-aliasing -pipe -fstack-protector-strong -I/usr/local/include -D_LARGEFILE_SOURCE -D_FILE_OFFSET_BITS=64'
    optimize='-O2 -g'
    cppflags='-D_REENTRANT -D_GNU_SOURCE -fwrapv -fno-strict-aliasing -pipe -fstack-protector-strong -I/usr/local/include'
    ccversion=''
    gccversion='11.3.0'
    gccosandvers=''
    intsize=4
    longsize=8
    ptrsize=8
    doublesize=8
    byteorder=12345678
    doublekind=3
    d_longlong=define
    longlongsize=8
    d_longdbl=define
    longdblsize=16
    longdblkind=3
    ivtype='long'
    ivsize=8
    nvtype='double'
    nvsize=8
    Off_t='off_t'
    lseeksize=8
    alignbytes=8
    prototype=define
  Linker and Libraries:
    ld='cc'
    ldflags =' -fstack-protector-strong -L/usr/local/lib'
    libpth=/usr/local/lib /usr/lib/x86_64-linux-gnu /usr/lib /usr/lib64
    libs=-lpthread -lnsl -ldl -lm -lcrypt -lutil -lc
    perllibs=-lpthread -lnsl -ldl -lm -lcrypt -lutil -lc
    libc=/lib/x86_64-linux-gnu/libc.so.6
    so=so
    useshrplib=false
    libperl=libperl.a
    gnulibc_version='2.35'
  Dynamic Linking:
    dlsrc=dl_dlopen.xs
    dlext=so
    d_dlsymun=undef
    ccdlflags='-Wl,-E'
    cccdlflags='-fPIC'
    lddlflags='-shared -O2 -g -L/usr/local/lib -fstack-protector-strong'


Characteristics of this binary (from libperl): 
  Compile-time options:
    HAS_TIMES
    MULTIPLICITY
    PERLIO_LAYERS
    PERL_COPY_ON_WRITE
    PERL_DONT_CREATE_GVSV
    PERL_HASH_FUNC_SIPHASH13
    PERL_HASH_USE_SBOX32
    PERL_MALLOC_WRAP
    PERL_OP_PARENT
    PERL_PRESERVE_IVUV
    PERL_USE_DEVEL
    PERL_USE_SAFE_PUTENV
    USE_64_BIT_ALL
    USE_64_BIT_INT
    USE_ITHREADS
    USE_LARGE_FILES
    USE_LOCALE
    USE_LOCALE_COLLATE
    USE_LOCALE_CTYPE
    USE_LOCALE_NUMERIC
    USE_LOCALE_TIME
    USE_PERLIO
    USE_PERL_ATOF
    USE_REENTRANT_API
    USE_THREAD_SAFE_LOCALE
  Built under linux
  Compiled at Apr  1 2023 07:03:51
  %ENV:
    PERL="/tmp/basesmoker-reloperl-ABGN/bin/perl"
    PERL5LIB="/tmp/loop_over_bdir-95083-HAJg94/mmds-1.902-0/blib/arch:/tmp/loop_over_bdir-95083-HAJg94/mmds-1.902-0/blib/lib:/tmp/loop_over_bdir-95083-HAJg94/dta-tokwrap-0.98-0/blib/arch:/tmp/loop_over_bdir-95083-HAJg94/dta-tokwrap-0.98-0/blib/lib:/tmp/loop_over_bdir-95083-HAJg94/makepp-1.19-0/blib/arch:/tmp/loop_over_bdir-95083-HAJg94/makepp-1.19-0/blib/lib:/tmp/loop_over_bdir-95083-HAJg94/Lemonldap-NG-Cli-0.2-0/blib/arch:/tmp/loop_over_bdir-95083-HAJg94/Lemonldap-NG-Cli-0.2-0/blib/lib:/tmp/loop_over_bdir-95083-HAJg94/Lingua-BioYaTeA-0.11-0/blib/arch:/tmp/loop_over_bdir-95083-HAJg94/Lingua-BioYaTeA-0.11-0/blib/lib:/tmp/loop_over_bdir-95083-HAJg94/App-rmcd-0.280-0/blib/arch:/tmp/loop_over_bdir-95083-HAJg94/App-rmcd-0.280-0/blib/lib:/tmp/loop_over_bdir-95083-HAJg94/DBIx-Migration-Directories-0.12-0/blib/arch:/tmp/loop_over_bdir-95083-HAJg94/DBIx-Migration-Directories-0.12-0/blib/lib:/tmp/loop_over_bdir-95083-HAJg94/NoZone-1.3-0/blib/arch:/tmp/loop_over_bdir-95083-HAJg94/NoZone-1.3-0/blib/lib:/tmp/loop_over_bdir-95083-HAJg94/Lingua-YaTeA-0.626-0/blib/arch:/tmp/loop_over_bdir-95083-HAJg94/Lingua-YaTeA-0.626-0/blib/lib:/tmp/loop_over_bdir-95083-HAJg94/triceps-2.1.0-0/blib/arch:/tmp/loop_over_bdir-95083-HAJg94/triceps-2.1.0-0/blib/lib:/tmp/loop_over_bdir-95083-HAJg94/CGI-Application-NetNewsIface-0.0204-0/blib/arch:/tmp/loop_over_bdir-95083-HAJg94/CGI-Application-NetNewsIface-0.0204-0/blib/lib:/tmp/loop_over_bdir-95083-HAJg94/downsexta-0/blib/arch:/tmp/loop_over_bdir-95083-HAJg94/downsexta-0/blib/lib:/tmp/loop_over_bdir-95083-HAJg94/Business-Shipping-DataFiles-1.02-0/blib/arch:/tmp/loop_over_bdir-95083-HAJg94/Business-Shipping-DataFiles-1.02-0/blib/lib:/tmp/loop_over_bdir-95083-HAJg94/ProjectBuilder-0.14.1-0/blib/arch:/tmp/loop_over_bdir-95083-HAJg94/ProjectBuilder-0.14.1-0/blib/lib:/tmp/loop_over_bdir-95083-HAJg94/Simulation-Automate-1.0.1-0/blib/arch:/tmp/loop_over_bdir-95083-HAJg94/Simulation-Automate-1.0.1-0/blib/lib:/tmp/loop_over_bdir-95083-HAJg94/RDF-NLP-SPARQLQuery-0.1-0/blib/arch:/tmp/loop_over_bdir-95083-HAJg94/RDF-NLP-SPARQLQuery-0.1-0/blib/lib:/tmp/loop_over_bdir-95083-HAJg94/EJBCA-CrlPublish-0.60-0/blib/arch:/tmp/loop_over_bdir-95083-HAJg94/EJBCA-CrlPublish-0.60-0/blib/lib:/tmp/loop_over_bdir-95083-HAJg94/shishi-0.0.1-0/blib/arch:/tmp/loop_over_bdir-95083-HAJg94/shishi-0.0.1-0/blib/lib:/tmp/loop_over_bdir-95083-HAJg94/Dpkg-1.21.19-0/blib/arch:/tmp/loop_over_bdir-95083-HAJg94/Dpkg-1.21.19-0/blib/lib:/tmp/loop_over_bdir-95083-HAJg94/perl-Hardware-UPS-Perl-0.43-0/blib/arch:/tmp/loop_over_bdir-95083-HAJg94/perl-Hardware-UPS-Perl-0.43-0/blib/lib:/tmp/loop_over_bdir-95083-HAJg94/HTML-Menu-TreeView-1.22-0/blib/arch:/tmp/loop_over_bdir-95083-HAJg94/HTML-Menu-TreeView-1.22-0/blib/lib:/tmp/loop_over_bdir-95083-HAJg94/Net-OpenVPN-DDNS-0.1-0/blib/arch:/tmp/loop_over_bdir-95083-HAJg94/Net-OpenVPN-DDNS-0.1-0/blib/lib:/tmp/loop_over_bdir-95083-HAJg94/Devel-Required-0.16-0/blib/arch:/tmp/loop_over_bdir-95083-HAJg94/Devel-Required-0.16-0/blib/lib:/tmp/loop_over_bdir-95083-HAJg94/MP3-PodcastFetch-1.05-0/blib/arch:/tmp/loop_over_bdir-95083-HAJg94/MP3-PodcastFetch-1.05-0/blib/lib:/tmp/loop_over_bdir-95083-HAJg94/Linux-InitFS-0.2-0/blib/arch:/tmp/loop_over_bdir-95083-HAJg94/Linux-InitFS-0.2-0/blib/lib"
    PERL5OPT=""
    PERL5_CPANPLUS_IS_RUNNING="95091"
    PERL5_CPAN_IS_RUNNING="95091"
    PERL_CANARY_STABILITY_NOPROMPT="1"
    PERL_MM_USE_DEFAULT="1"
    PERL_USE_UNSAFE_INC="1"
  @INC:
    /tmp/loop_over_bdir-95083-HAJg94/mmds-1.902-0/blib/arch
    /tmp/loop_over_bdir-95083-HAJg94/mmds-1.902-0/blib/lib
    /tmp/loop_over_bdir-95083-HAJg94/dta-tokwrap-0.98-0/blib/arch
    /tmp/loop_over_bdir-95083-HAJg94/dta-tokwrap-0.98-0/blib/lib
    /tmp/loop_over_bdir-95083-HAJg94/makepp-1.19-0/blib/arch
    /tmp/loop_over_bdir-95083-HAJg94/makepp-1.19-0/blib/lib
    /tmp/loop_over_bdir-95083-HAJg94/Lemonldap-NG-Cli-0.2-0/blib/arch
    /tmp/loop_over_bdir-95083-HAJg94/Lemonldap-NG-Cli-0.2-0/blib/lib
    /tmp/loop_over_bdir-95083-HAJg94/Lingua-BioYaTeA-0.11-0/blib/arch
    /tmp/loop_over_bdir-95083-HAJg94/Lingua-BioYaTeA-0.11-0/blib/lib
    /tmp/loop_over_bdir-95083-HAJg94/App-rmcd-0.280-0/blib/arch
    /tmp/loop_over_bdir-95083-HAJg94/App-rmcd-0.280-0/blib/lib
    /tmp/loop_over_bdir-95083-HAJg94/DBIx-Migration-Directories-0.12-0/blib/arch
    /tmp/loop_over_bdir-95083-HAJg94/DBIx-Migration-Directories-0.12-0/blib/lib
    /tmp/loop_over_bdir-95083-HAJg94/NoZone-1.3-0/blib/arch
    /tmp/loop_over_bdir-95083-HAJg94/NoZone-1.3-0/blib/lib
    /tmp/loop_over_bdir-95083-HAJg94/Lingua-YaTeA-0.626-0/blib/arch
    /tmp/loop_over_bdir-95083-HAJg94/Lingua-YaTeA-0.626-0/blib/lib
    /tmp/loop_over_bdir-95083-HAJg94/triceps-2.1.0-0/blib/arch
    /tmp/loop_over_bdir-95083-HAJg94/triceps-2.1.0-0/blib/lib
    /tmp/loop_over_bdir-95083-HAJg94/CGI-Application-NetNewsIface-0.0204-0/blib/arch
    /tmp/loop_over_bdir-95083-HAJg94/CGI-Application-NetNewsIface-0.0204-0/blib/lib
    /tmp/loop_over_bdir-95083-HAJg94/downsexta-0/blib/arch
    /tmp/loop_over_bdir-95083-HAJg94/downsexta-0/blib/lib
    /tmp/loop_over_bdir-95083-HAJg94/Business-Shipping-DataFiles-1.02-0/blib/arch
    /tmp/loop_over_bdir-95083-HAJg94/Business-Shipping-DataFiles-1.02-0/blib/lib
    /tmp/loop_over_bdir-95083-HAJg94/ProjectBuilder-0.14.1-0/blib/arch
    /tmp/loop_over_bdir-95083-HAJg94/ProjectBuilder-0.14.1-0/blib/lib
    /tmp/loop_over_bdir-95083-HAJg94/Simulation-Automate-1.0.1-0/blib/arch
    /tmp/loop_over_bdir-95083-HAJg94/Simulation-Automate-1.0.1-0/blib/lib
    /tmp/loop_over_bdir-95083-HAJg94/RDF-NLP-SPARQLQuery-0.1-0/blib/arch
    /tmp/loop_over_bdir-95083-HAJg94/RDF-NLP-SPARQLQuery-0.1-0/blib/lib
    /tmp/loop_over_bdir-95083-HAJg94/EJBCA-CrlPublish-0.60-0/blib/arch
    /tmp/loop_over_bdir-95083-HAJg94/EJBCA-CrlPublish-0.60-0/blib/lib
    /tmp/loop_over_bdir-95083-HAJg94/shishi-0.0.1-0/blib/arch
    /tmp/loop_over_bdir-95083-HAJg94/shishi-0.0.1-0/blib/lib
    /tmp/loop_over_bdir-95083-HAJg94/Dpkg-1.21.19-0/blib/arch
    /tmp/loop_over_bdir-95083-HAJg94/Dpkg-1.21.19-0/blib/lib
    /tmp/loop_over_bdir-95083-HAJg94/perl-Hardware-UPS-Perl-0.43-0/blib/arch
    /tmp/loop_over_bdir-95083-HAJg94/perl-Hardware-UPS-Perl-0.43-0/blib/lib
    /tmp/loop_over_bdir-95083-HAJg94/HTML-Menu-TreeView-1.22-0/blib/arch
    /tmp/loop_over_bdir-95083-HAJg94/HTML-Menu-TreeView-1.22-0/blib/lib
    /tmp/loop_over_bdir-95083-HAJg94/Net-OpenVPN-DDNS-0.1-0/blib/arch
    /tmp/loop_over_bdir-95083-HAJg94/Net-OpenVPN-DDNS-0.1-0/blib/lib
    /tmp/loop_over_bdir-95083-HAJg94/Devel-Required-0.16-0/blib/arch
    /tmp/loop_over_bdir-95083-HAJg94/Devel-Required-0.16-0/blib/lib
    /tmp/loop_over_bdir-95083-HAJg94/MP3-PodcastFetch-1.05-0/blib/arch
    /tmp/loop_over_bdir-95083-HAJg94/MP3-PodcastFetch-1.05-0/blib/lib
    /tmp/loop_over_bdir-95083-HAJg94/Linux-InitFS-0.2-0/blib/arch
    /tmp/loop_over_bdir-95083-HAJg94/Linux-InitFS-0.2-0/blib/lib
    /home/sand/src/perl/repoperls/installed-perls/host/k93jammy/v5.37.10/b4f3/lib/site_perl/5.37.10/x86_64-linux-thread-multi
    /home/sand/src/perl/repoperls/installed-perls/host/k93jammy/v5.37.10/b4f3/lib/site_perl/5.37.10
    /home/sand/src/perl/repoperls/installed-perls/host/k93jammy/v5.37.10/b4f3/lib/5.37.10/x86_64-linux-thread-multi
    /home/sand/src/perl/repoperls/installed-perls/host/k93jammy/v5.37.10/b4f3/lib/5.37.10
    .