MaxMind-DB-Reader v1.000014 Perl 5 v5.24.3 x86_64-linux

Status
Pass
From
Slaven Rezić (SREZIC)
Dist
MaxMind-DB-Reader v1.000014
Platform
Perl 5 v5.24.3 x86_64-linux
Date
2019-06-18 20:57:47
ID
b9cd7584-920b-11e9-a23e-f85d1f24ea8f
This distribution has been tested as part of the CPAN Testers
project, supporting the Perl programming language.  See
http://wiki.cpantesters.org/ for more information or email
questions to cpan-testers-discuss@perl.org


--
Dear MaxMind, Inc.,

This is a computer-generated report for MaxMind-DB-Reader-1.000014
on perl 5.24.3, created by CPAN-Reporter-1.2018.

Thank you for uploading your work to CPAN.  Congratulations!
All tests were successful.

Sections of this report:

    * Tester comments
    * Program output
    * Prerequisites
    * Environment and other context

------------------------------
TESTER COMMENTS
------------------------------

Additional comments from tester:

none provided

------------------------------
PROGRAM OUTPUT
------------------------------

Output from '/usr/bin/make test':

PERL_DL_NONLAZY=1 "/opt/perl-5.24.3/bin/perl" "-MExtUtils::Command::MM" "-MTest::Harness" "-e" "undef *Test::Harness::Switches; test_harness(0, 'blib/lib', 'blib/arch')" t/*.t t/MaxMind/DB/*.t t/MaxMind/DB/Reader/*.t t/MaxMind/DB/Reader/Decoder-types/*.t
# 
# Versions for all modules listed in MYMETA.json (including optional ones):
# 
# === Configure Requires ===
# 
#     Module              Want Have
#     ------------------- ---- ----
#     ExtUtils::MakeMaker  any 7.36
# 
# === Build Requires ===
# 
#     Module              Want Have
#     ------------------- ---- ----
#     ExtUtils::MakeMaker  any 7.36
# 
# === Test Requires ===
# 
#     Module                          Want     Have
#     ------------------------------- ---- --------
#     Exporter                         any     5.73
#     ExtUtils::MakeMaker              any     7.36
#     File::Spec                       any     3.75
#     Path::Class                     0.27     0.37
#     Scalar::Util                    1.42     1.50
#     Test::Bits                       any     0.02
#     Test::Fatal                      any    0.014
#     Test::MaxMind::DB::Common::Data  any 0.040001
#     Test::MaxMind::DB::Common::Util  any 0.040001
#     Test::More                      0.96 1.302164
#     Test::Number::Delta              any     1.06
#     Test::Requires                   any     0.10
#     lib                              any     0.63
#     utf8                             any     1.19
# 
# === Test Recommends ===
# 
#     Module         Want     Have
#     ---------- -------- --------
#     CPAN::Meta 2.120900 2.150010
# 
# === Runtime Requires ===
# 
#     Module                        Want     Have
#     ------------------------- -------- --------
#     Carp                           any     1.50
#     Data::IEEE754                  any     0.02
#     Data::Printer                  any     0.40
#     Data::Validate::IP            0.25     0.27
#     DateTime                       any     1.50
#     Encode                         any     2.98
#     Getopt::Long                   any      2.5
#     List::AllUtils                 any     0.15
#     Math::BigInt                   any 1.999816
#     MaxMind::DB::Common       0.040001 0.040001
#     MaxMind::DB::Metadata          any 0.040001
#     MaxMind::DB::Role::Debugs      any 0.040001
#     MaxMind::DB::Types             any 0.040001
#     Module::Implementation         any     0.09
#     Moo                       1.003000 2.003004
#     Moo::Role                      any 2.003004
#     MooX::StrictConstructor        any    0.009
#     Role::Tiny                1.003002 2.000006
#     Socket                        1.87    2.027
#     autodie                        any     2.29
#     bytes                          any     1.05
#     constant                       any     1.33
#     namespace::autoclean           any     0.28
#     strict                         any     1.11
#     warnings                       any     1.36
# 
# === Runtime Suggests ===
# 
#     Module                      Want     Have
#     ----------------------- -------- --------
#     MaxMind::DB::Reader::XS 1.000003 1.000007
# 
t/00-report-prereqs.t ............................. ok
t/MaxMind/DB/Reader-broken-databases.t ............ ok
t/MaxMind/DB/Reader-decoder.t ..................... ok
t/MaxMind/DB/Reader-no-ipv4-search-tree.t ......... ok
t/MaxMind/DB/Reader.t ............................. ok
t/MaxMind/DB/Reader/Decoder-maps-with-pointers.t .. ok
t/MaxMind/DB/Reader/Decoder-types/array.t ......... ok
t/MaxMind/DB/Reader/Decoder-types/boolean.t ....... ok
t/MaxMind/DB/Reader/Decoder-types/bytes.t ......... ok
t/MaxMind/DB/Reader/Decoder-types/container.t ..... ok
t/MaxMind/DB/Reader/Decoder-types/double.t ........ ok
t/MaxMind/DB/Reader/Decoder-types/end_marker.t .... ok
t/MaxMind/DB/Reader/Decoder-types/float.t ......... ok
t/MaxMind/DB/Reader/Decoder-types/int32.t ......... ok
t/MaxMind/DB/Reader/Decoder-types/map.t ........... ok
t/MaxMind/DB/Reader/Decoder-types/pointer.t ....... ok
t/MaxMind/DB/Reader/Decoder-types/uint128.t ....... ok
t/MaxMind/DB/Reader/Decoder-types/uint16.t ........ ok
t/MaxMind/DB/Reader/Decoder-types/uint32.t ........ ok
t/MaxMind/DB/Reader/Decoder-types/uint64.t ........ ok
t/MaxMind/DB/Reader/Decoder-types/utf8_string.t ... ok
t/MaxMind/DB/Reader/Decoder.t ..................... ok
t/MaxMind/DB/Reader/NoMoose.t ..................... ok
All tests successful.
Files=23, Tests=485,  5 wallclock secs ( 0.09 usr  0.09 sys +  3.88 cusr  0.55 csys =  4.61 CPU)
Result: PASS

------------------------------
PREREQUISITES
------------------------------

Prerequisite modules loaded:

requires:

    Module                          Need     Have    
    ------------------------------- -------- --------
    autodie                         0        2.29    
    bytes                           0        1.05    
    Carp                            0        1.50    
    constant                        0        1.33    
    Data::IEEE754                   0        0.02    
    Data::Printer                   0        0.40    
    Data::Validate::IP              0.25     0.27    
    DateTime                        0        1.50    
    Encode                          0        2.98    
    Getopt::Long                    0        2.5     
    List::AllUtils                  0        0.15    
    Math::BigInt                    0        1.999816
    MaxMind::DB::Common             0.040001 0.040001
    MaxMind::DB::Metadata           0        0.040001
    MaxMind::DB::Role::Debugs       0        0.040001
    MaxMind::DB::Types              0        0.040001
    Module::Implementation          0        0.09    
    Moo                             1.003000 2.003004
    Moo::Role                       0        2.003004
    MooX::StrictConstructor         0        0.009   
    namespace::autoclean            0        0.28    
    perl                            5.010000 5.024003
    Role::Tiny                      1.003002 2.000006
    Socket                          1.87     2.027   
    strict                          0        1.11    
    warnings                        0        1.36    

build_requires:

    Module                          Need     Have    
    ------------------------------- -------- --------
    Exporter                        0        5.73    
    ExtUtils::MakeMaker             0        7.36    
    File::Spec                      0        3.75    
    lib                             0        0.63    
    Path::Class                     0.27     0.37    
    Scalar::Util                    1.42     1.50    
    Test::Bits                      0        0.02    
    Test::Fatal                     0        0.014   
    Test::MaxMind::DB::Common::Data 0        0.040001
    Test::MaxMind::DB::Common::Util 0        0.040001
    Test::More                      0.96     1.302164
    Test::Number::Delta             0        1.06    
    Test::Requires                  0        0.10    
    utf8                            0        1.19    

configure_requires:

    Module                          Need     Have    
    ------------------------------- -------- --------
    ExtUtils::MakeMaker             0        7.36    


------------------------------
ENVIRONMENT AND OTHER CONTEXT
------------------------------

Environment variables:

    LANG = C
    LC_ALL = de_DE.UTF-8
    PATH = /usr/local/bin:/usr/bin:/bin:/usr/local/sbin:/usr/sbin:/sbin:/home/cpansand/bin/linux-gnu:/home/cpansand/bin/sh:/home/cpansand/bin:/usr/games:/home/cpansand/devel:/home/eserte/src/srezic-misc/scripts
    PERL5LIB = 
    PERL5OPT = 
    PERL5_CPANPLUS_IS_RUNNING = 2484
    PERL5_CPAN_IS_RUNNING = 2484
    PERL5_CPAN_IS_RUNNING_IN_RECURSION = 2376,2484
    PERLDOC = -MPod::Perldoc::ToTextOverstrike
    PERL_BATCH = yes
    PERL_CANARY_STABILITY_NOPROMPT = 1
    PERL_CPAN_REPORTER_CONFIG = /var/tmp/cpansmoker-1023/2019061820/cpanreporter_000_config.ini
    PERL_EXTUTILS_AUTOINSTALL = --defaultdeps
    PERL_USE_UNSAFE_INC = 1
    SHELL = /usr/bin/zsh
    TERM = screen
    TMPDIR = /var/tmp/cpansmoker-1023/2019061820

Perl special variables (and OS-specific diagnostics, for MSWin32):

    $^X = /opt/perl-5.24.3/bin/perl
    $UID/$EUID = 1023 / 1023
    $GID = 1023 1023
    $EGID = 1023 1023

Perl module toolchain versions installed:

    Module              Have    
    ------------------- --------
    CPAN                2.16    
    CPAN::Meta          2.150010
    Cwd                 3.75    
    ExtUtils::CBuilder  0.280231
    ExtUtils::Command   7.36    
    ExtUtils::Install   2.14    
    ExtUtils::MakeMaker 7.36    
    ExtUtils::Manifest  1.70    
    ExtUtils::ParseXS   3.35    
    File::Spec          3.75    
    JSON                4.02    
    JSON::PP            4.02    
    Module::Build       0.4229  
    Module::Signature   0.83    
    Parse::CPAN::Meta   2.150010
    Test::Harness       3.42    
    Test::More          1.302164
    YAML                1.26    
    YAML::Syck          1.31    
    version             0.9924  


--

Summary of my perl5 (revision 5 version 24 subversion 3) configuration:
   
  Platform:
    osname=linux, osvers=4.9.0-3-amd64, archname=x86_64-linux
    uname='linux debian9 4.9.0-3-amd64 #1 smp debian 4.9.30-2+deb9u5 (2017-09-19) x86_64 gnulinux '
    config_args='-ds -e -Dprefix=/opt/perl-5.24.3 -Dcf_email=srezic@cpan.org'
    hint=recommended, useposix=true, d_sigaction=define
    useithreads=undef, usemultiplicity=undef
    use64bitint=define, use64bitall=define, uselongdouble=undef
    usemymalloc=n, bincompat5005=undef
  Compiler:
    cc='cc', ccflags ='-fwrapv -fno-strict-aliasing -pipe -fstack-protector-strong -I/usr/local/include -D_LARGEFILE_SOURCE -D_FILE_OFFSET_BITS=64 -D_FORTIFY_SOURCE=2',
    optimize='-O2',
    cppflags='-fwrapv -fno-strict-aliasing -pipe -fstack-protector-strong -I/usr/local/include'
    ccversion='', gccversion='6.3.0 20170516', gccosandvers=''
    intsize=4, longsize=8, ptrsize=8, doublesize=8, byteorder=12345678, doublekind=3
    d_longlong=define, longlongsize=8, d_longdbl=define, longdblsize=16, longdblkind=3
    ivtype='long', ivsize=8, nvtype='double', nvsize=8, Off_t='off_t', lseeksize=8
    alignbytes=8, prototype=define
  Linker and Libraries:
    ld='cc', ldflags =' -fstack-protector-strong -L/usr/local/lib'
    libpth=/usr/local/lib /usr/lib/gcc/x86_64-linux-gnu/6/include-fixed /usr/include/x86_64-linux-gnu /usr/lib /lib/x86_64-linux-gnu /lib/../lib /usr/lib/x86_64-linux-gnu /usr/lib/../lib /lib
    libs=-lpthread -lnsl -lgdbm -ldb -ldl -lm -lcrypt -lutil -lc -lgdbm_compat
    perllibs=-lpthread -lnsl -ldl -lm -lcrypt -lutil -lc
    libc=libc-2.24.so, so=so, useshrplib=false, libperl=libperl.a
    gnulibc_version='2.24'
  Dynamic Linking:
    dlsrc=dl_dlopen.xs, dlext=so, d_dlsymun=undef, ccdlflags='-Wl,-E'
    cccdlflags='-fPIC', lddlflags='-shared -O2 -L/usr/local/lib -fstack-protector-strong'


Characteristics of this binary (from libperl): 
  Compile-time options: HAS_TIMES PERLIO_LAYERS PERL_COPY_ON_WRITE
                        PERL_DONT_CREATE_GVSV
                        PERL_HASH_FUNC_ONE_AT_A_TIME_HARD PERL_MALLOC_WRAP
                        PERL_PRESERVE_IVUV USE_64_BIT_ALL USE_64_BIT_INT
                        USE_LARGE_FILES USE_LOCALE USE_LOCALE_COLLATE
                        USE_LOCALE_CTYPE USE_LOCALE_NUMERIC USE_LOCALE_TIME
                        USE_PERLIO USE_PERL_ATOF
  Built under linux
  Compiled at Nov  4 2017 07:45:02
  %ENV:
    PERL5LIB=""
    PERL5OPT=""
    PERL5_CPANPLUS_IS_RUNNING="2484"
    PERL5_CPAN_IS_RUNNING="2484"
    PERL5_CPAN_IS_RUNNING_IN_RECURSION="2376,2484"
    PERLDOC="-MPod::Perldoc::ToTextOverstrike"
    PERL_BATCH="yes"
    PERL_CANARY_STABILITY_NOPROMPT="1"
    PERL_CPAN_REPORTER_CONFIG="/var/tmp/cpansmoker-1023/2019061820/cpanreporter_000_config.ini"
    PERL_EXTUTILS_AUTOINSTALL="--defaultdeps"
    PERL_USE_UNSAFE_INC="1"
  @INC:
    /opt/perl-5.24.3/lib/site_perl/5.24.3/x86_64-linux
    /opt/perl-5.24.3/lib/site_perl/5.24.3
    /opt/perl-5.24.3/lib/5.24.3/x86_64-linux
    /opt/perl-5.24.3/lib/5.24.3
    .