Report for Catalyst-Controller-ActionRole-0.17

Back
From: metabase:user:0d96120c-29e2-11e5-b049-ede3035d37de
Subject: PASS Catalyst-Controller-ActionRole-0.17 v5.14.4 Mac OS X
Date: 2015-07-19T21:54:27Z

This distribution has been tested as part of the CPAN Testers
project, supporting the Perl programming language.  See
http://wiki.cpantesters.org/ for more information or email
questions to cpan-testers-discuss@perl.org


--
Dear Karen Etheridge,

This is a computer-generated report for Catalyst-Controller-ActionRole-0.17
on perl 5.14.4, created by CPAN-Reporter-1.2014.

Thank you for uploading your work to CPAN.  Congratulations!
All tests were successful.

Sections of this report:

    * Tester comments
    * Program output
    * Prerequisites
    * Environment and other context

------------------------------
TESTER COMMENTS
------------------------------

Additional comments from tester:

none provided

------------------------------
PROGRAM OUTPUT
------------------------------

Output from './Build test':

# 
# Versions for all modules listed in MYMETA.json (including optional ones):
# 
# === Configure Requires ===
# 
#     Module               Want  Have
#     ------------------- ----- -----
#     Module::Build::Tiny 0.039 0.039
# 
# === Test Requires ===
# 
#     Module                 Want     Have
#     ---------------------- ---- --------
#     Catalyst                any  5.90093
#     Catalyst::Action        any    undef
#     Catalyst::Action::REST 0.74     1.19
#     Catalyst::Test          any    undef
#     ExtUtils::MakeMaker     any     7.04
#     File::Spec              any     3.47
#     FindBin                 any     1.50
#     Moose::Role             any   2.1405
#     Test::More              any 1.001014
#     lib                     any     0.63
#     namespace::clean        any     0.25
#     parent                  any    0.225
#     strict                  any     1.04
#     warnings                any     1.12
# 
# === Test Recommends ===
# 
#     Module         Want     Have
#     ---------- -------- --------
#     CPAN::Meta 2.120900 2.150005
# 
# === Runtime Requires ===
# 
#     Module                   Want    Have
#     --------------------- ------- -------
#     Catalyst::Controller      any   undef
#     Catalyst::Runtime     5.80025 5.90093
#     Catalyst::Utils           any   undef
#     Class::Load               any    0.23
#     List::Util                any    1.42
#     Moose                     any  2.1405
#     Moose::Meta::Class        any  2.1405
#     MooseX::Types::Moose      any    0.45
#     String::RewritePrefix   0.004   0.007
#     namespace::autoclean      any    0.26
# 
t/00-report-prereqs.t ..... ok
t/action-class.t .......... ok
t/basic.t ................. ok
t/basic_rest.t ............ ok
t/execution-via-config.t .. ok
t/execution-via-does.t .... ok
All tests successful.
Files=6, Tests=44,  2 wallclock secs ( 0.02 usr  0.01 sys +  2.53 cusr  0.12 csys =  2.68 CPU)
Result: PASS

------------------------------
PREREQUISITES
------------------------------

Prerequisite modules loaded:

requires:

    Module                 Need    Have    
    ---------------------- ------- --------
    Catalyst::Controller   0       0       
    Catalyst::Runtime      5.80025 5.90093 
    Catalyst::Utils        0       0       
    Class::Load            0       0.23    
    List::Util             0       1.42    
    Moose                  0       2.1405  
    Moose::Meta::Class     0       2.1405  
    MooseX::Types::Moose   0       0.45    
    namespace::autoclean   0       0.26    
    perl                   5.006   5.014004
    String::RewritePrefix  0.004   0.007   

build_requires:

    Module                 Need    Have    
    ---------------------- ------- --------
    Catalyst               0       5.90093 
    Catalyst::Action       0       0       
    Catalyst::Action::REST 0.74    1.19    
    Catalyst::Test         0       0       
    ExtUtils::MakeMaker    0       7.04    
    File::Spec             0       3.47    
    FindBin                0       1.50    
    lib                    0       0.63    
    Moose::Role            0       2.1405  
    namespace::clean       0       0.25    
    parent                 0       0.225   
    perl                   5.006   5.014004
    strict                 0       1.04    
    Test::More             0       1.001014
    warnings               0       1.12    

configure_requires:

    Module                 Need    Have    
    ---------------------- ------- --------
    Module::Build::Tiny    0.039   0.039   
    perl                   5.006   5.014004


------------------------------
ENVIRONMENT AND OTHER CONTEXT
------------------------------

Environment variables:

    LANG = en_US.UTF-8
    PATH = /Users/jmaslak/perl5/perlbrew/bin:/Users/jmaslak/perl5/perlbrew/perls/perl-5.14.4/bin:/Users/jmaslak/perl5/perlbrew/bin:/Users/jmaslak/perl5/perlbrew/perls/perl-5.22.0/bin:/Users/jmaslak/.rakudobrew/bin:/usr/local/bin:/usr/bin:/bin:/usr/sbin:/sbin:/opt/X11/bin
    PERL5LIB = 
    PERL5OPT = 
    PERL5_CPANPLUS_IS_RUNNING = 39421
    PERL5_CPAN_IS_RUNNING = 39421
    PERLBREW_BASHRC_VERSION = 0.73
    PERLBREW_HOME = /Users/jmaslak/.perlbrew
    PERLBREW_LIB = 
    PERLBREW_MANPATH = /Users/jmaslak/perl5/perlbrew/perls/perl-5.14.4/man
    PERLBREW_PATH = /Users/jmaslak/perl5/perlbrew/bin:/Users/jmaslak/perl5/perlbrew/perls/perl-5.14.4/bin
    PERLBREW_PERL = perl-5.14.4
    PERLBREW_ROOT = /Users/jmaslak/perl5/perlbrew
    PERLBREW_VERSION = 0.73
    PERL_LOCAL_LIB_ROOT = 
    SHELL = /bin/bash
    TERM = xterm-256color
    TMPDIR = /var/folders/4y/bn5_gsxn4496c8_l179hk9fc0000gn/T/
    VERSIONER_PERL_PREFER_32_BIT = no
    VERSIONER_PERL_VERSION = 5.18

Perl special variables (and OS-specific diagnostics, for MSWin32):

    $^X = /Users/jmaslak/perl5/perlbrew/perls/perl-5.14.4/bin/perl
    $UID/$EUID = 501 / 501
    $GID = 20 20 502 401 12 61 79 80 81 98 33 100 204 398 399 701
    $EGID = 20 20 502 401 12 61 79 80 81 98 33 100 204 398 399 701

Perl module toolchain versions installed:

    Module              Have     
    ------------------- ---------
    CPAN                1.9600_01
    CPAN::Meta          2.150005 
    Cwd                 3.47     
    ExtUtils::CBuilder  0.280203 
    ExtUtils::Command   1.17     
    ExtUtils::Install   1.56     
    ExtUtils::MakeMaker 7.04     
    ExtUtils::Manifest  1.70     
    ExtUtils::ParseXS   3.24     
    File::Spec          3.47     
    JSON                2.90     
    JSON::PP            2.27300  
    Module::Build       0.4214   
    Module::Signature   n/a      
    Parse::CPAN::Meta   1.4417   
    Test::Harness       3.35     
    Test::More          1.001014 
    YAML                1.15     
    YAML::Syck          n/a      
    version             0.9912   


--

Summary of my perl5 (revision 5 version 14 subversion 4) configuration:
   
  Platform:
    osname=darwin, osvers=14.4.0, archname=darwin-2level
    uname='darwin jmaslakpro.antelope.net 14.4.0 darwin kernel version 14.4.0: sun apr 19 20:30:19 pdt 2015; root:xnu-2782.30.2~2release_x86_64 x86_64 '
    config_args='-de -Dprefix=/Users/jmaslak/perl5/perlbrew/perls/perl-5.14.4 -Aeval:scriptdir=/Users/jmaslak/perl5/perlbrew/perls/perl-5.14.4/bin'
    hint=recommended, useposix=true, d_sigaction=define
    useithreads=undef, usemultiplicity=undef
    useperlio=define, d_sfio=undef, uselargefiles=define, usesocks=undef
    use64bitint=define, use64bitall=define, uselongdouble=undef
    usemymalloc=n, bincompat5005=undef
  Compiler:
    cc='cc', ccflags ='-fno-common -DPERL_DARWIN -fno-strict-aliasing -pipe -fstack-protector -I/opt/local/include',
    optimize='-O3',
    cppflags='-fno-common -DPERL_DARWIN -fno-strict-aliasing -pipe -fstack-protector -I/opt/local/include'
    ccversion='', gccversion='4.2.1 Compatible Apple LLVM 6.0 (clang-600.0.56)', gccosandvers=''
    intsize=4, longsize=8, ptrsize=8, doublesize=8, byteorder=12345678
    d_longlong=define, longlongsize=8, d_longdbl=define, longdblsize=16
    ivtype='long', ivsize=8, nvtype='double', nvsize=8, Off_t='off_t', lseeksize=8
    alignbytes=8, prototype=define
  Linker and Libraries:
    ld='env MACOSX_DEPLOYMENT_TARGET=10.3 cc', ldflags =' -fstack-protector -L/opt/local/lib'
    libpth=/opt/local/lib /usr/lib
    libs=-lgdbm -ldbm -ldl -lm -lutil -lc
    perllibs=-ldl -lm -lutil -lc
    libc=, so=dylib, useshrplib=false, libperl=libperl.a
    gnulibc_version=''
  Dynamic Linking:
    dlsrc=dl_dlopen.xs, dlext=bundle, d_dlsymun=undef, ccdlflags=' '
    cccdlflags=' ', lddlflags=' -bundle -undefined dynamic_lookup -L/opt/local/lib -fstack-protector'


Characteristics of this binary (from libperl): 
  Compile-time options: PERL_DONT_CREATE_GVSV PERL_MALLOC_WRAP
                        PERL_PRESERVE_IVUV USE_64_BIT_ALL USE_64_BIT_INT
                        USE_LARGE_FILES USE_PERLIO USE_PERL_ATOF
  Locally applied patches:
	Devel::PatchPerl 1.38
  Built under darwin
  Compiled at Jul 11 2015 12:58:36
  %ENV:
    PERL5LIB=""
    PERL5OPT=""
    PERL5_CPANPLUS_IS_RUNNING="39421"
    PERL5_CPAN_IS_RUNNING="39421"
    PERLBREW_BASHRC_VERSION="0.73"
    PERLBREW_HOME="/Users/jmaslak/.perlbrew"
    PERLBREW_LIB=""
    PERLBREW_MANPATH="/Users/jmaslak/perl5/perlbrew/perls/perl-5.14.4/man"
    PERLBREW_PATH="/Users/jmaslak/perl5/perlbrew/bin:/Users/jmaslak/perl5/perlbrew/perls/perl-5.14.4/bin"
    PERLBREW_PERL="perl-5.14.4"
    PERLBREW_ROOT="/Users/jmaslak/perl5/perlbrew"
    PERLBREW_VERSION="0.73"
    PERL_LOCAL_LIB_ROOT=""
  @INC:
    /Users/jmaslak/perl5/perlbrew/perls/perl-5.14.4/lib/site_perl/5.14.4/darwin-2level
    /Users/jmaslak/perl5/perlbrew/perls/perl-5.14.4/lib/site_perl/5.14.4
    /Users/jmaslak/perl5/perlbrew/perls/perl-5.14.4/lib/5.14.4/darwin-2level
    /Users/jmaslak/perl5/perlbrew/perls/perl-5.14.4/lib/5.14.4
    .