Report for Crypt-SSLeay-0.72

Back
From: metabase:user:9762ed18-1c33-11e1-8beb-fb37bdc4c604
Subject: PASS Crypt-SSLeay-0.72 v5.21.2 GNU/Linux
Date: 2014-07-23T19:44:14Z

This distribution has been tested as part of the CPAN Testers
project, supporting the Perl programming language.  See
http://wiki.cpantesters.org/ for more information or email
questions to cpan-testers-discuss@perl.org


--
Dear A. Sinan Unur,

This is a computer-generated report for Crypt-SSLeay-0.72
on perl 5.21.2, created by CPAN-Reporter-1.2011.

Thank you for uploading your work to CPAN.  Congratulations!
All tests were successful.

Sections of this report:

    * Tester comments
    * Program output
    * Prerequisites
    * Environment and other context

------------------------------
TESTER COMMENTS
------------------------------

Additional comments from tester:

none provided

------------------------------
PROGRAM OUTPUT
------------------------------

Output from '/usr/bin/make test':

Running Mkbootstrap for Crypt::SSLeay ()
chmod 644 SSLeay.bs
PERL_DL_NONLAZY=1 /home/kevin/perl5/perlbrew/perls/perl-5.21.2/bin/perl5.21.2 "-MExtUtils::Command::MM" "-MTest::Harness" "-e" "undef *Test::Harness::Switches; test_harness(0, 'blib/lib', 'blib/arch')" t/*.t
t/00-basic.t ..... ok
t/01-connect.t ... ok
# Reading configuration from 'test.config' on linux
# network_tests : 0
t/02-live.t ...... skipped: Network tests disabled
#     You have 'OpenSSL 1.0.1f 6 Jan 2014'
#     built on 'built on: Fri Jun 20 18:53:23 UTC 2014'
#     and SSL Heartbeats are not disabled.
# 
#     That means your client may be vulnerable to a server exploiting the
#     Heartbleed bug unless the vulnerability was patched without changing
#     version. The vulnerability was disclosed on or about 2014/04/07. A
#     build date after that may indicate that the library you are using
#     may have been patched. You should check this.
# 
#     The risk is compounded by the fact that Crypt::SSLeay does not
#     verify hosts.  You can still force install Crypt::SSLeay, but you
#     need to be aware of this issue, and strongly consider upgrading to a
#     safer version of OpenSSL.
# 
#     See also:
# 
#       - https://cve.mitre.org/cgi-bin/cvename.cgi?name=CVE-2014-0160
#       - http://isc.sans.edu/diary/17945
#       - http://seclists.org/fulldisclosure/2014/Apr/91
t/03-version.t ... ok
t/boilerplate.t .. ok
t/manifest.t ..... skipped: Author tests not required for installation
All tests successful.
Files=6, Tests=43,  2 wallclock secs ( 0.11 usr  0.01 sys +  0.78 cusr  0.07 csys =  0.97 CPU)
Result: PASS

------------------------------
PREREQUISITES
------------------------------

Prerequisite modules loaded:

requires:

    Module               Need     Have    
    -------------------- -------- --------
    LWP::Protocol::https 6.02     6.04    
    MIME::Base64         0        3.14    
    perl                 5.006    5.021002

build_requires:

    Module               Need     Have    
    -------------------- -------- --------
    ExtUtils::MakeMaker  0        6.98    
    Test::More           0.19     1.001003
    Try::Tiny            0.19     0.22    

configure_requires:

    Module               Need     Have    
    -------------------- -------- --------
    ExtUtils::CBuilder   0.280205 0.280216
    Getopt::Long         0        2.42    
    Path::Class          0.26     0.33    
    Try::Tiny            0.19     0.22    


------------------------------
ENVIRONMENT AND OTHER CONTEXT
------------------------------

Environment variables:

    LANG = en_GB.UTF-8
    LANGUAGE = en_GB:en
    LC_COLLATE = en_GB.UTF-8
    LC_CTYPE = en_GB.UTF-8
    LC_MESSAGES = en_GB.UTF-8
    LC_TIME = en_DK.utf8
    PATH = /home/kevin/perl5/perlbrew/bin:/home/kevin/perl5/perlbrew/perls/perl-5.21.2/bin:/home/kevin/bin:/usr/local/sbin:/usr/local/bin:/usr/sbin:/usr/bin:/sbin:/bin:/usr/games:/usr/local/games
    PERL5LIB = 
    PERL5OPT = 
    PERL5_CPANPLUS_IS_RUNNING = 3524
    PERL5_CPAN_IS_RUNNING = 3524
    PERLBREW_BASHRC_VERSION = 0.61
    PERLBREW_HOME = /home/kevin/.perlbrew
    PERLBREW_MANPATH = /home/kevin/perl5/perlbrew/perls/perl-5.21.2/man
    PERLBREW_PATH = /home/kevin/perl5/perlbrew/bin:/home/kevin/perl5/perlbrew/perls/perl-5.21.2/bin
    PERLBREW_PERL = perl-5.21.2
    PERLBREW_ROOT = /home/kevin/perl5/perlbrew
    PERLBREW_VERSION = 0.61
    SHELL = /bin/bash
    TERM = screen

Perl special variables (and OS-specific diagnostics, for MSWin32):

    $^X = /home/kevin/perl5/perlbrew/perls/perl-5.21.2/bin/perl5.21.2
    $UID/$EUID = 1001 / 1001
    $GID = 1001 4 20 21 24 25 26 29 30 39 40 44 46 104 105 112 119 122 132 1000 1001
    $EGID = 1001 4 20 21 24 25 26 29 30 39 40 44 46 104 105 112 119 122 132 1000 1001

Perl module toolchain versions installed:

    Module              Have    
    ------------------- --------
    CPAN                2.05    
    CPAN::Meta          2.141520
    Cwd                 3.49    
    ExtUtils::CBuilder  0.280216
    ExtUtils::Command   1.18    
    ExtUtils::Install   1.68    
    ExtUtils::MakeMaker 6.98    
    ExtUtils::Manifest  1.64    
    ExtUtils::ParseXS   3.25    
    File::Spec          3.49    
    JSON                2.90    
    JSON::PP            2.27203 
    Module::Build       0.4206  
    Module::Signature   n/a     
    Parse::CPAN::Meta   1.4414  
    Test::Harness       3.32    
    Test::More          1.001003
    YAML                0.97    
    YAML::Syck          n/a     
    version             0.9908  


--

Summary of my perl5 (revision 5 version 21 subversion 2) configuration:
   
  Platform:
    osname=linux, osvers=3.13.0-30-generic, archname=i686-linux-thread-multi
    uname='linux vinny 3.13.0-30-generic #54-ubuntu smp mon jun 9 22:47:59 utc 2014 i686 i686 i686 gnulinux '
    config_args='-de -Dprefix=/home/kevin/perl5/perlbrew/perls/perl-5.21.2 -Dusethreads -Dusedevel -Aeval:scriptdir=/home/kevin/perl5/perlbrew/perls/perl-5.21.2/bin'
    hint=recommended, useposix=true, d_sigaction=define
    useithreads=define, usemultiplicity=define
    use64bitint=undef, use64bitall=undef, uselongdouble=undef
    usemymalloc=n, bincompat5005=undef
  Compiler:
    cc='cc', ccflags ='-D_REENTRANT -D_GNU_SOURCE -fwrapv -fno-strict-aliasing -pipe -fstack-protector -I/usr/local/include -D_LARGEFILE_SOURCE -D_FILE_OFFSET_BITS=64',
    optimize='-O2',
    cppflags='-D_REENTRANT -D_GNU_SOURCE -fwrapv -fno-strict-aliasing -pipe -fstack-protector -I/usr/local/include'
    ccversion='', gccversion='4.8.2', gccosandvers=''
    intsize=4, longsize=4, ptrsize=4, doublesize=8, byteorder=1234
    d_longlong=define, longlongsize=8, d_longdbl=define, longdblsize=12
    ivtype='long', ivsize=4, nvtype='double', nvsize=8, Off_t='off_t', lseeksize=8
    alignbytes=4, prototype=define
  Linker and Libraries:
    ld='cc', ldflags =' -fstack-protector -L/usr/local/lib'
    libpth=/usr/local/lib /usr/lib/gcc/i686-linux-gnu/4.8/include-fixed /usr/include/i386-linux-gnu /usr/lib /lib/i386-linux-gnu /lib/../lib /usr/lib/i386-linux-gnu /usr/lib/../lib /lib
    libs=-lnsl -ldl -lm -lcrypt -lutil -lpthread -lc
    perllibs=-lnsl -ldl -lm -lcrypt -lutil -lpthread -lc
    libc=libc-2.19.so, so=so, useshrplib=false, libperl=libperl.a
    gnulibc_version='2.19'
  Dynamic Linking:
    dlsrc=dl_dlopen.xs, dlext=so, d_dlsymun=undef, ccdlflags='-Wl,-E'
    cccdlflags='-fPIC', lddlflags='-shared -O2 -L/usr/local/lib -fstack-protector'


Characteristics of this binary (from libperl): 
  Compile-time options: HAS_TIMES MULTIPLICITY PERLIO_LAYERS
                        PERL_DONT_CREATE_GVSV
                        PERL_HASH_FUNC_ONE_AT_A_TIME_HARD
                        PERL_IMPLICIT_CONTEXT PERL_MALLOC_WRAP
                        PERL_NEW_COPY_ON_WRITE PERL_PRESERVE_IVUV
                        PERL_USE_DEVEL USE_ITHREADS USE_LARGE_FILES
                        USE_LOCALE USE_LOCALE_COLLATE USE_LOCALE_CTYPE
                        USE_LOCALE_NUMERIC USE_LOCALE_TIME USE_PERLIO
                        USE_PERL_ATOF USE_REENTRANT_API
  Built under linux
  Compiled at Jul 21 2014 12:26:19
  %ENV:
    PERL5LIB=""
    PERL5OPT=""
    PERL5_CPANPLUS_IS_RUNNING="3524"
    PERL5_CPAN_IS_RUNNING="3524"
    PERLBREW_BASHRC_VERSION="0.61"
    PERLBREW_HOME="/home/kevin/.perlbrew"
    PERLBREW_MANPATH="/home/kevin/perl5/perlbrew/perls/perl-5.21.2/man"
    PERLBREW_PATH="/home/kevin/perl5/perlbrew/bin:/home/kevin/perl5/perlbrew/perls/perl-5.21.2/bin"
    PERLBREW_PERL="perl-5.21.2"
    PERLBREW_ROOT="/home/kevin/perl5/perlbrew"
    PERLBREW_VERSION="0.61"
  @INC:
    /home/kevin/perl5/perlbrew/perls/perl-5.21.2/lib/site_perl/5.21.2/i686-linux-thread-multi
    /home/kevin/perl5/perlbrew/perls/perl-5.21.2/lib/site_perl/5.21.2
    /home/kevin/perl5/perlbrew/perls/perl-5.21.2/lib/5.21.2/i686-linux-thread-multi
    /home/kevin/perl5/perlbrew/perls/perl-5.21.2/lib/5.21.2
    .