Back
From: metabase:user:3198cbe2-2aae-11df-837a-5e0a49663a4f
Subject: PASS Catalyst-Model-Search-0.01 v5.14.3 GNU/Linux
Date: 2012-12-18T02:36:28Z
This distribution has been tested as part of the CPAN Testers
project, supporting the Perl programming language. See
http://wiki.cpantesters.org/ for more information or email
questions to cpan-testers-discuss@perl.org
--
Dear Marcus Ramberg,
This is a computer-generated report for Catalyst-Model-Search-0.01
on perl 5.14.3, created by CPAN-Reporter-1.2008.
Thank you for uploading your work to CPAN. Congratulations!
All tests were successful.
Sections of this report:
* Tester comments
* Program output
* Prerequisites
* Environment and other context
------------------------------
TESTER COMMENTS
------------------------------
Additional comments from tester:
this report is from an automated smoke testing program
and was not reviewed by a human for accuracy
------------------------------
PROGRAM OUTPUT
------------------------------
Output from '/usr/bin/make test':
/home/graham/perls/perl-5.14.3/bin/perl "-Iinc" Makefile.PL --config= --installdeps=Net::LuceneWS,0
Cannot determine perl version info from lib/Catalyst/Model/Search/Plucene.pm
*** Since we're running under CPANPLUS, I'll just let it take care
of the dependency's installation later.
PERL_DL_NONLAZY=1 /home/graham/perls/perl-5.14.3/bin/perl "-MExtUtils::Command::MM" "-e" "test_harness(0, 'inc', 'blib/lib', 'blib/arch')" t/01use.t t/02pod.t t/03podcoverage.t t/04plucene.t t/05plucene_snowball.t t/06lucene_ws.t
Useless use of a variable in void context at /home/graham/perls/perl-5.14.3/lib/site_perl/5.14.3/x86_64-linux/List/MoreUtils.pm line 362.
t/01use.t ............... ok
t/02pod.t ............... skipped: set TEST_POD to enable this test
t/03podcoverage.t ....... skipped: set TEST_POD to enable this test
Useless use of a variable in void context at /home/graham/perls/perl-5.14.3/lib/site_perl/5.14.3/x86_64-linux/List/MoreUtils.pm line 362.
require TestApp::M::Search::LuceneWebService was successful but the package is not defined. at /home/graham/perls/perl-5.14.3/lib/site_perl/5.14.3/Catalyst/Utils.pm line 312.
TestApp::C::Plucene is using the deprecated Catalyst::Base, update your application as this will be removed in the next major release at /home/graham/perls/perl-5.14.3/lib/site_perl/5.14.3/Catalyst/Base.pm line 7.
TestApp::C::Lucene_WS is using the deprecated Catalyst::Base, update your application as this will be removed in the next major release at /home/graham/perls/perl-5.14.3/lib/site_perl/5.14.3/Catalyst/Base.pm line 7.
Catalyst::Model::Search::Plucene uses NEXT, which is deprecated. Please see the Class::C3::Adopt::NEXT documentation for details. NEXT used at /home/graham/perls/caches/perl-5.14.3/build/Catalyst-Model-Search-0.01-ggaMn8/blib/lib/Catalyst/Model/Search/Plucene.pm line 16.
Catalyst::Model::Search uses NEXT, which is deprecated. Please see the Class::C3::Adopt::NEXT documentation for details. NEXT used at /home/graham/perls/caches/perl-5.14.3/build/Catalyst-Model-Search-0.01-ggaMn8/blib/lib/Catalyst/Model/Search.pm line 12.
TestApp::M::Search::Plucene is using the deprecated Catalyst::Base, update your application as this will be removed in the next major release at /home/graham/perls/perl-5.14.3/lib/site_perl/5.14.3/Catalyst/Base.pm line 7.
[warn] Your application is using the deprecated ::[MVC]:: type naming scheme.
Please switch your class names to ::Model::, ::View:: and ::Controller: as appropriate.
[warn] Action methods (default) found defined in your application class, TestApp. This is deprecated, please move them into a Root controller.
Name "Package::DeprecationManager::a" used only once: possible typo at /home/graham/perls/perl-5.14.3/lib/site_perl/5.14.3/x86_64-linux/List/MoreUtils.pm line 362.
Name "Package::DeprecationManager::b" used only once: possible typo at /home/graham/perls/perl-5.14.3/lib/site_perl/5.14.3/x86_64-linux/List/MoreUtils.pm line 362.
t/04plucene.t ........... ok
Useless use of a variable in void context at /home/graham/perls/perl-5.14.3/lib/site_perl/5.14.3/x86_64-linux/List/MoreUtils.pm line 362.
require TestApp::M::Search::LuceneWebService was successful but the package is not defined. at /home/graham/perls/perl-5.14.3/lib/site_perl/5.14.3/Catalyst/Utils.pm line 312.
TestApp::C::Plucene is using the deprecated Catalyst::Base, update your application as this will be removed in the next major release at /home/graham/perls/perl-5.14.3/lib/site_perl/5.14.3/Catalyst/Base.pm line 7.
TestApp::C::Lucene_WS is using the deprecated Catalyst::Base, update your application as this will be removed in the next major release at /home/graham/perls/perl-5.14.3/lib/site_perl/5.14.3/Catalyst/Base.pm line 7.
Catalyst::Model::Search::Plucene uses NEXT, which is deprecated. Please see the Class::C3::Adopt::NEXT documentation for details. NEXT used at /home/graham/perls/caches/perl-5.14.3/build/Catalyst-Model-Search-0.01-ggaMn8/blib/lib/Catalyst/Model/Search/Plucene.pm line 16.
Catalyst::Model::Search uses NEXT, which is deprecated. Please see the Class::C3::Adopt::NEXT documentation for details. NEXT used at /home/graham/perls/caches/perl-5.14.3/build/Catalyst-Model-Search-0.01-ggaMn8/blib/lib/Catalyst/Model/Search.pm line 12.
TestApp::M::Search::Plucene is using the deprecated Catalyst::Base, update your application as this will be removed in the next major release at /home/graham/perls/perl-5.14.3/lib/site_perl/5.14.3/Catalyst/Base.pm line 7.
[warn] Your application is using the deprecated ::[MVC]:: type naming scheme.
Please switch your class names to ::Model::, ::View:: and ::Controller: as appropriate.
[warn] Action methods (default) found defined in your application class, TestApp. This is deprecated, please move them into a Root controller.
Name "Package::DeprecationManager::a" used only once: possible typo at /home/graham/perls/perl-5.14.3/lib/site_perl/5.14.3/x86_64-linux/List/MoreUtils.pm line 362.
Name "Package::DeprecationManager::b" used only once: possible typo at /home/graham/perls/perl-5.14.3/lib/site_perl/5.14.3/x86_64-linux/List/MoreUtils.pm line 362.
t/05plucene_snowball.t .. ok
t/06lucene_ws.t ......... skipped: needs Net::LuceneWS for testing
All tests successful.
Files=6, Tests=27, 5 wallclock secs ( 0.04 usr 0.01 sys + 3.32 cusr 0.18 csys = 3.55 CPU)
Result: PASS
------------------------------
PREREQUISITES
------------------------------
Prerequisite modules loaded:
requires:
Module Need Have
------------------------------------------- ---- -------
Catalyst 5.62 5.90019
Class::Std 0 0.011
! Net::LuceneWS 0 n/a
Plucene 1.24 1.25
Plucene::Plugin::Analyzer::SnowballAnalyzer 1.1 1.1
build_requires:
Module Need Have
------------------------------------------- ---- -------
ExtUtils::MakeMaker 0 6.64
------------------------------
ENVIRONMENT AND OTHER CONTEXT
------------------------------
Environment variables:
AUTOMATED_TESTING = 1
LANG = C
PATH = /home/graham/perls/perl-5.14.3/bin:/home/graham/perls/perl-5.14.3/bin:/home/graham/perls/perl-5.14.3/bin:/usr/local/bin:/usr/bin:/bin:/usr/local/sbin:/usr/sbin:/sbin:/usr/bin/core_perl
PERL5LIB =
PERL5OPT =
PERL5_CPANPLUS_IS_RUNNING = 3971
PERL5_CPAN_IS_RUNNING = 3971
PERL5_CPAN_IS_RUNNING_IN_RECURSION = 5207,3971
PERL_CR_SMOKER_CURRENT = Catalyst-Model-Search-0.01
PERL_EXTUTILS_AUTOINSTALL = --defaultdeps
PERL_MM_USE_DEFAULT = 1
SHELL = /bin/bash
TERM = xterm
Perl special variables (and OS-specific diagnostics, for MSWin32):
$^X = /home/graham/perls/perl-5.14.3/bin/perl
$UID/$EUID = 1000 / 1000
$GID = 100 100
$EGID = 100 100
Perl module toolchain versions installed:
Module Have
------------------- --------
CPAN 1.9800
CPAN::Meta 2.120921
Cwd 3.33
ExtUtils::CBuilder 0.280205
ExtUtils::Command 1.17
ExtUtils::Install 1.56
ExtUtils::MakeMaker 6.64
ExtUtils::Manifest 1.61
ExtUtils::ParseXS 3.18
File::Spec 3.33
JSON 2.53
JSON::PP 2.27200
Module::Build 0.4003
Module::Signature 0.70
Parse::CPAN::Meta 1.4404
Test::Harness 3.23
Test::More 0.98
YAML 0.84
YAML::Syck 1.22
version 0.9901
--
Summary of my perl5 (revision 5 version 14 subversion 3) configuration:
Platform:
osname=linux, osvers=3.5.6-1-arch, archname=x86_64-linux
uname='linux grosics 3.5.6-1-arch #1 smp preempt sun oct 7 19:30:49 cest 2012 x86_64 gnulinux '
config_args=''
hint=recommended, useposix=true, d_sigaction=define
useithreads=undef, usemultiplicity=undef
useperlio=define, d_sfio=undef, uselargefiles=define, usesocks=undef
use64bitint=define, use64bitall=define, uselongdouble=undef
usemymalloc=n, bincompat5005=undef
Compiler:
cc='cc', ccflags ='-fno-strict-aliasing -pipe -fstack-protector -I/usr/local/include -D_LARGEFILE_SOURCE -D_FILE_OFFSET_BITS=64',
optimize='-O2',
cppflags='-fno-strict-aliasing -pipe -fstack-protector -I/usr/local/include'
ccversion='', gccversion='4.7.2', gccosandvers=''
intsize=4, longsize=8, ptrsize=8, doublesize=8, byteorder=12345678
d_longlong=define, longlongsize=8, d_longdbl=define, longdblsize=16
ivtype='long', ivsize=8, nvtype='double', nvsize=8, Off_t='off_t', lseeksize=8
alignbytes=8, prototype=define
Linker and Libraries:
ld='cc', ldflags =' -fstack-protector -L/usr/local/lib'
libpth=/usr/local/lib /lib/../lib /usr/lib/../lib /lib /usr/lib
libs=-lnsl -lgdbm -ldb -ldl -lm -lcrypt -lutil -lc -lgdbm_compat
perllibs=-lnsl -ldl -lm -lcrypt -lutil -lc
libc=/lib/libc-2.16.so, so=so, useshrplib=false, libperl=libperl.a
gnulibc_version='2.16'
Dynamic Linking:
dlsrc=dl_dlopen.xs, dlext=so, d_dlsymun=undef, ccdlflags='-Wl,-E'
cccdlflags='-fPIC', lddlflags='-shared -O2 -L/usr/local/lib -fstack-protector'
Characteristics of this binary (from libperl):
Compile-time options: PERL_DONT_CREATE_GVSV PERL_MALLOC_WRAP
PERL_PRESERVE_IVUV USE_64_BIT_ALL USE_64_BIT_INT
USE_LARGE_FILES USE_PERLIO USE_PERL_ATOF
Built under linux
Compiled at Dec 10 2012 17:55:35
%ENV:
PERL5LIB=""
PERL5OPT=""
PERL5_CPANPLUS_IS_RUNNING="3971"
PERL5_CPAN_IS_RUNNING="3971"
PERL5_CPAN_IS_RUNNING_IN_RECURSION="5207,3971"
PERL_CR_SMOKER_CURRENT="Catalyst-Model-Search-0.01"
PERL_EXTUTILS_AUTOINSTALL="--defaultdeps"
PERL_MM_USE_DEFAULT="1"
@INC:
/home/graham/perls/perl-5.14.3/lib/site_perl/5.14.3/x86_64-linux
/home/graham/perls/perl-5.14.3/lib/site_perl/5.14.3
/home/graham/perls/perl-5.14.3/lib/5.14.3/x86_64-linux
/home/graham/perls/perl-5.14.3/lib/5.14.3
.