Software-License-GPL_3_Artistic_2_0 v0.02 Perl 5 v5.13.0 i686-linux-thread-multi

Status
Pass
From
Serguei Trouchelle (STRO)
Dist
Software-License-GPL_3_Artistic_2_0 v0.02
Platform
Perl 5 v5.13.0 i686-linux-thread-multi
Date
2010-05-12T09:42:48
ID
b96b185c-5daa-11df-8c58-83a05eed3741
This distribution has been tested as part of the CPAN Testers
project, supporting the Perl programming language.  See
http://wiki.cpantesters.org/ for more information or email
questions to cpan-testers-discuss@perl.org


--
Dear Caleb Cushing,

This is a computer-generated report for Software-License-GPL_3_Artistic_2_0-0.02
on perl 5.13.0, created by CPAN-Reporter-1.1711.

Thank you for uploading your work to CPAN.  Congratulations!
All tests were successful.

Sections of this report:

    * Tester comments
    * Program output
    * Prerequisites
    * Environment and other context

------------------------------
TESTER COMMENTS
------------------------------

Additional comments from tester:

this report is from an automated smoke testing program
and was not reviewed by a human for accuracy

------------------------------
PROGRAM OUTPUT
------------------------------

Output from '/usr/bin/make test':

PERL_DL_NONLAZY=1 /home/stro/perl5130/bin/perl "-MExtUtils::Command::MM" "-e" "test_harness(0, 'blib/lib', 'blib/arch')" t/*.t
t/00-compile.t ............... ok
# Testing with Perl 5.013000, /home/stro/perl5130/bin/perl
#     Carp version is 1.15
#     ExtUtils::MakeMaker version is 6.5601
#     File::Find version is 1.15
#     File::Temp version is 0.22
#     Scalar::Util version is 1.23
#     Software::License version is 0.015
#     Software::License::Artistic_2_0 version is undefined
#     Software::License::GPL_3 version is undefined
#     Test::More version is 0.94
#     parent version is 0.223
t/000-report-versions.t ...... ok
t/release-minimum-version.t .. skipped: these tests are for release candidate testing
t/release-pod-coverage.t ..... skipped: these tests are for release candidate testing
t/release-pod-syntax.t ....... skipped: these tests are for release candidate testing
t/release-synopsis.t ......... skipped: these tests are for release candidate testing
All tests successful.
Files=6, Tests=11,  3 wallclock secs ( 0.04 usr  0.07 sys +  0.70 cusr  0.30 csys =  1.11 CPU)
Result: PASS

------------------------------
PREREQUISITES
------------------------------

Prerequisite modules loaded:

requires:

    Module                          Need  Have    
    ------------------------------- ----- --------
    Carp                            0     1.15    
    File::Find                      0     1.15    
    File::Temp                      0     0.22    
    parent                          0     0.223   
    perl                            5.004 5.013000
    Scalar::Util                    0     1.23    
    Software::License               0     0.015   
    Software::License::Artistic_2_0 0     0       
    Software::License::GPL_3        0     0       
    Test::More                      0.88  0.94    

configure_requires:

    Module                          Need  Have    
    ------------------------------- ----- --------
    ExtUtils::MakeMaker             6.31  6.5601  


------------------------------
ENVIRONMENT AND OTHER CONTEXT
------------------------------

Environment variables:

    AUTOMATED_TESTING = 1
    LANG = en_US.UTF-8
    PATH = /usr/local/bin:/usr/bin:/bin:/usr/games
    PERL5LIB = 
    PERL5OPT = 
    PERL5_CPANPLUS_IS_RUNNING = 13301
    PERL5_CPAN_IS_RUNNING = 13301
    PERL5_CPAN_IS_RUNNING_IN_RECURSION = 831,13301
    PERL_CR_SMOKER_CURRENT = Software-License-GPL_3_Artistic_2_0-0.02
    PERL_EXTUTILS_AUTOINSTALL = --defaultdeps
    PERL_MM_USE_DEFAULT = 1
    SHELL = /bin/bash
    TERM = xterm

Perl special variables (and OS-specific diagnostics, for MSWin32):

    $^X = /home/stro/perl5130/bin/perl
    $UID/$EUID = 1000 / 1000
    $GID = 1000 20 24 25 29 44 46 1000
    $EGID = 1000 20 24 25 29 44 46 1000

Perl module toolchain versions installed:

    Module              Have   
    ------------------- -------
    CPAN                1.94_56
    Cwd                 3.31   
    ExtUtils::CBuilder  0.27   
    ExtUtils::Command   1.16   
    ExtUtils::Install   1.55   
    ExtUtils::MakeMaker 6.5601 
    ExtUtils::Manifest  1.57   
    ExtUtils::ParseXS   2.21   
    File::Spec          3.31   
    Module::Build       0.3607 
    Module::Signature   0.63   
    Test::Harness       3.17   
    Test::More          0.94   
    YAML                0.71   
    YAML::Syck          1.07   
    version             0.82   


--

Summary of my perl5 (revision 5 version 13 subversion 0) configuration:
   
  Platform:
    osname=linux, osvers=2.6.26-2-686, archname=i686-linux
    uname='linux debian5 2.6.26-2-686 #1 smp wed nov 4 20:45:37 utc 2009 i686 gnulinux '
    config_args=''
    hint=recommended, useposix=true, d_sigaction=define
    useithreads=undef, usemultiplicity=undef
    useperlio=define, d_sfio=undef, uselargefiles=define, usesocks=undef
    use64bitint=undef, use64bitall=undef, uselongdouble=undef
    usemymalloc=n, bincompat5005=undef
  Compiler:
    cc='cc', ccflags ='-fno-strict-aliasing -pipe -fstack-protector -I/usr/local/include -D_LARGEFILE_SOURCE -D_FILE_OFFSET_BITS=64',
    optimize='-O2',
    cppflags='-fno-strict-aliasing -pipe -fstack-protector -I/usr/local/include'
    ccversion='', gccversion='4.3.2', gccosandvers=''
    intsize=4, longsize=4, ptrsize=4, doublesize=8, byteorder=1234
    d_longlong=define, longlongsize=8, d_longdbl=define, longdblsize=12
    ivtype='long', ivsize=4, nvtype='double', nvsize=8, Off_t='off_t', lseeksize=8
    alignbytes=4, prototype=define
  Linker and Libraries:
    ld='cc', ldflags =' -fstack-protector -L/usr/local/lib'
    libpth=/usr/local/lib /lib /usr/lib
    libs=-lnsl -ldb -ldl -lm -lcrypt -lutil -lc
    perllibs=-lnsl -ldl -lm -lcrypt -lutil -lc
    libc=/lib/libc-2.7.so, so=so, useshrplib=false, libperl=libperl.a
    gnulibc_version='2.7'
  Dynamic Linking:
    dlsrc=dl_dlopen.xs, dlext=so, d_dlsymun=undef, ccdlflags='-Wl,-E'
    cccdlflags='-fPIC', lddlflags='-shared -O2 -L/usr/local/lib -fstack-protector'


Characteristics of this binary (from libperl): 
  Compile-time options: PERL_DONT_CREATE_GVSV PERL_MALLOC_WRAP
                        USE_LARGE_FILES USE_PERLIO USE_PERL_ATOF
  Built under linux
  Compiled at Apr 22 2010 13:51:35
  %ENV:
    PERL5LIB=""
    PERL5OPT=""
    PERL5_CPANPLUS_IS_RUNNING="13301"
    PERL5_CPAN_IS_RUNNING="13301"
    PERL5_CPAN_IS_RUNNING_IN_RECURSION="831,13301"
    PERL_CR_SMOKER_CURRENT="Software-License-GPL_3_Artistic_2_0-0.02"
    PERL_EXTUTILS_AUTOINSTALL="--defaultdeps"
    PERL_MM_USE_DEFAULT="1"
  @INC:
    /home/stro/perl5130/lib/site_perl/5.13.0/i686-linux
    /home/stro/perl5130/lib/site_perl/5.13.0
    /home/stro/perl5130/lib/5.13.0/i686-linux
    /home/stro/perl5130/lib/5.13.0
    .