Back
From: metabase:user:d49cdc72-1559-11e3-9efd-e82414baadac
Subject: PASS Dist-Zilla-Plugin-MungeFile-WithDataSection-0.009 v5.23.8 GNU/Linux
Date: 2016-02-21T03:25:15Z
This distribution has been tested as part of the CPAN Testers
project, supporting the Perl programming language. See
http://wiki.cpantesters.org/ for more information or email
questions to cpan-testers-discuss@perl.org
--
Dear ETHER,
This is a computer-generated report for Dist-Zilla-Plugin-MungeFile-WithDataSection-0.009
on perl 5.23.8, created by App::cpanminus::reporter 0.13 (1.7039).
Thank you for uploading your work to CPAN. Congratulations!
All tests were successful.
Sections of this report:
* Tester comments
* Program output
* Prerequisites
* Environment and other context
------------------------------
TESTER COMMENTS
------------------------------
Additional comments from tester:
none provided
------------------------------
PROGRAM OUTPUT
------------------------------
Output from '':
Building and testing Dist-Zilla-Plugin-MungeFile-WithDataSection-0.009
cp lib/Dist/Zilla/Plugin/MungeFile/WithData.pm blib/lib/Dist/Zilla/Plugin/MungeFile/WithData.pm
cp lib/Dist/Zilla/Plugin/MungeFile/WithDataSection.pm blib/lib/Dist/Zilla/Plugin/MungeFile/WithDataSection.pm
#
# Versions for all modules listed in MYMETA.json (including optional ones):
#
# === Configure Requires ===
#
# Module Want Have
# ------------------- ----- -----
# Module::Build::Tiny 0.007 0.039
#
# === Test Requires ===
#
# Module Want Have
# ------------------- ---- --------
# ExtUtils::MakeMaker any 7.10_01
# File::Spec any 3.63
# Path::Tiny any 0.076
# Test::DZil any 5.043
# Test::Deep any 1.120
# Test::More 0.88 1.001014
# if any 0.0606
# utf8 any 1.19
#
# === Test Recommends ===
#
# Module Want Have
# ---------- -------- --------
# CPAN::Meta 2.120900 2.150005
#
# === Runtime Requires ===
#
# Module Want Have
# ------------------------------ -------- ------
# Dist::Zilla 4.300039 5.043
# Dist::Zilla::Plugin::MungeFile any 0.009
# Moose any 2.1605
# namespace::autoclean any 0.28
# strict any 1.10
# warnings any 1.35
#
# === Other Modules ===
#
# Module Have
# --------------------- --------
# CPAN::Meta::Validator 2.150005
# Pod::Coverage 0.23
#
t/00-report-prereqs.t .. ok
t/04-not-loadable.t .... ok
t/02-file.t ............ ok
t/01-basic.t ........... ok
t/zzz-check-breaks.t ... ok
t/05-data-after-end.t .. ok
t/03-more-args.t ....... ok
All tests successful.
Files=7, Tests=13, 3 wallclock secs ( 0.03 usr 0.02 sys + 9.20 cusr 0.66 csys = 9.91 CPU)
Result: PASS
------------------------------
PREREQUISITES
------------------------------
Prerequisite modules loaded:
No requirements found
------------------------------
ENVIRONMENT AND OTHER CONTEXT
------------------------------
Environment variables:
LANG = en_NZ.UTF8
LC_CTYPE = en_NZ.UTF8
LC_TIME = en_NZ.UTF8
PATH = /home/kent/perl5/perlbrew/bin:/home/kent/perl5/perlbrew/perls/5.23.8-nossp-sdbm-nopmc/bin:/home/kent/.perl6/2013.04/bin:/home/kent/.gem/ruby/1.8/bin/:/home/kent/.rvm/gems/ruby-2.1.2/bin:/home/kent/.rvm/gems/ruby-2.1.2@global/bin:/home/kent/.rvm/rubies/ruby-2.1.2/bin:/usr/local/bin:/usr/bin:/bin:/opt/bin:/usr/x86_64-pc-linux-gnu/gcc-bin/5.3.0:/usr/games/bin:/home/kent/.rvm/bin:/home/kent/.rvm/bin
PERLBREW_BASHRC_VERSION = 0.74
PERLBREW_HOME = /home/kent/.perlbrew
PERLBREW_MANPATH = /home/kent/perl5/perlbrew/perls/5.23.8-nossp-sdbm-nopmc/man
PERLBREW_PATH = /home/kent/perl5/perlbrew/bin:/home/kent/perl5/perlbrew/perls/5.23.8-nossp-sdbm-nopmc/bin
PERLBREW_PERL = 5.23.8-nossp-sdbm-nopmc
PERLBREW_ROOT = /home/kent/perl5/perlbrew
PERLBREW_VERSION = 0.74
PERL_CPANM_OPT = --prompt --reinstall --interactive --with-recommends --with-suggests --with-develop --verify --mirror http://cpan.metacpan.org/ --no-lwp
PERL_MM_OPT = INSTALLDIRS=site
SHELL = /bin/bash
TERM = rxvt-unicode-256color
Perl special variables (and OS-specific diagnostics, for MSWin32):
EGID = 1000 4 6 10 16 18 19 27 35 78 80 85 100 102 103 104 105 114 115 116 117 118 250 965 968 974 976 994 1000
EUID = 1000
EXECUTABLE_NAME = /home/kent/perl5/perlbrew/perls/5.23.8-nossp-sdbm-nopmc/bin/perl5.23.8
GID = 1000 4 6 10 16 18 19 27 35 78 80 85 100 102 103 104 105 114 115 116 117 118 250 965 968 974 976 994 1000
UID = 1000
Perl module toolchain versions installed:
Module Have
------------------- --------
CPAN 2.11
CPAN::Meta 2.150005
Cwd 3.63
ExtUtils::CBuilder 0.280225
ExtUtils::Command 7.10
ExtUtils::Install 2.04
ExtUtils::MakeMaker 7.10_01
ExtUtils::Manifest 1.70
ExtUtils::ParseXS 3.31
File::Spec 3.63
JSON 2.90
JSON::PP 2.27300
Module::Build 0.4216
Module::Signature 0.79
Parse::CPAN::Meta 1.4417
Test::Harness 3.36
Test::More 1.001014
YAML 1.15
YAML::Syck 1.29
version 0.9909
--
Summary of my perl5 (revision 5 version 23 subversion 8) configuration:
Platform:
osname=linux, osvers=4.4.0-gentoo-r1, archname=x86_64-linux
uname='linux katipo2 4.4.0-gentoo-r1 #33 smp preempt fri jan 29 01:03:50 nzdt 2016 x86_64 intel(r) core(tm) i5-2410m cpu @ 2.30ghz genuineintel gnulinux '
config_args='-de -Dprefix=/home/kent/perl5/perlbrew/perls/5.23.8-nossp-sdbm-nopmc -Doptimize= -fno-stack-protector -O3 -march=native -mtune=native -Dman1dir=none -Dman3dir=none -Dusedevel -Accflags= -fno-stack-protector -DPERL_HASH_FUNC_SDBM -DPERL_DISABLE_PMC -Aldflags= -fno-stack-protector -Aeval:scriptdir=/home/kent/perl5/perlbrew/perls/5.23.8-nossp-sdbm-nopmc/bin'
hint=recommended, useposix=true, d_sigaction=define
useithreads=undef, usemultiplicity=undef
use64bitint=define, use64bitall=define, uselongdouble=undef
usemymalloc=n, bincompat5005=undef
Compiler:
cc='cc', ccflags ='-fno-stack-protector -DPERL_HASH_FUNC_SDBM -DPERL_DISABLE_PMC -fwrapv -fno-strict-aliasing -pipe -fstack-protector-strong -D_LARGEFILE_SOURCE -D_FILE_OFFSET_BITS=64',
optimize=' -fno-stack-protector -O3 -march=native -mtune=native',
cppflags='-fno-stack-protector -DPERL_HASH_FUNC_SDBM -DPERL_DISABLE_PMC -fwrapv -fno-strict-aliasing -pipe -fstack-protector-strong'
ccversion='', gccversion='5.3.0', gccosandvers=''
intsize=4, longsize=8, ptrsize=8, doublesize=8, byteorder=12345678, doublekind=3
d_longlong=define, longlongsize=8, d_longdbl=define, longdblsize=16, longdblkind=3
ivtype='long', ivsize=8, nvtype='double', nvsize=8, Off_t='off_t', lseeksize=8
alignbytes=8, prototype=define
Linker and Libraries:
ld='cc', ldflags =' -fno-stack-protector -fstack-protector-strong -L/usr/local/lib'
libpth=/usr/lib/gcc/x86_64-pc-linux-gnu/5.3.0/include-fixed /usr/lib /usr/local/lib /lib/../lib64 /usr/lib/../lib64 /lib /lib64 /usr/lib64 /usr/local/lib64
libs=-lpthread -lnsl -lgdbm -ldb -ldl -lm -lcrypt -lutil -lc -lgdbm_compat
perllibs=-lpthread -lnsl -ldl -lm -lcrypt -lutil -lc
libc=libc-2.22.so, so=so, useshrplib=false, libperl=libperl.a
gnulibc_version='2.22'
Dynamic Linking:
dlsrc=dl_dlopen.xs, dlext=so, d_dlsymun=undef, ccdlflags='-Wl,-E'
cccdlflags='-fPIC', lddlflags='-shared -fno-stack-protector -O3 -march=native -mtune=native -L/usr/local/lib -fstack-protector-strong'
Characteristics of this binary (from libperl):
Compile-time options: HAS_TIMES PERLIO_LAYERS PERL_COPY_ON_WRITE
PERL_DISABLE_PMC PERL_DONT_CREATE_GVSV
PERL_HASH_FUNC_SDBM PERL_MALLOC_WRAP
PERL_PRESERVE_IVUV PERL_USE_DEVEL USE_64_BIT_ALL
USE_64_BIT_INT USE_LARGE_FILES USE_LOCALE
USE_LOCALE_COLLATE USE_LOCALE_CTYPE
USE_LOCALE_NUMERIC USE_LOCALE_TIME USE_PERLIO
USE_PERL_ATOF
Built under linux
Compiled at Feb 21 2016 13:37:28
%ENV:
PERLBREW_BASHRC_VERSION="0.74"
PERLBREW_HOME="/home/kent/.perlbrew"
PERLBREW_MANPATH="/home/kent/perl5/perlbrew/perls/5.23.8-nossp-sdbm-nopmc/man"
PERLBREW_PATH="/home/kent/perl5/perlbrew/bin:/home/kent/perl5/perlbrew/perls/5.23.8-nossp-sdbm-nopmc/bin"
PERLBREW_PERL="5.23.8-nossp-sdbm-nopmc"
PERLBREW_ROOT="/home/kent/perl5/perlbrew"
PERLBREW_VERSION="0.74"
PERL_CPANM_OPT=" --prompt --reinstall --interactive --with-recommends --with-suggests --with-develop --verify --mirror http://cpan.metacpan.org/ --no-lwp"
PERL_MM_OPT=" INSTALLDIRS=site"
@INC:
/home/kent/perl5/perlbrew/perls/5.23.8-nossp-sdbm-nopmc/lib/site_perl/5.23.8/x86_64-linux
/home/kent/perl5/perlbrew/perls/5.23.8-nossp-sdbm-nopmc/lib/site_perl/5.23.8
/home/kent/perl5/perlbrew/perls/5.23.8-nossp-sdbm-nopmc/lib/5.23.8/x86_64-linux
/home/kent/perl5/perlbrew/perls/5.23.8-nossp-sdbm-nopmc/lib/5.23.8
.