Report for Class-InsideOut-1.13

Back
From: metabase:user:320bfe00-2aae-11df-837a-5e0a49663a4f
Subject: PASS Class-InsideOut-1.13 v5.22.0 GNU/Linux
Date: 2015-07-20T15:41:01Z

This distribution has been tested as part of the CPAN Testers
project, supporting the Perl programming language.  See
http://wiki.cpantesters.org/ for more information or email
questions to cpan-testers-discuss@perl.org


--
Dear David Golden,

This is a computer-generated report for Class-InsideOut-1.13
on perl 5.22.0, created by CPAN-Reporter-1.2014.

Thank you for uploading your work to CPAN.  Congratulations!
All tests were successful.

Sections of this report:

    * Tester comments
    * Program output
    * Prerequisites
    * Environment and other context

------------------------------
TESTER COMMENTS
------------------------------

Additional comments from tester:

this report is from an automated smoke testing program
and was not reviewed by a human for accuracy

------------------------------
PROGRAM OUTPUT
------------------------------

Output from '/usr/bin/make test':

PERL_DL_NONLAZY=1 "/home/sand/src/perl/repoperls/installed-perls/perl/v5.22.0/9980/bin/perl" "-MExtUtils::Command::MM" "-MTest::Harness" "-e" "undef *Test::Harness::Switches; test_harness(0, 'blib/lib', 'blib/arch')" t/*.t
t/00-compile.t ..................... ok
# Prerequisite Report:
#        Version Module               
#   ------------ ---------------------
#           1.36 Carp                 
#           0.36 Class::ISA           
#       5.022000 Config               
#           1.32 DynaLoader           
#           5.72 Exporter             
#        7.05_25 ExtUtils::MakeMaker  
#           1.29 File::Find           
#        3.56_02 File::Spec           
#        3.56_02 File::Spec::Functions
#         0.2304 File::Temp           
#           1.16 IO::File             
#           1.42 List::Util           
#           1.42 Scalar::Util         
#           2.53 Storable             
#   1.302007_002 Test::More           
#           0.20 XSLoader             
#           1.26 overload             
#           1.09 strict               
#           2.01 threads              
#           1.03 vars                 
#           1.32 warnings             
t/00-report-prereqs.t .............. ok
t/01_load.t ........................ ok
t/02_register.t .................... ok
t/03_properties.t .................. ok
t/04_threaded.t .................... ok
t/05_forking.t ..................... ok
t/06_export_ok.t ................... ok
t/07_synopsis_obj.t ................ ok
t/08_DEMOLISH.t .................... ok
t/09_foreign.t ..................... ok
t/10_storable_values.t ............. ok
t/11_storable_refs.t ............... ok
t/12_storable_hooks.t .............. ok
t/13_options.t ..................... ok
t/14_accessor_hooks.t .............. ok
t/15_no_weaken_fallback.t .......... skipped: Your Scalar::Util is XS only
t/16_property_argument_checking.t .. ok
t/17_option_argument_checking.t .... ok
t/18_register_argument_checking.t .. ok
t/19_storable_singleton.t .......... ok
t/20_storable_singleton_error.t .... ok
t/21_optional_new.t ................ ok
t/22_readonly.t .................... ok
t/23_accessor_hooks_blessed.t ...... ok
t/24_accessor_hooks_overloaded.t ... ok
t/25_accessor_hooks_typetiny.t ..... ok
All tests successful.
Files=27, Tests=444, 10 wallclock secs ( 0.11 usr  0.16 sys +  2.34 cusr  0.55 csys =  3.16 CPU)
Result: PASS

------------------------------
PREREQUISITES
------------------------------

Prerequisite modules loaded:

requires:

    Module                Need Have        
    --------------------- ---- ------------
    Carp                  0    1.36        
    Class::ISA            0    0.36        
    Exporter              0    5.72        
    overload              0    1.26        
    Scalar::Util          1.09 1.42        
    Storable              0    2.53        
    strict                0    1.09        
    vars                  0    1.03        

build_requires:

    Module                Need Have        
    --------------------- ---- ------------
    Config                0    5.022000    
    DynaLoader            0    1.32        
    ExtUtils::MakeMaker   0    7.05_25     
    File::Find            0    1.29        
    File::Spec            0    3.56_02     
    File::Spec::Functions 0    3.56_02     
    File::Temp            0    0.2304      
    IO::File              0    1.16        
    List::Util            0    1.42        
    Test::More            0.45 1.302007_002
    threads               0    2.01        
    warnings              0    1.32        
    XSLoader              0    0.20        

configure_requires:

    Module                Need Have        
    --------------------- ---- ------------
    ExtUtils::MakeMaker   6.30 7.05_25     


------------------------------
ENVIRONMENT AND OTHER CONTEXT
------------------------------

Environment variables:

    AUTOMATED_TESTING = 1
    LANG = en_US.UTF-8
    LANGUAGE = en_US:en
    PATH = /home/sand/bin:/usr/local/bin:/usr/bin:/bin:/usr/games:/usr/local/perl/bin:/usr/X11/bin:/sbin:/usr/sbin
    PERL5LIB = 
    PERL5OPT = 
    PERL5_CPANPLUS_IS_RUNNING = 20438
    PERL5_CPAN_IS_RUNNING = 20438
    PERL_MM_USE_DEFAULT = 1
    SHELL = /usr/bin/zsh
    TERM = screen

Perl special variables (and OS-specific diagnostics, for MSWin32):

    $^X = /home/sand/src/perl/repoperls/installed-perls/perl/v5.22.0/9980/bin/perl
    $UID/$EUID = 1005 / 1005
    $GID = 1005 1005
    $EGID = 1005 1005

Perl module toolchain versions installed:

    Module              Have        
    ------------------- ------------
    CPAN                2.11        
    CPAN::Meta          2.150005    
    Cwd                 3.56_02     
    ExtUtils::CBuilder  0.280223    
    ExtUtils::Command   7.05_25     
    ExtUtils::Install   2.04        
    ExtUtils::MakeMaker 7.05_25     
    ExtUtils::Manifest  1.70        
    ExtUtils::ParseXS   3.28        
    File::Spec          3.56_02     
    JSON                2.90        
    JSON::PP            2.27300     
    Module::Build       0.4214      
    Module::Signature   0.79        
    Parse::CPAN::Meta   1.4417      
    Test::Harness       3.35        
    Test::More          1.302007_002
    YAML                1.15        
    YAML::Syck          1.29        
    version             0.9912      


--

Summary of my perl5 (revision 5 version 22 subversion 0) configuration:
  Commit id: 70f63a4c7dba89e8e48b44de7978faae4319e693
  Platform:
    osname=linux, osvers=4.0.0-2-amd64, archname=x86_64-linux-thread-multi
    uname='linux k83 4.0.0-2-amd64 #1 smp debian 4.0.5-1 (2015-06-16) x86_64 gnulinux '
    config_args='-Dprefix=/home/sand/src/perl/repoperls/installed-perls/perl/v5.22.0/9980 -Dmyhostname=k83 -Dinstallusrbinperl=n -Uversiononly -Dusedevel -des -Ui_db -Duseithreads -Uuselongdouble -DDEBUGGING=-g'
    hint=recommended, useposix=true, d_sigaction=define
    useithreads=define, usemultiplicity=define
    use64bitint=define, use64bitall=define, uselongdouble=undef
    usemymalloc=n, bincompat5005=undef
  Compiler:
    cc='cc', ccflags ='-D_REENTRANT -D_GNU_SOURCE -fwrapv -fno-strict-aliasing -pipe -fstack-protector-strong -I/usr/local/include -D_LARGEFILE_SOURCE -D_FILE_OFFSET_BITS=64 -D_FORTIFY_SOURCE=2',
    optimize='-O2 -g',
    cppflags='-D_REENTRANT -D_GNU_SOURCE -fwrapv -fno-strict-aliasing -pipe -fstack-protector-strong -I/usr/local/include'
    ccversion='', gccversion='4.9.2', gccosandvers=''
    intsize=4, longsize=8, ptrsize=8, doublesize=8, byteorder=12345678, doublekind=3
    d_longlong=define, longlongsize=8, d_longdbl=define, longdblsize=16, longdblkind=3
    ivtype='long', ivsize=8, nvtype='double', nvsize=8, Off_t='off_t', lseeksize=8
    alignbytes=8, prototype=define
  Linker and Libraries:
    ld='cc', ldflags =' -fstack-protector-strong -L/usr/local/lib'
    libpth=/usr/local/lib /usr/lib/gcc/x86_64-linux-gnu/4.9/include-fixed /usr/include/x86_64-linux-gnu /usr/lib /lib/x86_64-linux-gnu /lib/../lib /usr/lib/x86_64-linux-gnu /usr/lib/../lib /lib
    libs=-lpthread -lnsl -lgdbm -ldb -ldl -lm -lcrypt -lutil -lc -lgdbm_compat
    perllibs=-lpthread -lnsl -ldl -lm -lcrypt -lutil -lc
    libc=libc-2.19.so, so=so, useshrplib=false, libperl=libperl.a
    gnulibc_version='2.19'
  Dynamic Linking:
    dlsrc=dl_dlopen.xs, dlext=so, d_dlsymun=undef, ccdlflags='-Wl,-E'
    cccdlflags='-fPIC', lddlflags='-shared -O2 -g -L/usr/local/lib -fstack-protector-strong'


Characteristics of this binary (from libperl): 
  Compile-time options: HAS_TIMES MULTIPLICITY PERLIO_LAYERS
                        PERL_DONT_CREATE_GVSV
                        PERL_HASH_FUNC_ONE_AT_A_TIME_HARD
                        PERL_IMPLICIT_CONTEXT PERL_MALLOC_WRAP
                        PERL_NEW_COPY_ON_WRITE PERL_PRESERVE_IVUV
                        PERL_USE_DEVEL USE_64_BIT_ALL USE_64_BIT_INT
                        USE_ITHREADS USE_LARGE_FILES USE_LOCALE
                        USE_LOCALE_COLLATE USE_LOCALE_CTYPE
                        USE_LOCALE_NUMERIC USE_LOCALE_TIME USE_PERLIO
                        USE_PERL_ATOF USE_REENTRANT_API
  Built under linux
  Compiled at Jun 30 2015 01:38:13
  %ENV:
    PERL5LIB=""
    PERL5OPT=""
    PERL5_CPANPLUS_IS_RUNNING="20438"
    PERL5_CPAN_IS_RUNNING="20438"
    PERL_MM_USE_DEFAULT="1"
  @INC:
    /home/sand/src/perl/repoperls/installed-perls/perl/v5.22.0/9980/lib/site_perl/5.22.0/x86_64-linux-thread-multi
    /home/sand/src/perl/repoperls/installed-perls/perl/v5.22.0/9980/lib/site_perl/5.22.0
    /home/sand/src/perl/repoperls/installed-perls/perl/v5.22.0/9980/lib/5.22.0/x86_64-linux-thread-multi
    /home/sand/src/perl/repoperls/installed-perls/perl/v5.22.0/9980/lib/5.22.0
    .