Smart-Comments v1.06 Perl 5 v5.27.6 amd64-freebsd
- Status
- Pass
- From
- Carlos Guevara
- Dist
-
Smart-Comments v1.06
- Platform
- Perl 5 v5.27.6 amd64-freebsd
- Date
- 2017-10-22 01:09:59
- ID
- b96269c4-b6c5-11e7-a848-c57201a45d38
This distribution has been tested as part of the CPAN Testers
project, supporting the Perl programming language. See
http://wiki.cpantesters.org/ for more information or email
questions to cpan-testers-discuss@perl.org
--
Dear Neil Bowers,
This is a computer-generated report for Smart-Comments-1.06
on perl 5.27.6, created by CPAN-Reporter-1.2018.
Thank you for uploading your work to CPAN. Congratulations!
All tests were successful.
Sections of this report:
* Tester comments
* Program output
* Prerequisites
* Environment and other context
------------------------------
TESTER COMMENTS
------------------------------
Additional comments from tester:
none provided
------------------------------
PROGRAM OUTPUT
------------------------------
Output from '/usr/bin/make test':
PERL_DL_NONLAZY=1 "/usr/home/cpan/bin/perl-blead/bin/perl5.27.6" "-MExtUtils::Command::MM" "-MTest::Harness" "-e" "undef *Test::Harness::Switches; test_harness(0, 'blib/lib', 'blib/arch')" t/*.t
# Testing Smart::Comments 1.06
t/00.load.t ................. ok
t/assert.t .................. ok
t/brackets.t ................ ok
t/c_like_for_loop.t ......... ok
t/check.t ................... ok
t/confirm.t ................. ok
t/ensure.t .................. ok
t/ENV_0.t ................... ok
t/ENV_1.t ................... ok
t/ENV_str.t ................. ok
t/insist.t .................. ok
t/labelled_perlish_loop.t ... ok
t/message.t ................. ok
t/perlish_for.t ............. ok
t/perlish_for_percentage.t .. ok
t/pod-coverage.t ............ skipped: Test::Pod::Coverage 1.04 required for testing POD coverage
t/pod.t ..................... ok
t/require.t ................. ok
t/selective.t ............... ok
t/simple_perlish_for.t ...... ok
t/var.t ..................... ok
t/verify.t .................. ok
t/while.t ................... ok
t/while_num.t ............... ok
All tests successful.
Files=24, Tests=120, 3 wallclock secs ( 0.08 usr 0.09 sys + 1.94 cusr 0.99 csys = 3.09 CPU)
Result: PASS
------------------------------
PREREQUISITES
------------------------------
Prerequisite modules loaded:
requires:
Module Need Have
------------------- ----- --------
Carp 0 1.43
Data::Dumper 0 2.167_02
Filter::Simple 0 0.94
List::Util 0 1.49
perl 5.008 5.027006
strict 0 1.11
Text::Balanced 0 2.03
warnings 0 1.37
build_requires:
Module Need Have
------------------- ----- --------
ExtUtils::MakeMaker 0 7.30
Test::More 0.99 1.302103
configure_requires:
Module Need Have
------------------- ----- --------
ExtUtils::MakeMaker 0 7.30
------------------------------
ENVIRONMENT AND OTHER CONTEXT
------------------------------
Environment variables:
LC_ALL = C
NONINTERACTIVE_TESTING = 1
PATH = /home/cpan/bin/perl-blead/bin:/home/cpan/bin:/sbin:/bin:/usr/sbin:/usr/bin:/usr/games:/usr/local/sbin:/usr/local/bin:/home/cpan/bin
PERL5LIB =
PERL5OPT =
PERL5_CPANPLUS_IS_RUNNING = 9936
PERL5_CPAN_IS_RUNNING = 9936
PERL_MM_USE_DEFAULT = 1
PERL_USE_UNSAFE_INC = 1
SHELL = /usr/local/bin/bash
TERM = screen
TMPDIR = /home/cpan/tmp
Perl special variables (and OS-specific diagnostics, for MSWin32):
$^X = /usr/home/cpan/bin/perl-blead/bin/perl5.27.6
$UID/$EUID = 1003 / 1003
$GID = 1003 1003
$EGID = 1003 1003
Perl module toolchain versions installed:
Module Have
------------------- --------
CPAN 2.18
CPAN::Meta 2.150010
Cwd 3.68
ExtUtils::CBuilder 0.280228
ExtUtils::Command 7.30
ExtUtils::Install 2.14
ExtUtils::MakeMaker 7.30
ExtUtils::Manifest 1.70
ExtUtils::ParseXS 3.35
File::Spec 3.68
JSON 2.94
JSON::PP 2.94
Module::Build 0.4224
Module::Signature n/a
Parse::CPAN::Meta 2.150010
Test::Harness 3.39
Test::More 1.302103
YAML n/a
YAML::Syck 1.30
version 0.9918
--
Summary of my perl5 (revision 5 version 27 subversion 6) configuration:
Commit id: 7e03b2e3e32ae079ac0c7a5d9698994cdf45ae35
Platform:
osname=freebsd
osvers=10.4-release
archname=amd64-freebsd
uname='freebsd cjg-freebsd10 10.4-release freebsd 10.4-release #0 r324094: fri sep 29 01:45:44 utc 2017 root@releng1.nyi.freebsd.org:usrobjusrsrcsysgeneric amd64 '
config_args='-des -Dprefix=~/bin/perl-blead -Dscriptdir=~/bin/perl-blead/bin -Duse64bitall -Dusedevel'
hint=recommended
useposix=true
d_sigaction=define
useithreads=undef
usemultiplicity=undef
use64bitint=define
use64bitall=define
uselongdouble=undef
usemymalloc=n
default_inc_excludes_dot=define
bincompat5005=undef
Compiler:
cc='cc'
ccflags ='-DHAS_FPSETMASK -DHAS_FLOATINGPOINT_H -fno-strict-aliasing -pipe -fstack-protector -I/usr/local/include -D_FORTIFY_SOURCE=2'
optimize='-O'
cppflags='-DHAS_FPSETMASK -DHAS_FLOATINGPOINT_H -fno-strict-aliasing -pipe -fstack-protector -I/usr/local/include'
ccversion=''
gccversion='4.2.1 Compatible FreeBSD Clang 3.4.1 (tags/RELEASE_34/dot1-final 208032)'
gccosandvers=''
intsize=4
longsize=8
ptrsize=8
doublesize=8
byteorder=12345678
doublekind=3
d_longlong=define
longlongsize=8
d_longdbl=define
longdblsize=16
longdblkind=3
ivtype='long'
ivsize=8
nvtype='double'
nvsize=8
Off_t='off_t'
lseeksize=8
alignbytes=8
prototype=undef
Linker and Libraries:
ld='cc'
ldflags ='-Wl,-E -fstack-protector -L/usr/local/lib'
libpth=/usr/lib /usr/local/lib /usr/include/clang/3.4.1 /usr/lib
libs=-lpthread -lgdbm -lm -lcrypt -lutil -lc -lelf
perllibs=-lpthread -lm -lcrypt -lutil -lc -lelf
libc=
so=so
useshrplib=false
libperl=libperl.a
gnulibc_version=''
Dynamic Linking:
dlsrc=dl_dlopen.xs
dlext=so
d_dlsymun=undef
ccdlflags=' '
cccdlflags='-DPIC -fPIC'
lddlflags='-shared -L/usr/local/lib -fstack-protector'
Characteristics of this binary (from libperl):
Compile-time options:
HAS_TIMES
PERLIO_LAYERS
PERL_COPY_ON_WRITE
PERL_DONT_CREATE_GVSV
PERL_MALLOC_WRAP
PERL_OP_PARENT
PERL_PRESERVE_IVUV
PERL_USE_DEVEL
USE_64_BIT_ALL
USE_64_BIT_INT
USE_LARGE_FILES
USE_LOCALE
USE_LOCALE_COLLATE
USE_LOCALE_CTYPE
USE_LOCALE_NUMERIC
USE_LOCALE_TIME
USE_PERLIO
USE_PERL_ATOF
Built under freebsd
Compiled at Oct 21 2017 18:08:37
%ENV:
PERL5LIB=""
PERL5OPT=""
PERL5_CPANPLUS_IS_RUNNING="9936"
PERL5_CPAN_IS_RUNNING="9936"
PERL_MM_USE_DEFAULT="1"
PERL_USE_UNSAFE_INC="1"
@INC:
/home/cpan/bin/perl-blead/lib/site_perl/5.27.6/amd64-freebsd
/home/cpan/bin/perl-blead/lib/site_perl/5.27.6
/home/cpan/bin/perl-blead/lib/5.27.6/amd64-freebsd
/home/cpan/bin/perl-blead/lib/5.27.6
.