Report for Shatterproof-0.14

Back
From: metabase:user:320bfe00-2aae-11df-837a-5e0a49663a4f
Subject: PASS Shatterproof-0.14 v5.25.9 GNU/Linux
Date: 2017-03-31T07:14:47Z

This distribution has been tested as part of the CPAN Testers
project, supporting the Perl programming language.  See
http://wiki.cpantesters.org/ for more information or email
questions to cpan-testers-discuss@perl.org


--
Dear Boutros Lab Software,

This is a computer-generated report for Shatterproof-0.14
on perl 5.25.9, created by CPAN-Reporter-1.2018.

Thank you for uploading your work to CPAN.  Congratulations!
All tests were successful.

Sections of this report:

    * Tester comments
    * Program output
    * Prerequisites
    * Environment and other context

------------------------------
TESTER COMMENTS
------------------------------

Additional comments from tester:

this report is from an automated smoke testing program
and was not reviewed by a human for accuracy

------------------------------
PROGRAM OUTPUT
------------------------------

Output from '/usr/bin/make test':

PERL_DL_NONLAZY=1 "/home/sand/src/perl/repoperls/installed-perls/host/k93msid/v5.25.9/5ea4/bin/perl" "-MExtUtils::Command::MM" "-MTest::Harness" "-e" "undef *Test::Harness::Switches; test_harness(0, 'blib/lib', 'blib/arch')" t/*.t
given is experimental at /tmp/loop_over_bdir-819-Vweg8H/Shatterproof-0.14-0/blib/lib/Shatterproof.pm line 429.
when is experimental at /tmp/loop_over_bdir-819-Vweg8H/Shatterproof-0.14-0/blib/lib/Shatterproof.pm line 430.
when is experimental at /tmp/loop_over_bdir-819-Vweg8H/Shatterproof-0.14-0/blib/lib/Shatterproof.pm line 432.
given is experimental at /tmp/loop_over_bdir-819-Vweg8H/Shatterproof-0.14-0/blib/lib/Shatterproof.pm line 3897.
when is experimental at /tmp/loop_over_bdir-819-Vweg8H/Shatterproof-0.14-0/blib/lib/Shatterproof.pm line 3898.
when is experimental at /tmp/loop_over_bdir-819-Vweg8H/Shatterproof-0.14-0/blib/lib/Shatterproof.pm line 3899.
when is experimental at /tmp/loop_over_bdir-819-Vweg8H/Shatterproof-0.14-0/blib/lib/Shatterproof.pm line 3900.
when is experimental at /tmp/loop_over_bdir-819-Vweg8H/Shatterproof-0.14-0/blib/lib/Shatterproof.pm line 3901.
when is experimental at /tmp/loop_over_bdir-819-Vweg8H/Shatterproof-0.14-0/blib/lib/Shatterproof.pm line 3902.
when is experimental at /tmp/loop_over_bdir-819-Vweg8H/Shatterproof-0.14-0/blib/lib/Shatterproof.pm line 3903.
when is experimental at /tmp/loop_over_bdir-819-Vweg8H/Shatterproof-0.14-0/blib/lib/Shatterproof.pm line 3904.
when is experimental at /tmp/loop_over_bdir-819-Vweg8H/Shatterproof-0.14-0/blib/lib/Shatterproof.pm line 3905.
when is experimental at /tmp/loop_over_bdir-819-Vweg8H/Shatterproof-0.14-0/blib/lib/Shatterproof.pm line 3906.
when is experimental at /tmp/loop_over_bdir-819-Vweg8H/Shatterproof-0.14-0/blib/lib/Shatterproof.pm line 3907.
when is experimental at /tmp/loop_over_bdir-819-Vweg8H/Shatterproof-0.14-0/blib/lib/Shatterproof.pm line 3908.
when is experimental at /tmp/loop_over_bdir-819-Vweg8H/Shatterproof-0.14-0/blib/lib/Shatterproof.pm line 3909.
when is experimental at /tmp/loop_over_bdir-819-Vweg8H/Shatterproof-0.14-0/blib/lib/Shatterproof.pm line 3910.
when is experimental at /tmp/loop_over_bdir-819-Vweg8H/Shatterproof-0.14-0/blib/lib/Shatterproof.pm line 3911.
when is experimental at /tmp/loop_over_bdir-819-Vweg8H/Shatterproof-0.14-0/blib/lib/Shatterproof.pm line 3912.
when is experimental at /tmp/loop_over_bdir-819-Vweg8H/Shatterproof-0.14-0/blib/lib/Shatterproof.pm line 3913.
when is experimental at /tmp/loop_over_bdir-819-Vweg8H/Shatterproof-0.14-0/blib/lib/Shatterproof.pm line 3914.
when is experimental at /tmp/loop_over_bdir-819-Vweg8H/Shatterproof-0.14-0/blib/lib/Shatterproof.pm line 3915.
when is experimental at /tmp/loop_over_bdir-819-Vweg8H/Shatterproof-0.14-0/blib/lib/Shatterproof.pm line 3916.
t/analyze_cnv_data.t ............................... ok
given is experimental at /tmp/loop_over_bdir-819-Vweg8H/Shatterproof-0.14-0/blib/lib/Shatterproof.pm line 429.
when is experimental at /tmp/loop_over_bdir-819-Vweg8H/Shatterproof-0.14-0/blib/lib/Shatterproof.pm line 430.
when is experimental at /tmp/loop_over_bdir-819-Vweg8H/Shatterproof-0.14-0/blib/lib/Shatterproof.pm line 432.
given is experimental at /tmp/loop_over_bdir-819-Vweg8H/Shatterproof-0.14-0/blib/lib/Shatterproof.pm line 3897.
when is experimental at /tmp/loop_over_bdir-819-Vweg8H/Shatterproof-0.14-0/blib/lib/Shatterproof.pm line 3898.
when is experimental at /tmp/loop_over_bdir-819-Vweg8H/Shatterproof-0.14-0/blib/lib/Shatterproof.pm line 3899.
when is experimental at /tmp/loop_over_bdir-819-Vweg8H/Shatterproof-0.14-0/blib/lib/Shatterproof.pm line 3900.
when is experimental at /tmp/loop_over_bdir-819-Vweg8H/Shatterproof-0.14-0/blib/lib/Shatterproof.pm line 3901.
when is experimental at /tmp/loop_over_bdir-819-Vweg8H/Shatterproof-0.14-0/blib/lib/Shatterproof.pm line 3902.
when is experimental at /tmp/loop_over_bdir-819-Vweg8H/Shatterproof-0.14-0/blib/lib/Shatterproof.pm line 3903.
when is experimental at /tmp/loop_over_bdir-819-Vweg8H/Shatterproof-0.14-0/blib/lib/Shatterproof.pm line 3904.
when is experimental at /tmp/loop_over_bdir-819-Vweg8H/Shatterproof-0.14-0/blib/lib/Shatterproof.pm line 3905.
when is experimental at /tmp/loop_over_bdir-819-Vweg8H/Shatterproof-0.14-0/blib/lib/Shatterproof.pm line 3906.
when is experimental at /tmp/loop_over_bdir-819-Vweg8H/Shatterproof-0.14-0/blib/lib/Shatterproof.pm line 3907.
when is experimental at /tmp/loop_over_bdir-819-Vweg8H/Shatterproof-0.14-0/blib/lib/Shatterproof.pm line 3908.
when is experimental at /tmp/loop_over_bdir-819-Vweg8H/Shatterproof-0.14-0/blib/lib/Shatterproof.pm line 3909.
when is experimental at /tmp/loop_over_bdir-819-Vweg8H/Shatterproof-0.14-0/blib/lib/Shatterproof.pm line 3910.
when is experimental at /tmp/loop_over_bdir-819-Vweg8H/Shatterproof-0.14-0/blib/lib/Shatterproof.pm line 3911.
when is experimental at /tmp/loop_over_bdir-819-Vweg8H/Shatterproof-0.14-0/blib/lib/Shatterproof.pm line 3912.
when is experimental at /tmp/loop_over_bdir-819-Vweg8H/Shatterproof-0.14-0/blib/lib/Shatterproof.pm line 3913.
when is experimental at /tmp/loop_over_bdir-819-Vweg8H/Shatterproof-0.14-0/blib/lib/Shatterproof.pm line 3914.
when is experimental at /tmp/loop_over_bdir-819-Vweg8H/Shatterproof-0.14-0/blib/lib/Shatterproof.pm line 3915.
when is experimental at /tmp/loop_over_bdir-819-Vweg8H/Shatterproof-0.14-0/blib/lib/Shatterproof.pm line 3916.
t/analyze_likely_regions.t ......................... ok
given is experimental at /tmp/loop_over_bdir-819-Vweg8H/Shatterproof-0.14-0/blib/lib/Shatterproof.pm line 429.
when is experimental at /tmp/loop_over_bdir-819-Vweg8H/Shatterproof-0.14-0/blib/lib/Shatterproof.pm line 430.
when is experimental at /tmp/loop_over_bdir-819-Vweg8H/Shatterproof-0.14-0/blib/lib/Shatterproof.pm line 432.
given is experimental at /tmp/loop_over_bdir-819-Vweg8H/Shatterproof-0.14-0/blib/lib/Shatterproof.pm line 3897.
when is experimental at /tmp/loop_over_bdir-819-Vweg8H/Shatterproof-0.14-0/blib/lib/Shatterproof.pm line 3898.
when is experimental at /tmp/loop_over_bdir-819-Vweg8H/Shatterproof-0.14-0/blib/lib/Shatterproof.pm line 3899.
when is experimental at /tmp/loop_over_bdir-819-Vweg8H/Shatterproof-0.14-0/blib/lib/Shatterproof.pm line 3900.
when is experimental at /tmp/loop_over_bdir-819-Vweg8H/Shatterproof-0.14-0/blib/lib/Shatterproof.pm line 3901.
when is experimental at /tmp/loop_over_bdir-819-Vweg8H/Shatterproof-0.14-0/blib/lib/Shatterproof.pm line 3902.
when is experimental at /tmp/loop_over_bdir-819-Vweg8H/Shatterproof-0.14-0/blib/lib/Shatterproof.pm line 3903.
when is experimental at /tmp/loop_over_bdir-819-Vweg8H/Shatterproof-0.14-0/blib/lib/Shatterproof.pm line 3904.
when is experimental at /tmp/loop_over_bdir-819-Vweg8H/Shatterproof-0.14-0/blib/lib/Shatterproof.pm line 3905.
when is experimental at /tmp/loop_over_bdir-819-Vweg8H/Shatterproof-0.14-0/blib/lib/Shatterproof.pm line 3906.
when is experimental at /tmp/loop_over_bdir-819-Vweg8H/Shatterproof-0.14-0/blib/lib/Shatterproof.pm line 3907.
when is experimental at /tmp/loop_over_bdir-819-Vweg8H/Shatterproof-0.14-0/blib/lib/Shatterproof.pm line 3908.
when is experimental at /tmp/loop_over_bdir-819-Vweg8H/Shatterproof-0.14-0/blib/lib/Shatterproof.pm line 3909.
when is experimental at /tmp/loop_over_bdir-819-Vweg8H/Shatterproof-0.14-0/blib/lib/Shatterproof.pm line 3910.
when is experimental at /tmp/loop_over_bdir-819-Vweg8H/Shatterproof-0.14-0/blib/lib/Shatterproof.pm line 3911.
when is experimental at /tmp/loop_over_bdir-819-Vweg8H/Shatterproof-0.14-0/blib/lib/Shatterproof.pm line 3912.
when is experimental at /tmp/loop_over_bdir-819-Vweg8H/Shatterproof-0.14-0/blib/lib/Shatterproof.pm line 3913.
when is experimental at /tmp/loop_over_bdir-819-Vweg8H/Shatterproof-0.14-0/blib/lib/Shatterproof.pm line 3914.
when is experimental at /tmp/loop_over_bdir-819-Vweg8H/Shatterproof-0.14-0/blib/lib/Shatterproof.pm line 3915.
when is experimental at /tmp/loop_over_bdir-819-Vweg8H/Shatterproof-0.14-0/blib/lib/Shatterproof.pm line 3916.
t/analyze_trans_data.t ............................. ok
given is experimental at /tmp/loop_over_bdir-819-Vweg8H/Shatterproof-0.14-0/blib/lib/Shatterproof.pm line 429.
when is experimental at /tmp/loop_over_bdir-819-Vweg8H/Shatterproof-0.14-0/blib/lib/Shatterproof.pm line 430.
when is experimental at /tmp/loop_over_bdir-819-Vweg8H/Shatterproof-0.14-0/blib/lib/Shatterproof.pm line 432.
given is experimental at /tmp/loop_over_bdir-819-Vweg8H/Shatterproof-0.14-0/blib/lib/Shatterproof.pm line 3897.
when is experimental at /tmp/loop_over_bdir-819-Vweg8H/Shatterproof-0.14-0/blib/lib/Shatterproof.pm line 3898.
when is experimental at /tmp/loop_over_bdir-819-Vweg8H/Shatterproof-0.14-0/blib/lib/Shatterproof.pm line 3899.
when is experimental at /tmp/loop_over_bdir-819-Vweg8H/Shatterproof-0.14-0/blib/lib/Shatterproof.pm line 3900.
when is experimental at /tmp/loop_over_bdir-819-Vweg8H/Shatterproof-0.14-0/blib/lib/Shatterproof.pm line 3901.
when is experimental at /tmp/loop_over_bdir-819-Vweg8H/Shatterproof-0.14-0/blib/lib/Shatterproof.pm line 3902.
when is experimental at /tmp/loop_over_bdir-819-Vweg8H/Shatterproof-0.14-0/blib/lib/Shatterproof.pm line 3903.
when is experimental at /tmp/loop_over_bdir-819-Vweg8H/Shatterproof-0.14-0/blib/lib/Shatterproof.pm line 3904.
when is experimental at /tmp/loop_over_bdir-819-Vweg8H/Shatterproof-0.14-0/blib/lib/Shatterproof.pm line 3905.
when is experimental at /tmp/loop_over_bdir-819-Vweg8H/Shatterproof-0.14-0/blib/lib/Shatterproof.pm line 3906.
when is experimental at /tmp/loop_over_bdir-819-Vweg8H/Shatterproof-0.14-0/blib/lib/Shatterproof.pm line 3907.
when is experimental at /tmp/loop_over_bdir-819-Vweg8H/Shatterproof-0.14-0/blib/lib/Shatterproof.pm line 3908.
when is experimental at /tmp/loop_over_bdir-819-Vweg8H/Shatterproof-0.14-0/blib/lib/Shatterproof.pm line 3909.
when is experimental at /tmp/loop_over_bdir-819-Vweg8H/Shatterproof-0.14-0/blib/lib/Shatterproof.pm line 3910.
when is experimental at /tmp/loop_over_bdir-819-Vweg8H/Shatterproof-0.14-0/blib/lib/Shatterproof.pm line 3911.
when is experimental at /tmp/loop_over_bdir-819-Vweg8H/Shatterproof-0.14-0/blib/lib/Shatterproof.pm line 3912.
when is experimental at /tmp/loop_over_bdir-819-Vweg8H/Shatterproof-0.14-0/blib/lib/Shatterproof.pm line 3913.
when is experimental at /tmp/loop_over_bdir-819-Vweg8H/Shatterproof-0.14-0/blib/lib/Shatterproof.pm line 3914.
when is experimental at /tmp/loop_over_bdir-819-Vweg8H/Shatterproof-0.14-0/blib/lib/Shatterproof.pm line 3915.
when is experimental at /tmp/loop_over_bdir-819-Vweg8H/Shatterproof-0.14-0/blib/lib/Shatterproof.pm line 3916.
t/calculate_chromosome_localization.t .............. ok
given is experimental at /tmp/loop_over_bdir-819-Vweg8H/Shatterproof-0.14-0/blib/lib/Shatterproof.pm line 429.
when is experimental at /tmp/loop_over_bdir-819-Vweg8H/Shatterproof-0.14-0/blib/lib/Shatterproof.pm line 430.
when is experimental at /tmp/loop_over_bdir-819-Vweg8H/Shatterproof-0.14-0/blib/lib/Shatterproof.pm line 432.
given is experimental at /tmp/loop_over_bdir-819-Vweg8H/Shatterproof-0.14-0/blib/lib/Shatterproof.pm line 3897.
when is experimental at /tmp/loop_over_bdir-819-Vweg8H/Shatterproof-0.14-0/blib/lib/Shatterproof.pm line 3898.
when is experimental at /tmp/loop_over_bdir-819-Vweg8H/Shatterproof-0.14-0/blib/lib/Shatterproof.pm line 3899.
when is experimental at /tmp/loop_over_bdir-819-Vweg8H/Shatterproof-0.14-0/blib/lib/Shatterproof.pm line 3900.
when is experimental at /tmp/loop_over_bdir-819-Vweg8H/Shatterproof-0.14-0/blib/lib/Shatterproof.pm line 3901.
when is experimental at /tmp/loop_over_bdir-819-Vweg8H/Shatterproof-0.14-0/blib/lib/Shatterproof.pm line 3902.
when is experimental at /tmp/loop_over_bdir-819-Vweg8H/Shatterproof-0.14-0/blib/lib/Shatterproof.pm line 3903.
when is experimental at /tmp/loop_over_bdir-819-Vweg8H/Shatterproof-0.14-0/blib/lib/Shatterproof.pm line 3904.
when is experimental at /tmp/loop_over_bdir-819-Vweg8H/Shatterproof-0.14-0/blib/lib/Shatterproof.pm line 3905.
when is experimental at /tmp/loop_over_bdir-819-Vweg8H/Shatterproof-0.14-0/blib/lib/Shatterproof.pm line 3906.
when is experimental at /tmp/loop_over_bdir-819-Vweg8H/Shatterproof-0.14-0/blib/lib/Shatterproof.pm line 3907.
when is experimental at /tmp/loop_over_bdir-819-Vweg8H/Shatterproof-0.14-0/blib/lib/Shatterproof.pm line 3908.
when is experimental at /tmp/loop_over_bdir-819-Vweg8H/Shatterproof-0.14-0/blib/lib/Shatterproof.pm line 3909.
when is experimental at /tmp/loop_over_bdir-819-Vweg8H/Shatterproof-0.14-0/blib/lib/Shatterproof.pm line 3910.
when is experimental at /tmp/loop_over_bdir-819-Vweg8H/Shatterproof-0.14-0/blib/lib/Shatterproof.pm line 3911.
when is experimental at /tmp/loop_over_bdir-819-Vweg8H/Shatterproof-0.14-0/blib/lib/Shatterproof.pm line 3912.
when is experimental at /tmp/loop_over_bdir-819-Vweg8H/Shatterproof-0.14-0/blib/lib/Shatterproof.pm line 3913.
when is experimental at /tmp/loop_over_bdir-819-Vweg8H/Shatterproof-0.14-0/blib/lib/Shatterproof.pm line 3914.
when is experimental at /tmp/loop_over_bdir-819-Vweg8H/Shatterproof-0.14-0/blib/lib/Shatterproof.pm line 3915.
when is experimental at /tmp/loop_over_bdir-819-Vweg8H/Shatterproof-0.14-0/blib/lib/Shatterproof.pm line 3916.
t/calculate_genome_localization.t .................. ok
given is experimental at /tmp/loop_over_bdir-819-Vweg8H/Shatterproof-0.14-0/blib/lib/Shatterproof.pm line 429.
when is experimental at /tmp/loop_over_bdir-819-Vweg8H/Shatterproof-0.14-0/blib/lib/Shatterproof.pm line 430.
when is experimental at /tmp/loop_over_bdir-819-Vweg8H/Shatterproof-0.14-0/blib/lib/Shatterproof.pm line 432.
given is experimental at /tmp/loop_over_bdir-819-Vweg8H/Shatterproof-0.14-0/blib/lib/Shatterproof.pm line 3897.
when is experimental at /tmp/loop_over_bdir-819-Vweg8H/Shatterproof-0.14-0/blib/lib/Shatterproof.pm line 3898.
when is experimental at /tmp/loop_over_bdir-819-Vweg8H/Shatterproof-0.14-0/blib/lib/Shatterproof.pm line 3899.
when is experimental at /tmp/loop_over_bdir-819-Vweg8H/Shatterproof-0.14-0/blib/lib/Shatterproof.pm line 3900.
when is experimental at /tmp/loop_over_bdir-819-Vweg8H/Shatterproof-0.14-0/blib/lib/Shatterproof.pm line 3901.
when is experimental at /tmp/loop_over_bdir-819-Vweg8H/Shatterproof-0.14-0/blib/lib/Shatterproof.pm line 3902.
when is experimental at /tmp/loop_over_bdir-819-Vweg8H/Shatterproof-0.14-0/blib/lib/Shatterproof.pm line 3903.
when is experimental at /tmp/loop_over_bdir-819-Vweg8H/Shatterproof-0.14-0/blib/lib/Shatterproof.pm line 3904.
when is experimental at /tmp/loop_over_bdir-819-Vweg8H/Shatterproof-0.14-0/blib/lib/Shatterproof.pm line 3905.
when is experimental at /tmp/loop_over_bdir-819-Vweg8H/Shatterproof-0.14-0/blib/lib/Shatterproof.pm line 3906.
when is experimental at /tmp/loop_over_bdir-819-Vweg8H/Shatterproof-0.14-0/blib/lib/Shatterproof.pm line 3907.
when is experimental at /tmp/loop_over_bdir-819-Vweg8H/Shatterproof-0.14-0/blib/lib/Shatterproof.pm line 3908.
when is experimental at /tmp/loop_over_bdir-819-Vweg8H/Shatterproof-0.14-0/blib/lib/Shatterproof.pm line 3909.
when is experimental at /tmp/loop_over_bdir-819-Vweg8H/Shatterproof-0.14-0/blib/lib/Shatterproof.pm line 3910.
when is experimental at /tmp/loop_over_bdir-819-Vweg8H/Shatterproof-0.14-0/blib/lib/Shatterproof.pm line 3911.
when is experimental at /tmp/loop_over_bdir-819-Vweg8H/Shatterproof-0.14-0/blib/lib/Shatterproof.pm line 3912.
when is experimental at /tmp/loop_over_bdir-819-Vweg8H/Shatterproof-0.14-0/blib/lib/Shatterproof.pm line 3913.
when is experimental at /tmp/loop_over_bdir-819-Vweg8H/Shatterproof-0.14-0/blib/lib/Shatterproof.pm line 3914.
when is experimental at /tmp/loop_over_bdir-819-Vweg8H/Shatterproof-0.14-0/blib/lib/Shatterproof.pm line 3915.
when is experimental at /tmp/loop_over_bdir-819-Vweg8H/Shatterproof-0.14-0/blib/lib/Shatterproof.pm line 3916.
t/calculate_interchromosomal_translocation_rate.t .. ok
given is experimental at /tmp/loop_over_bdir-819-Vweg8H/Shatterproof-0.14-0/blib/lib/Shatterproof.pm line 429.
when is experimental at /tmp/loop_over_bdir-819-Vweg8H/Shatterproof-0.14-0/blib/lib/Shatterproof.pm line 430.
when is experimental at /tmp/loop_over_bdir-819-Vweg8H/Shatterproof-0.14-0/blib/lib/Shatterproof.pm line 432.
given is experimental at /tmp/loop_over_bdir-819-Vweg8H/Shatterproof-0.14-0/blib/lib/Shatterproof.pm line 3897.
when is experimental at /tmp/loop_over_bdir-819-Vweg8H/Shatterproof-0.14-0/blib/lib/Shatterproof.pm line 3898.
when is experimental at /tmp/loop_over_bdir-819-Vweg8H/Shatterproof-0.14-0/blib/lib/Shatterproof.pm line 3899.
when is experimental at /tmp/loop_over_bdir-819-Vweg8H/Shatterproof-0.14-0/blib/lib/Shatterproof.pm line 3900.
when is experimental at /tmp/loop_over_bdir-819-Vweg8H/Shatterproof-0.14-0/blib/lib/Shatterproof.pm line 3901.
when is experimental at /tmp/loop_over_bdir-819-Vweg8H/Shatterproof-0.14-0/blib/lib/Shatterproof.pm line 3902.
when is experimental at /tmp/loop_over_bdir-819-Vweg8H/Shatterproof-0.14-0/blib/lib/Shatterproof.pm line 3903.
when is experimental at /tmp/loop_over_bdir-819-Vweg8H/Shatterproof-0.14-0/blib/lib/Shatterproof.pm line 3904.
when is experimental at /tmp/loop_over_bdir-819-Vweg8H/Shatterproof-0.14-0/blib/lib/Shatterproof.pm line 3905.
when is experimental at /tmp/loop_over_bdir-819-Vweg8H/Shatterproof-0.14-0/blib/lib/Shatterproof.pm line 3906.
when is experimental at /tmp/loop_over_bdir-819-Vweg8H/Shatterproof-0.14-0/blib/lib/Shatterproof.pm line 3907.
when is experimental at /tmp/loop_over_bdir-819-Vweg8H/Shatterproof-0.14-0/blib/lib/Shatterproof.pm line 3908.
when is experimental at /tmp/loop_over_bdir-819-Vweg8H/Shatterproof-0.14-0/blib/lib/Shatterproof.pm line 3909.
when is experimental at /tmp/loop_over_bdir-819-Vweg8H/Shatterproof-0.14-0/blib/lib/Shatterproof.pm line 3910.
when is experimental at /tmp/loop_over_bdir-819-Vweg8H/Shatterproof-0.14-0/blib/lib/Shatterproof.pm line 3911.
when is experimental at /tmp/loop_over_bdir-819-Vweg8H/Shatterproof-0.14-0/blib/lib/Shatterproof.pm line 3912.
when is experimental at /tmp/loop_over_bdir-819-Vweg8H/Shatterproof-0.14-0/blib/lib/Shatterproof.pm line 3913.
when is experimental at /tmp/loop_over_bdir-819-Vweg8H/Shatterproof-0.14-0/blib/lib/Shatterproof.pm line 3914.
when is experimental at /tmp/loop_over_bdir-819-Vweg8H/Shatterproof-0.14-0/blib/lib/Shatterproof.pm line 3915.
when is experimental at /tmp/loop_over_bdir-819-Vweg8H/Shatterproof-0.14-0/blib/lib/Shatterproof.pm line 3916.
t/check_copy_number_count.t ........................ ok
given is experimental at /tmp/loop_over_bdir-819-Vweg8H/Shatterproof-0.14-0/blib/lib/Shatterproof.pm line 429.
when is experimental at /tmp/loop_over_bdir-819-Vweg8H/Shatterproof-0.14-0/blib/lib/Shatterproof.pm line 430.
when is experimental at /tmp/loop_over_bdir-819-Vweg8H/Shatterproof-0.14-0/blib/lib/Shatterproof.pm line 432.
given is experimental at /tmp/loop_over_bdir-819-Vweg8H/Shatterproof-0.14-0/blib/lib/Shatterproof.pm line 3897.
when is experimental at /tmp/loop_over_bdir-819-Vweg8H/Shatterproof-0.14-0/blib/lib/Shatterproof.pm line 3898.
when is experimental at /tmp/loop_over_bdir-819-Vweg8H/Shatterproof-0.14-0/blib/lib/Shatterproof.pm line 3899.
when is experimental at /tmp/loop_over_bdir-819-Vweg8H/Shatterproof-0.14-0/blib/lib/Shatterproof.pm line 3900.
when is experimental at /tmp/loop_over_bdir-819-Vweg8H/Shatterproof-0.14-0/blib/lib/Shatterproof.pm line 3901.
when is experimental at /tmp/loop_over_bdir-819-Vweg8H/Shatterproof-0.14-0/blib/lib/Shatterproof.pm line 3902.
when is experimental at /tmp/loop_over_bdir-819-Vweg8H/Shatterproof-0.14-0/blib/lib/Shatterproof.pm line 3903.
when is experimental at /tmp/loop_over_bdir-819-Vweg8H/Shatterproof-0.14-0/blib/lib/Shatterproof.pm line 3904.
when is experimental at /tmp/loop_over_bdir-819-Vweg8H/Shatterproof-0.14-0/blib/lib/Shatterproof.pm line 3905.
when is experimental at /tmp/loop_over_bdir-819-Vweg8H/Shatterproof-0.14-0/blib/lib/Shatterproof.pm line 3906.
when is experimental at /tmp/loop_over_bdir-819-Vweg8H/Shatterproof-0.14-0/blib/lib/Shatterproof.pm line 3907.
when is experimental at /tmp/loop_over_bdir-819-Vweg8H/Shatterproof-0.14-0/blib/lib/Shatterproof.pm line 3908.
when is experimental at /tmp/loop_over_bdir-819-Vweg8H/Shatterproof-0.14-0/blib/lib/Shatterproof.pm line 3909.
when is experimental at /tmp/loop_over_bdir-819-Vweg8H/Shatterproof-0.14-0/blib/lib/Shatterproof.pm line 3910.
when is experimental at /tmp/loop_over_bdir-819-Vweg8H/Shatterproof-0.14-0/blib/lib/Shatterproof.pm line 3911.
when is experimental at /tmp/loop_over_bdir-819-Vweg8H/Shatterproof-0.14-0/blib/lib/Shatterproof.pm line 3912.
when is experimental at /tmp/loop_over_bdir-819-Vweg8H/Shatterproof-0.14-0/blib/lib/Shatterproof.pm line 3913.
when is experimental at /tmp/loop_over_bdir-819-Vweg8H/Shatterproof-0.14-0/blib/lib/Shatterproof.pm line 3914.
when is experimental at /tmp/loop_over_bdir-819-Vweg8H/Shatterproof-0.14-0/blib/lib/Shatterproof.pm line 3915.
when is experimental at /tmp/loop_over_bdir-819-Vweg8H/Shatterproof-0.14-0/blib/lib/Shatterproof.pm line 3916.
t/check_copy_number_switches.t ..................... ok
given is experimental at /tmp/loop_over_bdir-819-Vweg8H/Shatterproof-0.14-0/blib/lib/Shatterproof.pm line 429.
when is experimental at /tmp/loop_over_bdir-819-Vweg8H/Shatterproof-0.14-0/blib/lib/Shatterproof.pm line 430.
when is experimental at /tmp/loop_over_bdir-819-Vweg8H/Shatterproof-0.14-0/blib/lib/Shatterproof.pm line 432.
given is experimental at /tmp/loop_over_bdir-819-Vweg8H/Shatterproof-0.14-0/blib/lib/Shatterproof.pm line 3897.
when is experimental at /tmp/loop_over_bdir-819-Vweg8H/Shatterproof-0.14-0/blib/lib/Shatterproof.pm line 3898.
when is experimental at /tmp/loop_over_bdir-819-Vweg8H/Shatterproof-0.14-0/blib/lib/Shatterproof.pm line 3899.
when is experimental at /tmp/loop_over_bdir-819-Vweg8H/Shatterproof-0.14-0/blib/lib/Shatterproof.pm line 3900.
when is experimental at /tmp/loop_over_bdir-819-Vweg8H/Shatterproof-0.14-0/blib/lib/Shatterproof.pm line 3901.
when is experimental at /tmp/loop_over_bdir-819-Vweg8H/Shatterproof-0.14-0/blib/lib/Shatterproof.pm line 3902.
when is experimental at /tmp/loop_over_bdir-819-Vweg8H/Shatterproof-0.14-0/blib/lib/Shatterproof.pm line 3903.
when is experimental at /tmp/loop_over_bdir-819-Vweg8H/Shatterproof-0.14-0/blib/lib/Shatterproof.pm line 3904.
when is experimental at /tmp/loop_over_bdir-819-Vweg8H/Shatterproof-0.14-0/blib/lib/Shatterproof.pm line 3905.
when is experimental at /tmp/loop_over_bdir-819-Vweg8H/Shatterproof-0.14-0/blib/lib/Shatterproof.pm line 3906.
when is experimental at /tmp/loop_over_bdir-819-Vweg8H/Shatterproof-0.14-0/blib/lib/Shatterproof.pm line 3907.
when is experimental at /tmp/loop_over_bdir-819-Vweg8H/Shatterproof-0.14-0/blib/lib/Shatterproof.pm line 3908.
when is experimental at /tmp/loop_over_bdir-819-Vweg8H/Shatterproof-0.14-0/blib/lib/Shatterproof.pm line 3909.
when is experimental at /tmp/loop_over_bdir-819-Vweg8H/Shatterproof-0.14-0/blib/lib/Shatterproof.pm line 3910.
when is experimental at /tmp/loop_over_bdir-819-Vweg8H/Shatterproof-0.14-0/blib/lib/Shatterproof.pm line 3911.
when is experimental at /tmp/loop_over_bdir-819-Vweg8H/Shatterproof-0.14-0/blib/lib/Shatterproof.pm line 3912.
when is experimental at /tmp/loop_over_bdir-819-Vweg8H/Shatterproof-0.14-0/blib/lib/Shatterproof.pm line 3913.
when is experimental at /tmp/loop_over_bdir-819-Vweg8H/Shatterproof-0.14-0/blib/lib/Shatterproof.pm line 3914.
when is experimental at /tmp/loop_over_bdir-819-Vweg8H/Shatterproof-0.14-0/blib/lib/Shatterproof.pm line 3915.
when is experimental at /tmp/loop_over_bdir-819-Vweg8H/Shatterproof-0.14-0/blib/lib/Shatterproof.pm line 3916.
t/standard_deviation_and_mean.t .................... ok
All tests successful.
Files=9, Tests=64, 78 wallclock secs ( 0.03 usr  0.08 sys + 56.52 cusr  1.91 csys = 58.54 CPU)
Result: PASS

------------------------------
PREREQUISITES
------------------------------

Prerequisite modules loaded:

requires:

    Module                    Need Have    
    ------------------------- ---- --------
    File::Basename            2    2.85    
    JSON::XS                  2.3  3.03    
    List::Util                1    1.47    
    POSIX                     1    1.76    
    Statistics::Distributions 1.02 1.02    
    Test::Deep                0    1.126   
    Test::Exception           0    0.43    
    Test::More                0    1.302078

build_requires:

    Module                    Need Have    
    ------------------------- ---- --------
    ExtUtils::MakeMaker       0    7.24    

configure_requires:

    Module                    Need Have    
    ------------------------- ---- --------
    ExtUtils::MakeMaker       0    7.24    


------------------------------
ENVIRONMENT AND OTHER CONTEXT
------------------------------

Environment variables:

    AUTOMATED_TESTING = 1
    LANG = en_US.UTF-8
    PATH = /home/sand/bin:/usr/local/bin:/usr/bin:/bin:/usr/games:/usr/local/perl/bin:/usr/X11/bin:/sbin:/usr/sbin
    PERL5LIB = 
    PERL5OPT = 
    PERL5_CPANPLUS_IS_RUNNING = 820
    PERL5_CPAN_IS_RUNNING = 820
    PERL_CANARY_STABILITY_NOPROMPT = 1
    PERL_MM_USE_DEFAULT = 1
    PERL_USE_UNSAFE_INC = 1
    SHELL = /usr/bin/zsh
    TERM = screen

Perl special variables (and OS-specific diagnostics, for MSWin32):

    $^X = /home/sand/src/perl/repoperls/installed-perls/host/k93msid/v5.25.9/5ea4/bin/perl
    $UID/$EUID = 1005 / 1005
    $GID = 1005 1005
    $EGID = 1005 1005

Perl module toolchain versions installed:

    Module              Have      
    ------------------- ----------
    CPAN                2.18      
    CPAN::Meta          2.150010  
    Cwd                 3.66      
    ExtUtils::CBuilder  0.280225  
    ExtUtils::Command   7.24      
    ExtUtils::Install   2.04      
    ExtUtils::MakeMaker 7.24      
    ExtUtils::Manifest  1.70      
    ExtUtils::ParseXS   3.33      
    File::Spec          3.66      
    JSON                2.90      
    JSON::PP            2.27400_02
    Module::Build       0.42_21   
    Module::Signature   0.81      
    Parse::CPAN::Meta   2.150010  
    Test::Harness       3.38      
    Test::More          1.302078  
    YAML                1.23      
    YAML::Syck          1.29      
    version             0.9917    


--

Summary of my perl5 (revision 5 version 25 subversion 9) configuration:
  Commit id: 5d577b6f636aba916a1b0519669de4b2454c68ab
  Platform:
    osname=linux
    osvers=4.9.0-2-amd64
    archname=x86_64-linux-thread-multi-ld
    uname='linux k93msid 4.9.0-2-amd64 #1 smp debian 4.9.13-1 (2017-02-27) x86_64 gnulinux '
    config_args='-Dprefix=/home/sand/src/perl/repoperls/installed-perls/host/k93msid/v5.25.9/5ea4 -Dmyhostname=k93msid -Dinstallusrbinperl=n -Uversiononly -Dusedevel -des -Ui_db -Dlibswanted=cl pthread socket inet nsl gdbm dbm malloc dl ld sun m crypt sec util c cposix posix ucb BSD gdbm_compat -Duseithreads -Duselongdouble -DDEBUGGING=-g'
    hint=recommended
    useposix=true
    d_sigaction=define
    useithreads=define
    usemultiplicity=define
    use64bitint=define
    use64bitall=define
    uselongdouble=define
    usemymalloc=n
    bincompat5005=undef
  Compiler:
    cc='cc'
    ccflags ='-D_REENTRANT -D_GNU_SOURCE -fwrapv -fno-strict-aliasing -pipe -fstack-protector-strong -I/usr/local/include -D_LARGEFILE_SOURCE -D_FILE_OFFSET_BITS=64'
    optimize='-O2 -g'
    cppflags='-D_REENTRANT -D_GNU_SOURCE -fwrapv -fno-strict-aliasing -pipe -fstack-protector-strong -I/usr/local/include'
    ccversion=''
    gccversion='6.3.0 20170316'
    gccosandvers=''
    intsize=4
    longsize=8
    ptrsize=8
    doublesize=8
    byteorder=12345678
    doublekind=3
    d_longlong=define
    longlongsize=8
    d_longdbl=define
    longdblsize=16
    longdblkind=3
    ivtype='long'
    ivsize=8
    nvtype='long double'
    nvsize=16
    Off_t='off_t'
    lseeksize=8
    alignbytes=16
    prototype=define
  Linker and Libraries:
    ld='cc'
    ldflags =' -fstack-protector-strong -L/usr/local/lib'
    libpth=/usr/local/lib /usr/lib/gcc/x86_64-linux-gnu/6/include-fixed /usr/include/x86_64-linux-gnu /usr/lib /lib/x86_64-linux-gnu /lib/../lib /usr/lib/x86_64-linux-gnu /usr/lib/../lib /lib
    libs=-lpthread -lnsl -ldl -lm -lcrypt -lutil -lc
    perllibs=-lpthread -lnsl -ldl -lm -lcrypt -lutil -lc
    libc=libc-2.24.so
    so=so
    useshrplib=false
    libperl=libperl.a
    gnulibc_version='2.24'
  Dynamic Linking:
    dlsrc=dl_dlopen.xs
    dlext=so
    d_dlsymun=undef
    ccdlflags='-Wl,-E'
    cccdlflags='-fPIC'
    lddlflags='-shared -O2 -g -L/usr/local/lib -fstack-protector-strong'


Characteristics of this binary (from libperl): 
  Compile-time options:
    HAS_TIMES
    MULTIPLICITY
    PERLIO_LAYERS
    PERL_COPY_ON_WRITE
    PERL_DONT_CREATE_GVSV
    PERL_IMPLICIT_CONTEXT
    PERL_MALLOC_WRAP
    PERL_OP_PARENT
    PERL_PRESERVE_IVUV
    PERL_USE_DEVEL
    USE_64_BIT_ALL
    USE_64_BIT_INT
    USE_ITHREADS
    USE_LARGE_FILES
    USE_LOCALE
    USE_LOCALE_COLLATE
    USE_LOCALE_CTYPE
    USE_LOCALE_NUMERIC
    USE_LOCALE_TIME
    USE_LONG_DOUBLE
    USE_PERLIO
    USE_PERL_ATOF
    USE_REENTRANT_API
  Built under linux
  Compiled at Mar 18 2017 14:39:00
  %ENV:
    PERL5LIB=""
    PERL5OPT=""
    PERL5_CPANPLUS_IS_RUNNING="820"
    PERL5_CPAN_IS_RUNNING="820"
    PERL_CANARY_STABILITY_NOPROMPT="1"
    PERL_MM_USE_DEFAULT="1"
    PERL_USE_UNSAFE_INC="1"
  @INC:
    /home/sand/src/perl/repoperls/installed-perls/host/k93msid/v5.25.9/5ea4/lib/site_perl/5.25.9/x86_64-linux-thread-multi-ld
    /home/sand/src/perl/repoperls/installed-perls/host/k93msid/v5.25.9/5ea4/lib/site_perl/5.25.9
    /home/sand/src/perl/repoperls/installed-perls/host/k93msid/v5.25.9/5ea4/lib/5.25.9/x86_64-linux-thread-multi-ld
    /home/sand/src/perl/repoperls/installed-perls/host/k93msid/v5.25.9/5ea4/lib/5.25.9
    .