Report for Catalyst-Controller-ActionRole-0.15

Back
From: metabase:user:30ae4450-2aae-11df-837a-5e0a49663a4f
Subject: PASS Catalyst-Controller-ActionRole-0.15 v5.19.11 GNU/Linux
Date: 2014-04-25T15:46:10Z

This distribution has been tested as part of the CPAN Testers
project, supporting the Perl programming language.  See
http://wiki.cpantesters.org/ for more information or email
questions to cpan-testers-discuss@perl.org


--
Dear Florian Ragwitz,

This is a computer-generated report for Catalyst-Controller-ActionRole-0.15
on perl 5.19.11, created by CPAN-Reporter-1.2011.

Thank you for uploading your work to CPAN.  Congratulations!
All tests were successful.

Sections of this report:

    * Tester comments
    * Program output
    * Prerequisites
    * Environment and other context

------------------------------
TESTER COMMENTS
------------------------------

Additional comments from tester:

this report is from an automated smoke testing program
and was not reviewed by a human for accuracy

------------------------------
PROGRAM OUTPUT
------------------------------

Output from '/usr/bin/make test':

PERL_DL_NONLAZY=1 /home/c/perl5/perlbrew/perls/5.19.11i/bin/perl5.19.11 "-MExtUtils::Command::MM" "-MTest::Harness" "-e" "undef *Test::Harness::Switches; test_harness(0, 'blib/lib', 'blib/arch')" t/*.t
Class::MOP::load_class is deprecated at /home/c/perl5/perlbrew/perls/5.19.11i/lib/site_perl/5.19.11/i686-linux-thread-multi-64int/Class/MOP.pm line 73.
	Class::MOP::load_class("TestApp::ActionRole::Kooh") called at /home/c/.cpan/build/Catalyst-Controller-ActionRole-0.15-HJ3Yfz/blib/lib/Catalyst/Controller/ActionRole.pm line 50
	Catalyst::Controller::ActionRole::_build__action_roles(TestApp::Controller::Bar=HASH(0xa4c801c)) called at native delegation method Catalyst::Controller::ActionRole::_action_roles (elements) of attribute _action_roles (defined at /home/c/.cpan/build/Catalyst-Controller-ActionRole-0.15-HJ3Yfz/blib/lib/Catalyst/Controller/ActionRole.pm line 37) line 9
	Catalyst::Controller::ActionRole::_action_roles(TestApp::Controller::Bar=HASH(0xa4c801c)) called at /home/c/perl5/perlbrew/perls/5.19.11i/lib/site_perl/5.19.11/Catalyst/Controller.pm line 84
	Catalyst::Controller::BUILD(TestApp::Controller::Bar=HASH(0xa4c801c), HASH(0xa4c8710)) called at /home/c/perl5/perlbrew/perls/5.19.11i/lib/site_perl/5.19.11/i686-linux-thread-multi-64int/Class/MOP/Method.pm line 128
	Class::MOP::Method::execute(Moose::Meta::Class::__ANON__::SERIAL::7=HASH(0x9faea18), TestApp::Controller::Bar=HASH(0xa4c801c), HASH(0xa4c8710)) called at /home/c/perl5/perlbrew/perls/5.19.11i/lib/site_perl/5.19.11/i686-linux-thread-multi-64int/Moose/Object.pm line 56
	Moose::Object::BUILDALL(TestApp::Controller::Bar=HASH(0xa4c801c), HASH(0xa4c8710)) called at /home/c/perl5/perlbrew/perls/5.19.11i/lib/site_perl/5.19.11/i686-linux-thread-multi-64int/Moose/Meta/Class.pm line 282
	Moose::Meta::Class::new_object(Moose::Meta::Class::__ANON__::SERIAL::5=HASH(0xa4b2520), HASH(0xa4c8710)) called at /home/c/perl5/perlbrew/perls/5.19.11i/lib/site_perl/5.19.11/i686-linux-thread-multi-64int/Moose/Object.pm line 27
	Moose::Object::new("TestApp::Controller::Bar", "TestApp", HASH(0xa4280a8)) called at constructor Catalyst::Controller::new (defined at /home/c/perl5/perlbrew/perls/5.19.11i/lib/site_perl/5.19.11/Catalyst/Controller.pm line 573) line 4
	Catalyst::Controller::new("TestApp::Controller::Bar", "TestApp", HASH(0xa4280a8)) called at /home/c/perl5/perlbrew/perls/5.19.11i/lib/site_perl/5.19.11/Catalyst/Component.pm line 123
	Catalyst::Component::COMPONENT("TestApp::Controller::Bar", "TestApp", HASH(0xa4280a8)) called at /home/c/perl5/perlbrew/perls/5.19.11i/lib/site_perl/5.19.11/Catalyst.pm line 2638
	eval {...} called at /home/c/perl5/perlbrew/perls/5.19.11i/lib/site_perl/5.19.11/Catalyst.pm line 2638
	Catalyst::setup_component("TestApp", "TestApp::Controller::Bar") called at /home/c/perl5/perlbrew/perls/5.19.11i/lib/site_perl/5.19.11/Catalyst.pm line 2565
	Catalyst::setup_components("TestApp") called at /home/c/perl5/perlbrew/perls/5.19.11i/lib/site_perl/5.19.11/Catalyst.pm line 1181
	Catalyst::setup("TestApp") called at /home/c/.cpan/build/Catalyst-Controller-ActionRole-0.15-HJ3Yfz/t/lib/TestApp.pm line 9
	require TestApp.pm called at /home/c/perl5/perlbrew/perls/5.19.11i/lib/site_perl/5.19.11/Module/Runtime.pm line 317
	Module::Runtime::require_module("TestApp") called at /home/c/perl5/perlbrew/perls/5.19.11i/lib/site_perl/5.19.11/Class/Load.pm line 179
	Class::Load::try {...} () called at /home/c/perl5/perlbrew/perls/5.19.11i/lib/site_perl/5.19.11/Try/Tiny.pm line 77
	eval {...} called at /home/c/perl5/perlbrew/perls/5.19.11i/lib/site_perl/5.19.11/Try/Tiny.pm line 72
	Try::Tiny::try(CODE(0x984b238), Try::Tiny::Catch=REF(0x98353c4)) called at /home/c/perl5/perlbrew/perls/5.19.11i/lib/site_perl/5.19.11/Class/Load.pm line 185
	Class::Load::try_load_class("TestApp", undef) called at /home/c/perl5/perlbrew/perls/5.19.11i/lib/site_perl/5.19.11/Class/Load.pm line 40
	Class::Load::load_class("TestApp") called at /home/c/perl5/perlbrew/perls/5.19.11i/lib/site_perl/5.19.11/Catalyst/Test.pm line 29
	Catalyst::Test::_build_request_export("Catalyst::Test", HASH(0x9b198e0)) called at /home/c/perl5/perlbrew/perls/5.19.11i/lib/site_perl/5.19.11/Catalyst/Test.pm line 92
	Catalyst::Test::__ANON__("Catalyst::Test", "all", HASH(0x9b198b8), HASH(0x8d4e9a8)) called at /home/c/perl5/perlbrew/perls/5.19.11i/lib/site_perl/5.19.11/Sub/Exporter.pm line 108
	Sub::Exporter::_expand_group("Catalyst::Test", HASH(0x9b0e1b0), ARRAY(0x8f103f0), HASH(0x8d4e9a8), HASH(0x9b19908), HASH(0x8ec05ec)) called at /home/c/perl5/perlbrew/perls/5.19.11i/lib/site_perl/5.19.11/Sub/Exporter.pm line 39
	Sub::Exporter::_expand_groups("Catalyst::Test", HASH(0x9b0e1b0), ARRAY(0x9b19390), HASH(0x8d4e9a8)) called at /home/c/perl5/perlbrew/perls/5.19.11i/lib/site_perl/5.19.11/Sub/Exporter.pm line 323
	Sub::Exporter::__ANON__("Catalyst::Test", "-all", HASH(0x8ee4bd8)) called at /home/c/perl5/perlbrew/perls/5.19.11i/lib/site_perl/5.19.11/Catalyst/Test.pm line 155
	Catalyst::Test::import("Catalyst::Test", "TestApp") called at t/action-class.t line 8
	main::BEGIN() called at /home/c/.cpan/build/Catalyst-Controller-ActionRole-0.15-HJ3Yfz/t/lib/TestApp.pm line 0
	eval {...} called at /home/c/.cpan/build/Catalyst-Controller-ActionRole-0.15-HJ3Yfz/t/lib/TestApp.pm line 0
Class::MOP::load_first_existing_class is deprecated at /home/c/perl5/perlbrew/perls/5.19.11i/lib/site_perl/5.19.11/i686-linux-thread-multi-64int/Class/MOP.pm line 82.
	Class::MOP::load_first_existing_class("TestApp::ActionRole::Shared", "Catalyst::ActionRole::Shared") called at /home/c/.cpan/build/Catalyst-Controller-ActionRole-0.15-HJ3Yfz/blib/lib/Catalyst/Controller/ActionRole.pm line 120
	Catalyst::Controller::ActionRole::__ANON__("Shared") called at /home/c/perl5/perlbrew/perls/5.19.11i/lib/site_perl/5.19.11/String/RewritePrefix.pm line 44
	String::RewritePrefix::__ANON__("Shared") called at /home/c/perl5/perlbrew/perls/5.19.11i/lib/site_perl/5.19.11/String/RewritePrefix.pm line 18
	String::RewritePrefix::rewrite("String::RewritePrefix", HASH(0xa4cdc74), "Shared") called at /home/c/.cpan/build/Catalyst-Controller-ActionRole-0.15-HJ3Yfz/blib/lib/Catalyst/Controller/ActionRole.pm line 125
	Catalyst::Controller::ActionRole::_expand_role_shortname(TestApp::Controller::ExecutionViaConfig=HASH(0xa4cd954), "Shared") called at /home/c/.cpan/build/Catalyst-Controller-ActionRole-0.15-HJ3Yfz/blib/lib/Catalyst/Controller/ActionRole.pm line 49
	Catalyst::Controller::ActionRole::_build__action_roles(TestApp::Controller::ExecutionViaConfig=HASH(0xa4cd954)) called at native delegation method Catalyst::Controller::ActionRole::_action_roles (elements) of attribute _action_roles (defined at /home/c/.cpan/build/Catalyst-Controller-ActionRole-0.15-HJ3Yfz/blib/lib/Catalyst/Controller/ActionRole.pm line 37) line 9
	Catalyst::Controller::ActionRole::_action_roles(TestApp::Controller::ExecutionViaConfig=HASH(0xa4cd954)) called at /home/c/perl5/perlbrew/perls/5.19.11i/lib/site_perl/5.19.11/Catalyst/Controller.pm line 84
	Catalyst::Controller::BUILD(TestApp::Controller::ExecutionViaConfig=HASH(0xa4cd954), HASH(0xa4d75d0)) called at /home/c/perl5/perlbrew/perls/5.19.11i/lib/site_perl/5.19.11/i686-linux-thread-multi-64int/Class/MOP/Method.pm line 128
	Class::MOP::Method::execute(Moose::Meta::Class::__ANON__::SERIAL::7=HASH(0x9faea18), TestApp::Controller::ExecutionViaConfig=HASH(0xa4cd954), HASH(0xa4d75d0)) called at /home/c/perl5/perlbrew/perls/5.19.11i/lib/site_perl/5.19.11/i686-linux-thread-multi-64int/Moose/Object.pm line 56
	Moose::Object::BUILDALL(TestApp::Controller::ExecutionViaConfig=HASH(0xa4cd954), HASH(0xa4d75d0)) called at /home/c/perl5/perlbrew/perls/5.19.11i/lib/site_perl/5.19.11/i686-linux-thread-multi-64int/Moose/Meta/Class.pm line 282
	Moose::Meta::Class::new_object(Moose::Meta::Class::__ANON__::SERIAL::5=HASH(0xa4c6ebc), HASH(0xa4d75d0)) called at /home/c/perl5/perlbrew/perls/5.19.11i/lib/site_perl/5.19.11/i686-linux-thread-multi-64int/Moose/Object.pm line 27
	Moose::Object::new("TestApp::Controller::ExecutionViaConfig", "TestApp", HASH(0xa4d7af8)) called at constructor Catalyst::Controller::new (defined at /home/c/perl5/perlbrew/perls/5.19.11i/lib/site_perl/5.19.11/Catalyst/Controller.pm line 573) line 4
	Catalyst::Controller::new("TestApp::Controller::ExecutionViaConfig", "TestApp", HASH(0xa4d7af8)) called at /home/c/perl5/perlbrew/perls/5.19.11i/lib/site_perl/5.19.11/Catalyst/Component.pm line 123
	Catalyst::Component::COMPONENT("TestApp::Controller::ExecutionViaConfig", "TestApp", HASH(0xa4d7af8)) called at /home/c/perl5/perlbrew/perls/5.19.11i/lib/site_perl/5.19.11/Catalyst.pm line 2638
	eval {...} called at /home/c/perl5/perlbrew/perls/5.19.11i/lib/site_perl/5.19.11/Catalyst.pm line 2638
	Catalyst::setup_component("TestApp", "TestApp::Controller::ExecutionViaConfig") called at /home/c/perl5/perlbrew/perls/5.19.11i/lib/site_perl/5.19.11/Catalyst.pm line 2565
	Catalyst::setup_components("TestApp") called at /home/c/perl5/perlbrew/perls/5.19.11i/lib/site_perl/5.19.11/Catalyst.pm line 1181
	Catalyst::setup("TestApp") called at /home/c/.cpan/build/Catalyst-Controller-ActionRole-0.15-HJ3Yfz/t/lib/TestApp.pm line 9
	require TestApp.pm called at /home/c/perl5/perlbrew/perls/5.19.11i/lib/site_perl/5.19.11/Module/Runtime.pm line 317
	Module::Runtime::require_module("TestApp") called at /home/c/perl5/perlbrew/perls/5.19.11i/lib/site_perl/5.19.11/Class/Load.pm line 179
	Class::Load::try {...} () called at /home/c/perl5/perlbrew/perls/5.19.11i/lib/site_perl/5.19.11/Try/Tiny.pm line 77
	eval {...} called at /home/c/perl5/perlbrew/perls/5.19.11i/lib/site_perl/5.19.11/Try/Tiny.pm line 72
	Try::Tiny::try(CODE(0x984b238), Try::Tiny::Catch=REF(0x98353c4)) called at /home/c/perl5/perlbrew/perls/5.19.11i/lib/site_perl/5.19.11/Class/Load.pm line 185
	Class::Load::try_load_class("TestApp", undef) called at /home/c/perl5/perlbrew/perls/5.19.11i/lib/site_perl/5.19.11/Class/Load.pm line 40
	Class::Load::load_class("TestApp") called at /home/c/perl5/perlbrew/perls/5.19.11i/lib/site_perl/5.19.11/Catalyst/Test.pm line 29
	Catalyst::Test::_build_request_export("Catalyst::Test", HASH(0x9b198e0)) called at /home/c/perl5/perlbrew/perls/5.19.11i/lib/site_perl/5.19.11/Catalyst/Test.pm line 92
	Catalyst::Test::__ANON__("Catalyst::Test", "all", HASH(0x9b198b8), HASH(0x8d4e9a8)) called at /home/c/perl5/perlbrew/perls/5.19.11i/lib/site_perl/5.19.11/Sub/Exporter.pm line 108
	Sub::Exporter::_expand_group("Catalyst::Test", HASH(0x9b0e1b0), ARRAY(0x8f103f0), HASH(0x8d4e9a8), HASH(0x9b19908), HASH(0x8ec05ec)) called at /home/c/perl5/perlbrew/perls/5.19.11i/lib/site_perl/5.19.11/Sub/Exporter.pm line 39
	Sub::Exporter::_expand_groups("Catalyst::Test", HASH(0x9b0e1b0), ARRAY(0x9b19390), HASH(0x8d4e9a8)) called at /home/c/perl5/perlbrew/perls/5.19.11i/lib/site_perl/5.19.11/Sub/Exporter.pm line 323
	Sub::Exporter::__ANON__("Catalyst::Test", "-all", HASH(0x8ee4bd8)) called at /home/c/perl5/perlbrew/perls/5.19.11i/lib/site_perl/5.19.11/Catalyst/Test.pm line 155
	Catalyst::Test::import("Catalyst::Test", "TestApp") called at t/action-class.t line 8
	main::BEGIN() called at /home/c/.cpan/build/Catalyst-Controller-ActionRole-0.15-HJ3Yfz/t/lib/TestApp.pm line 0
	eval {...} called at /home/c/.cpan/build/Catalyst-Controller-ActionRole-0.15-HJ3Yfz/t/lib/TestApp.pm line 0
t/action-class.t .......... ok
Class::MOP::load_class is deprecated at /home/c/perl5/perlbrew/perls/5.19.11i/lib/site_perl/5.19.11/i686-linux-thread-multi-64int/Class/MOP.pm line 73.
	Class::MOP::load_class("TestApp::ActionRole::Kooh") called at /home/c/.cpan/build/Catalyst-Controller-ActionRole-0.15-HJ3Yfz/blib/lib/Catalyst/Controller/ActionRole.pm line 50
	Catalyst::Controller::ActionRole::_build__action_roles(TestApp::Controller::Bar=HASH(0xa41a670)) called at native delegation method Catalyst::Controller::ActionRole::_action_roles (elements) of attribute _action_roles (defined at /home/c/.cpan/build/Catalyst-Controller-ActionRole-0.15-HJ3Yfz/blib/lib/Catalyst/Controller/ActionRole.pm line 37) line 9
	Catalyst::Controller::ActionRole::_action_roles(TestApp::Controller::Bar=HASH(0xa41a670)) called at /home/c/perl5/perlbrew/perls/5.19.11i/lib/site_perl/5.19.11/Catalyst/Controller.pm line 84
	Catalyst::Controller::BUILD(TestApp::Controller::Bar=HASH(0xa41a670), HASH(0xa41a198)) called at /home/c/perl5/perlbrew/perls/5.19.11i/lib/site_perl/5.19.11/i686-linux-thread-multi-64int/Class/MOP/Method.pm line 128
	Class::MOP::Method::execute(Moose::Meta::Class::__ANON__::SERIAL::6=HASH(0x9f00cb8), TestApp::Controller::Bar=HASH(0xa41a670), HASH(0xa41a198)) called at /home/c/perl5/perlbrew/perls/5.19.11i/lib/site_perl/5.19.11/i686-linux-thread-multi-64int/Moose/Object.pm line 56
	Moose::Object::BUILDALL(TestApp::Controller::Bar=HASH(0xa41a670), HASH(0xa41a198)) called at /home/c/perl5/perlbrew/perls/5.19.11i/lib/site_perl/5.19.11/i686-linux-thread-multi-64int/Moose/Meta/Class.pm line 282
	Moose::Meta::Class::new_object(Moose::Meta::Class::__ANON__::SERIAL::5=HASH(0xa403f48), HASH(0xa41a198)) called at /home/c/perl5/perlbrew/perls/5.19.11i/lib/site_perl/5.19.11/i686-linux-thread-multi-64int/Moose/Object.pm line 27
	Moose::Object::new("TestApp::Controller::Bar", "TestApp", HASH(0xa3799c8)) called at constructor Catalyst::Controller::new (defined at /home/c/perl5/perlbrew/perls/5.19.11i/lib/site_perl/5.19.11/Catalyst/Controller.pm line 573) line 4
	Catalyst::Controller::new("TestApp::Controller::Bar", "TestApp", HASH(0xa3799c8)) called at /home/c/perl5/perlbrew/perls/5.19.11i/lib/site_perl/5.19.11/Catalyst/Component.pm line 123
	Catalyst::Component::COMPONENT("TestApp::Controller::Bar", "TestApp", HASH(0xa3799c8)) called at /home/c/perl5/perlbrew/perls/5.19.11i/lib/site_perl/5.19.11/Catalyst.pm line 2638
	eval {...} called at /home/c/perl5/perlbrew/perls/5.19.11i/lib/site_perl/5.19.11/Catalyst.pm line 2638
	Catalyst::setup_component("TestApp", "TestApp::Controller::Bar") called at /home/c/perl5/perlbrew/perls/5.19.11i/lib/site_perl/5.19.11/Catalyst.pm line 2565
	Catalyst::setup_components("TestApp") called at /home/c/perl5/perlbrew/perls/5.19.11i/lib/site_perl/5.19.11/Catalyst.pm line 1181
	Catalyst::setup("TestApp") called at /home/c/.cpan/build/Catalyst-Controller-ActionRole-0.15-HJ3Yfz/t/lib/TestApp.pm line 9
	require TestApp.pm called at /home/c/perl5/perlbrew/perls/5.19.11i/lib/site_perl/5.19.11/Module/Runtime.pm line 317
	Module::Runtime::require_module("TestApp") called at /home/c/perl5/perlbrew/perls/5.19.11i/lib/site_perl/5.19.11/Class/Load.pm line 179
	Class::Load::try {...} () called at /home/c/perl5/perlbrew/perls/5.19.11i/lib/site_perl/5.19.11/Try/Tiny.pm line 77
	eval {...} called at /home/c/perl5/perlbrew/perls/5.19.11i/lib/site_perl/5.19.11/Try/Tiny.pm line 72
	Try::Tiny::try(CODE(0x9813530), Try::Tiny::Catch=REF(0x98130a8)) called at /home/c/perl5/perlbrew/perls/5.19.11i/lib/site_perl/5.19.11/Class/Load.pm line 185
	Class::Load::try_load_class("TestApp", undef) called at /home/c/perl5/perlbrew/perls/5.19.11i/lib/site_perl/5.19.11/Class/Load.pm line 40
	Class::Load::load_class("TestApp") called at /home/c/perl5/perlbrew/perls/5.19.11i/lib/site_perl/5.19.11/Catalyst/Test.pm line 29
	Catalyst::Test::_build_request_export("Catalyst::Test", HASH(0x9a6b868)) called at /home/c/perl5/perlbrew/perls/5.19.11i/lib/site_perl/5.19.11/Catalyst/Test.pm line 92
	Catalyst::Test::__ANON__("Catalyst::Test", "all", HASH(0x9a6b840), HASH(0x8ca0990)) called at /home/c/perl5/perlbrew/perls/5.19.11i/lib/site_perl/5.19.11/Sub/Exporter.pm line 108
	Sub::Exporter::_expand_group("Catalyst::Test", HASH(0x9a5f148), ARRAY(0x8e62400), HASH(0x8ca0990), HASH(0x9a6b890), HASH(0x8e7e480)) called at /home/c/perl5/perlbrew/perls/5.19.11i/lib/site_perl/5.19.11/Sub/Exporter.pm line 39
	Sub::Exporter::_expand_groups("Catalyst::Test", HASH(0x9a5f148), ARRAY(0x9a6b318), HASH(0x8ca0990)) called at /home/c/perl5/perlbrew/perls/5.19.11i/lib/site_perl/5.19.11/Sub/Exporter.pm line 323
	Sub::Exporter::__ANON__("Catalyst::Test", "-all", HASH(0x8e125f8)) called at /home/c/perl5/perlbrew/perls/5.19.11i/lib/site_perl/5.19.11/Catalyst/Test.pm line 155
	Catalyst::Test::import("Catalyst::Test", "TestApp") called at t/basic.t line 8
	main::BEGIN() called at /home/c/.cpan/build/Catalyst-Controller-ActionRole-0.15-HJ3Yfz/t/lib/TestApp.pm line 0
	eval {...} called at /home/c/.cpan/build/Catalyst-Controller-ActionRole-0.15-HJ3Yfz/t/lib/TestApp.pm line 0
Class::MOP::load_first_existing_class is deprecated at /home/c/perl5/perlbrew/perls/5.19.11i/lib/site_perl/5.19.11/i686-linux-thread-multi-64int/Class/MOP.pm line 82.
	Class::MOP::load_first_existing_class("TestApp::ActionRole::Shared", "Catalyst::ActionRole::Shared") called at /home/c/.cpan/build/Catalyst-Controller-ActionRole-0.15-HJ3Yfz/blib/lib/Catalyst/Controller/ActionRole.pm line 120
	Catalyst::Controller::ActionRole::__ANON__("Shared") called at /home/c/perl5/perlbrew/perls/5.19.11i/lib/site_perl/5.19.11/String/RewritePrefix.pm line 44
	String::RewritePrefix::__ANON__("Shared") called at /home/c/perl5/perlbrew/perls/5.19.11i/lib/site_perl/5.19.11/String/RewritePrefix.pm line 18
	String::RewritePrefix::rewrite("String::RewritePrefix", HASH(0xa41f6b4), "Shared") called at /home/c/.cpan/build/Catalyst-Controller-ActionRole-0.15-HJ3Yfz/blib/lib/Catalyst/Controller/ActionRole.pm line 125
	Catalyst::Controller::ActionRole::_expand_role_shortname(TestApp::Controller::ExecutionViaConfig=HASH(0xa41f394), "Shared") called at /home/c/.cpan/build/Catalyst-Controller-ActionRole-0.15-HJ3Yfz/blib/lib/Catalyst/Controller/ActionRole.pm line 49
	Catalyst::Controller::ActionRole::_build__action_roles(TestApp::Controller::ExecutionViaConfig=HASH(0xa41f394)) called at native delegation method Catalyst::Controller::ActionRole::_action_roles (elements) of attribute _action_roles (defined at /home/c/.cpan/build/Catalyst-Controller-ActionRole-0.15-HJ3Yfz/blib/lib/Catalyst/Controller/ActionRole.pm line 37) line 9
	Catalyst::Controller::ActionRole::_action_roles(TestApp::Controller::ExecutionViaConfig=HASH(0xa41f394)) called at /home/c/perl5/perlbrew/perls/5.19.11i/lib/site_perl/5.19.11/Catalyst/Controller.pm line 84
	Catalyst::Controller::BUILD(TestApp::Controller::ExecutionViaConfig=HASH(0xa41f394), HASH(0xa429194)) called at /home/c/perl5/perlbrew/perls/5.19.11i/lib/site_perl/5.19.11/i686-linux-thread-multi-64int/Class/MOP/Method.pm line 128
	Class::MOP::Method::execute(Moose::Meta::Class::__ANON__::SERIAL::6=HASH(0x9f00cb8), TestApp::Controller::ExecutionViaConfig=HASH(0xa41f394), HASH(0xa429194)) called at /home/c/perl5/perlbrew/perls/5.19.11i/lib/site_perl/5.19.11/i686-linux-thread-multi-64int/Moose/Object.pm line 56
	Moose::Object::BUILDALL(TestApp::Controller::ExecutionViaConfig=HASH(0xa41f394), HASH(0xa429194)) called at /home/c/perl5/perlbrew/perls/5.19.11i/lib/site_perl/5.19.11/i686-linux-thread-multi-64int/Moose/Meta/Class.pm line 282
	Moose::Meta::Class::new_object(Moose::Meta::Class::__ANON__::SERIAL::5=HASH(0xa418a0c), HASH(0xa429194)) called at /home/c/perl5/perlbrew/perls/5.19.11i/lib/site_perl/5.19.11/i686-linux-thread-multi-64int/Moose/Object.pm line 27
	Moose::Object::new("TestApp::Controller::ExecutionViaConfig", "TestApp", HASH(0xa4294f0)) called at constructor Catalyst::Controller::new (defined at /home/c/perl5/perlbrew/perls/5.19.11i/lib/site_perl/5.19.11/Catalyst/Controller.pm line 573) line 4
	Catalyst::Controller::new("TestApp::Controller::ExecutionViaConfig", "TestApp", HASH(0xa4294f0)) called at /home/c/perl5/perlbrew/perls/5.19.11i/lib/site_perl/5.19.11/Catalyst/Component.pm line 123
	Catalyst::Component::COMPONENT("TestApp::Controller::ExecutionViaConfig", "TestApp", HASH(0xa4294f0)) called at /home/c/perl5/perlbrew/perls/5.19.11i/lib/site_perl/5.19.11/Catalyst.pm line 2638
	eval {...} called at /home/c/perl5/perlbrew/perls/5.19.11i/lib/site_perl/5.19.11/Catalyst.pm line 2638
	Catalyst::setup_component("TestApp", "TestApp::Controller::ExecutionViaConfig") called at /home/c/perl5/perlbrew/perls/5.19.11i/lib/site_perl/5.19.11/Catalyst.pm line 2565
	Catalyst::setup_components("TestApp") called at /home/c/perl5/perlbrew/perls/5.19.11i/lib/site_perl/5.19.11/Catalyst.pm line 1181
	Catalyst::setup("TestApp") called at /home/c/.cpan/build/Catalyst-Controller-ActionRole-0.15-HJ3Yfz/t/lib/TestApp.pm line 9
	require TestApp.pm called at /home/c/perl5/perlbrew/perls/5.19.11i/lib/site_perl/5.19.11/Module/Runtime.pm line 317
	Module::Runtime::require_module("TestApp") called at /home/c/perl5/perlbrew/perls/5.19.11i/lib/site_perl/5.19.11/Class/Load.pm line 179
	Class::Load::try {...} () called at /home/c/perl5/perlbrew/perls/5.19.11i/lib/site_perl/5.19.11/Try/Tiny.pm line 77
	eval {...} called at /home/c/perl5/perlbrew/perls/5.19.11i/lib/site_perl/5.19.11/Try/Tiny.pm line 72
	Try::Tiny::try(CODE(0x9813530), Try::Tiny::Catch=REF(0x98130a8)) called at /home/c/perl5/perlbrew/perls/5.19.11i/lib/site_perl/5.19.11/Class/Load.pm line 185
	Class::Load::try_load_class("TestApp", undef) called at /home/c/perl5/perlbrew/perls/5.19.11i/lib/site_perl/5.19.11/Class/Load.pm line 40
	Class::Load::load_class("TestApp") called at /home/c/perl5/perlbrew/perls/5.19.11i/lib/site_perl/5.19.11/Catalyst/Test.pm line 29
	Catalyst::Test::_build_request_export("Catalyst::Test", HASH(0x9a6b868)) called at /home/c/perl5/perlbrew/perls/5.19.11i/lib/site_perl/5.19.11/Catalyst/Test.pm line 92
	Catalyst::Test::__ANON__("Catalyst::Test", "all", HASH(0x9a6b840), HASH(0x8ca0990)) called at /home/c/perl5/perlbrew/perls/5.19.11i/lib/site_perl/5.19.11/Sub/Exporter.pm line 108
	Sub::Exporter::_expand_group("Catalyst::Test", HASH(0x9a5f148), ARRAY(0x8e62400), HASH(0x8ca0990), HASH(0x9a6b890), HASH(0x8e7e480)) called at /home/c/perl5/perlbrew/perls/5.19.11i/lib/site_perl/5.19.11/Sub/Exporter.pm line 39
	Sub::Exporter::_expand_groups("Catalyst::Test", HASH(0x9a5f148), ARRAY(0x9a6b318), HASH(0x8ca0990)) called at /home/c/perl5/perlbrew/perls/5.19.11i/lib/site_perl/5.19.11/Sub/Exporter.pm line 323
	Sub::Exporter::__ANON__("Catalyst::Test", "-all", HASH(0x8e125f8)) called at /home/c/perl5/perlbrew/perls/5.19.11i/lib/site_perl/5.19.11/Catalyst/Test.pm line 155
	Catalyst::Test::import("Catalyst::Test", "TestApp") called at t/basic.t line 8
	main::BEGIN() called at /home/c/.cpan/build/Catalyst-Controller-ActionRole-0.15-HJ3Yfz/t/lib/TestApp.pm line 0
	eval {...} called at /home/c/.cpan/build/Catalyst-Controller-ActionRole-0.15-HJ3Yfz/t/lib/TestApp.pm line 0
t/basic.t ................. ok
Class::MOP::load_first_existing_class is deprecated at /home/c/perl5/perlbrew/perls/5.19.11i/lib/site_perl/5.19.11/i686-linux-thread-multi-64int/Class/MOP.pm line 82.
	Class::MOP::load_first_existing_class("TestAppREST::ActionRole::Moo", "Catalyst::ActionRole::Moo") called at /home/c/.cpan/build/Catalyst-Controller-ActionRole-0.15-HJ3Yfz/blib/lib/Catalyst/Controller/ActionRole.pm line 120
	Catalyst::Controller::ActionRole::__ANON__("Moo") called at /home/c/perl5/perlbrew/perls/5.19.11i/lib/site_perl/5.19.11/String/RewritePrefix.pm line 44
	String::RewritePrefix::__ANON__("Moo") called at /home/c/perl5/perlbrew/perls/5.19.11i/lib/site_perl/5.19.11/String/RewritePrefix.pm line 18
	String::RewritePrefix::rewrite("String::RewritePrefix", HASH(0xa3d6d78), "Moo") called at /home/c/.cpan/build/Catalyst-Controller-ActionRole-0.15-HJ3Yfz/blib/lib/Catalyst/Controller/ActionRole.pm line 125
	Catalyst::Controller::ActionRole::_expand_role_shortname(TestAppREST::Controller::Foo=HASH(0xa39c070), "Moo") called at /home/c/.cpan/build/Catalyst-Controller-ActionRole-0.15-HJ3Yfz/blib/lib/Catalyst/Controller/ActionRole.pm line 134
	Catalyst::Controller::ActionRole::_parse_Does_attr(TestAppREST::Controller::Foo=HASH(0xa39c070), "TestAppREST", "foo", "Moo") called at /home/c/perl5/perlbrew/perls/5.19.11i/lib/site_perl/5.19.11/Catalyst/Controller.pm line 441
	Catalyst::Controller::_parse_attr(TestAppREST::Controller::Foo=HASH(0xa39c070), "TestAppREST", "foo", "Does", ARRAY(0xa3be2cc)) called at /home/c/perl5/perlbrew/perls/5.19.11i/lib/site_perl/5.19.11/Catalyst/Controller.pm line 427
	Catalyst::Controller::_parse_attrs(TestAppREST::Controller::Foo=HASH(0xa39c070), "TestAppREST", "foo", "Local", "Does('Moo')", "ActionClass('REST')") called at /home/c/perl5/perlbrew/perls/5.19.11i/lib/site_perl/5.19.11/Catalyst/Controller.pm line 279
	Catalyst::Controller::register_action_methods(TestAppREST::Controller::Foo=HASH(0xa39c070), "TestAppREST", Moose::Meta::Class::__ANON__::SERIAL::3=HASH(0xa3ca888), Moose::Meta::Class::__ANON__::SERIAL::3=HASH(0xa360590), Moose::Meta::Class::__ANON__::SERIAL::3=HASH(0xa3ca0a4), Moose::Meta::Class::__ANON__::SERIAL::3=HASH(0xa3c9b2c), Moose::Meta::Class::__ANON__::SERIAL::3=HASH(0xa3ca11c), Moose::Meta::Class::__ANON__::SERIAL::3=HASH(0xa3d5648)) called at /home/c/perl5/perlbrew/perls/5.19.11i/lib/site_perl/5.19.11/Catalyst/Controller.pm line 257
	Catalyst::Controller::register_actions(TestAppREST::Controller::Foo=HASH(0xa39c070), "TestAppREST") called at /home/c/perl5/perlbrew/perls/5.19.11i/lib/site_perl/5.19.11/Catalyst/Dispatcher.pm line 609
	Catalyst::Dispatcher::setup_actions(Catalyst::Dispatcher=HASH(0xa09ad14), "TestAppREST") called at /home/c/perl5/perlbrew/perls/5.19.11i/lib/site_perl/5.19.11/Catalyst.pm line 2525
	Catalyst::setup_actions("TestAppREST") called at /home/c/perl5/perlbrew/perls/5.19.11i/lib/site_perl/5.19.11/Catalyst.pm line 1242
	Catalyst::setup("TestAppREST") called at /home/c/.cpan/build/Catalyst-Controller-ActionRole-0.15-HJ3Yfz/t/lib/TestAppREST.pm line 9
	require TestAppREST.pm called at /home/c/perl5/perlbrew/perls/5.19.11i/lib/site_perl/5.19.11/Module/Runtime.pm line 317
	Module::Runtime::require_module("TestAppREST") called at /home/c/perl5/perlbrew/perls/5.19.11i/lib/site_perl/5.19.11/Class/Load.pm line 179
	Class::Load::try {...} () called at /home/c/perl5/perlbrew/perls/5.19.11i/lib/site_perl/5.19.11/Try/Tiny.pm line 77
	eval {...} called at /home/c/perl5/perlbrew/perls/5.19.11i/lib/site_perl/5.19.11/Try/Tiny.pm line 72
	Try::Tiny::try(CODE(0x9db76cc), Try::Tiny::Catch=REF(0x9dacb7c)) called at /home/c/perl5/perlbrew/perls/5.19.11i/lib/site_perl/5.19.11/Class/Load.pm line 185
	Class::Load::try_load_class("TestAppREST", undef) called at /home/c/perl5/perlbrew/perls/5.19.11i/lib/site_perl/5.19.11/Class/Load.pm line 40
	Class::Load::load_class("TestAppREST") called at /home/c/perl5/perlbrew/perls/5.19.11i/lib/site_perl/5.19.11/Catalyst/Test.pm line 29
	Catalyst::Test::_build_request_export("Catalyst::Test", HASH(0x9df2d68)) called at /home/c/perl5/perlbrew/perls/5.19.11i/lib/site_perl/5.19.11/Catalyst/Test.pm line 92
	Catalyst::Test::__ANON__("Catalyst::Test", "all", HASH(0x9df2d40), HASH(0x9568bb8)) called at /home/c/perl5/perlbrew/perls/5.19.11i/lib/site_perl/5.19.11/Sub/Exporter.pm line 108
	Sub::Exporter::_expand_group("Catalyst::Test", HASH(0x9de7c60), ARRAY(0x9dbe424), HASH(0x9568bb8), HASH(0x9df2d90), HASH(0x8bb8608)) called at /home/c/perl5/perlbrew/perls/5.19.11i/lib/site_perl/5.19.11/Sub/Exporter.pm line 39
	Sub::Exporter::_expand_groups("Catalyst::Test", HASH(0x9de7c60), ARRAY(0x9df2818), HASH(0x9568bb8)) called at /home/c/perl5/perlbrew/perls/5.19.11i/lib/site_perl/5.19.11/Sub/Exporter.pm line 323
	Sub::Exporter::__ANON__("Catalyst::Test", "-all", HASH(0x954c758)) called at /home/c/perl5/perlbrew/perls/5.19.11i/lib/site_perl/5.19.11/Catalyst/Test.pm line 155
	Catalyst::Test::import("Catalyst::Test", "TestAppREST") called at t/basic_rest.t line 16
	main::BEGIN() called at /home/c/.cpan/build/Catalyst-Controller-ActionRole-0.15-HJ3Yfz/t/lib/TestAppREST.pm line 0
	eval {...} called at /home/c/.cpan/build/Catalyst-Controller-ActionRole-0.15-HJ3Yfz/t/lib/TestAppREST.pm line 0
Class::MOP::load_class is deprecated at /home/c/perl5/perlbrew/perls/5.19.11i/lib/site_perl/5.19.11/i686-linux-thread-multi-64int/Class/MOP.pm line 73.
	Class::MOP::load_class("TestAppREST::ActionRole::Moo") called at /home/c/.cpan/build/Catalyst-Controller-ActionRole-0.15-HJ3Yfz/blib/lib/Catalyst/Controller/ActionRole.pm line 69
	Class::MOP::Class:::around(CODE(0x9cbbf48), TestAppREST::Controller::Foo=HASH(0xa39c070), "name", "foo", "code", CODE(0x9fedc04), "reverse", "foo/foo", "namespace", ...) called at /home/c/perl5/perlbrew/perls/5.19.11i/lib/site_perl/5.19.11/i686-linux-thread-multi-64int/Class/MOP/Method/Wrapped.pm line 163
	Class::MOP::Method::Wrapped::__ANON__(TestAppREST::Controller::Foo=HASH(0xa39c070), "name", "foo", "code", CODE(0x9fedc04), "reverse", "foo/foo", "namespace", "foo", ...) called at /home/c/perl5/perlbrew/perls/5.19.11i/lib/site_perl/5.19.11/i686-linux-thread-multi-64int/Class/MOP/Method/Wrapped.pm line 92
	Catalyst::Controller::ActionRole::create_action(TestAppREST::Controller::Foo=HASH(0xa39c070), "name", "foo", "code", CODE(0x9fedc04), "reverse", "foo/foo", "namespace", "foo", ...) called at /home/c/perl5/perlbrew/perls/5.19.11i/lib/site_perl/5.19.11/Catalyst/Controller.pm line 288
	Catalyst::Controller::register_action_methods(TestAppREST::Controller::Foo=HASH(0xa39c070), "TestAppREST", Moose::Meta::Class::__ANON__::SERIAL::3=HASH(0xa3ca888), Moose::Meta::Class::__ANON__::SERIAL::3=HASH(0xa360590), Moose::Meta::Class::__ANON__::SERIAL::3=HASH(0xa3ca0a4), Moose::Meta::Class::__ANON__::SERIAL::3=HASH(0xa3c9b2c), Moose::Meta::Class::__ANON__::SERIAL::3=HASH(0xa3ca11c), Moose::Meta::Class::__ANON__::SERIAL::3=HASH(0xa3d5648)) called at /home/c/perl5/perlbrew/perls/5.19.11i/lib/site_perl/5.19.11/Catalyst/Controller.pm line 257
	Catalyst::Controller::register_actions(TestAppREST::Controller::Foo=HASH(0xa39c070), "TestAppREST") called at /home/c/perl5/perlbrew/perls/5.19.11i/lib/site_perl/5.19.11/Catalyst/Dispatcher.pm line 609
	Catalyst::Dispatcher::setup_actions(Catalyst::Dispatcher=HASH(0xa09ad14), "TestAppREST") called at /home/c/perl5/perlbrew/perls/5.19.11i/lib/site_perl/5.19.11/Catalyst.pm line 2525
	Catalyst::setup_actions("TestAppREST") called at /home/c/perl5/perlbrew/perls/5.19.11i/lib/site_perl/5.19.11/Catalyst.pm line 1242
	Catalyst::setup("TestAppREST") called at /home/c/.cpan/build/Catalyst-Controller-ActionRole-0.15-HJ3Yfz/t/lib/TestAppREST.pm line 9
	require TestAppREST.pm called at /home/c/perl5/perlbrew/perls/5.19.11i/lib/site_perl/5.19.11/Module/Runtime.pm line 317
	Module::Runtime::require_module("TestAppREST") called at /home/c/perl5/perlbrew/perls/5.19.11i/lib/site_perl/5.19.11/Class/Load.pm line 179
	Class::Load::try {...} () called at /home/c/perl5/perlbrew/perls/5.19.11i/lib/site_perl/5.19.11/Try/Tiny.pm line 77
	eval {...} called at /home/c/perl5/perlbrew/perls/5.19.11i/lib/site_perl/5.19.11/Try/Tiny.pm line 72
	Try::Tiny::try(CODE(0x9db76cc), Try::Tiny::Catch=REF(0x9dacb7c)) called at /home/c/perl5/perlbrew/perls/5.19.11i/lib/site_perl/5.19.11/Class/Load.pm line 185
	Class::Load::try_load_class("TestAppREST", undef) called at /home/c/perl5/perlbrew/perls/5.19.11i/lib/site_perl/5.19.11/Class/Load.pm line 40
	Class::Load::load_class("TestAppREST") called at /home/c/perl5/perlbrew/perls/5.19.11i/lib/site_perl/5.19.11/Catalyst/Test.pm line 29
	Catalyst::Test::_build_request_export("Catalyst::Test", HASH(0x9df2d68)) called at /home/c/perl5/perlbrew/perls/5.19.11i/lib/site_perl/5.19.11/Catalyst/Test.pm line 92
	Catalyst::Test::__ANON__("Catalyst::Test", "all", HASH(0x9df2d40), HASH(0x9568bb8)) called at /home/c/perl5/perlbrew/perls/5.19.11i/lib/site_perl/5.19.11/Sub/Exporter.pm line 108
	Sub::Exporter::_expand_group("Catalyst::Test", HASH(0x9de7c60), ARRAY(0x9dbe424), HASH(0x9568bb8), HASH(0x9df2d90), HASH(0x8bb8608)) called at /home/c/perl5/perlbrew/perls/5.19.11i/lib/site_perl/5.19.11/Sub/Exporter.pm line 39
	Sub::Exporter::_expand_groups("Catalyst::Test", HASH(0x9de7c60), ARRAY(0x9df2818), HASH(0x9568bb8)) called at /home/c/perl5/perlbrew/perls/5.19.11i/lib/site_perl/5.19.11/Sub/Exporter.pm line 323
	Sub::Exporter::__ANON__("Catalyst::Test", "-all", HASH(0x954c758)) called at /home/c/perl5/perlbrew/perls/5.19.11i/lib/site_perl/5.19.11/Catalyst/Test.pm line 155
	Catalyst::Test::import("Catalyst::Test", "TestAppREST") called at t/basic_rest.t line 16
	main::BEGIN() called at /home/c/.cpan/build/Catalyst-Controller-ActionRole-0.15-HJ3Yfz/t/lib/TestAppREST.pm line 0
	eval {...} called at /home/c/.cpan/build/Catalyst-Controller-ActionRole-0.15-HJ3Yfz/t/lib/TestAppREST.pm line 0
t/basic_rest.t ............ ok
Class::MOP::load_class is deprecated at /home/c/perl5/perlbrew/perls/5.19.11i/lib/site_perl/5.19.11/i686-linux-thread-multi-64int/Class/MOP.pm line 73.
	Class::MOP::load_class("TestApp::ActionRole::Kooh") called at /home/c/.cpan/build/Catalyst-Controller-ActionRole-0.15-HJ3Yfz/blib/lib/Catalyst/Controller/ActionRole.pm line 50
	Catalyst::Controller::ActionRole::_build__action_roles(TestApp::Controller::Bar=HASH(0x9a65928)) called at native delegation method Catalyst::Controller::ActionRole::_action_roles (elements) of attribute _action_roles (defined at /home/c/.cpan/build/Catalyst-Controller-ActionRole-0.15-HJ3Yfz/blib/lib/Catalyst/Controller/ActionRole.pm line 37) line 9
	Catalyst::Controller::ActionRole::_action_roles(TestApp::Controller::Bar=HASH(0x9a65928)) called at /home/c/perl5/perlbrew/perls/5.19.11i/lib/site_perl/5.19.11/Catalyst/Controller.pm line 84
	Catalyst::Controller::BUILD(TestApp::Controller::Bar=HASH(0x9a65928), HASH(0x9a65d88)) called at /home/c/perl5/perlbrew/perls/5.19.11i/lib/site_perl/5.19.11/i686-linux-thread-multi-64int/Class/MOP/Method.pm line 128
	Class::MOP::Method::execute(Moose::Meta::Class::__ANON__::SERIAL::6=HASH(0x954ce90), TestApp::Controller::Bar=HASH(0x9a65928), HASH(0x9a65d88)) called at /home/c/perl5/perlbrew/perls/5.19.11i/lib/site_perl/5.19.11/i686-linux-thread-multi-64int/Moose/Object.pm line 56
	Moose::Object::BUILDALL(TestApp::Controller::Bar=HASH(0x9a65928), HASH(0x9a65d88)) called at /home/c/perl5/perlbrew/perls/5.19.11i/lib/site_perl/5.19.11/i686-linux-thread-multi-64int/Moose/Meta/Class.pm line 282
	Moose::Meta::Class::new_object(Moose::Meta::Class::__ANON__::SERIAL::5=HASH(0x9a501a4), HASH(0x9a65d88)) called at /home/c/perl5/perlbrew/perls/5.19.11i/lib/site_perl/5.19.11/i686-linux-thread-multi-64int/Moose/Object.pm line 27
	Moose::Object::new("TestApp::Controller::Bar", "TestApp", HASH(0x99c5d40)) called at constructor Catalyst::Controller::new (defined at /home/c/perl5/perlbrew/perls/5.19.11i/lib/site_perl/5.19.11/Catalyst/Controller.pm line 573) line 4
	Catalyst::Controller::new("TestApp::Controller::Bar", "TestApp", HASH(0x99c5d40)) called at /home/c/perl5/perlbrew/perls/5.19.11i/lib/site_perl/5.19.11/Catalyst/Component.pm line 123
	Catalyst::Component::COMPONENT("TestApp::Controller::Bar", "TestApp", HASH(0x99c5d40)) called at /home/c/perl5/perlbrew/perls/5.19.11i/lib/site_perl/5.19.11/Catalyst.pm line 2638
	eval {...} called at /home/c/perl5/perlbrew/perls/5.19.11i/lib/site_perl/5.19.11/Catalyst.pm line 2638
	Catalyst::setup_component("TestApp", "TestApp::Controller::Bar") called at /home/c/perl5/perlbrew/perls/5.19.11i/lib/site_perl/5.19.11/Catalyst.pm line 2565
	Catalyst::setup_components("TestApp") called at /home/c/perl5/perlbrew/perls/5.19.11i/lib/site_perl/5.19.11/Catalyst.pm line 1181
	Catalyst::setup("TestApp") called at /home/c/.cpan/build/Catalyst-Controller-ActionRole-0.15-HJ3Yfz/t/lib/TestApp.pm line 9
	require TestApp.pm called at /home/c/perl5/perlbrew/perls/5.19.11i/lib/site_perl/5.19.11/Module/Runtime.pm line 317
	Module::Runtime::require_module("TestApp") called at /home/c/perl5/perlbrew/perls/5.19.11i/lib/site_perl/5.19.11/Class/Load.pm line 179
	Class::Load::try {...} () called at /home/c/perl5/perlbrew/perls/5.19.11i/lib/site_perl/5.19.11/Try/Tiny.pm line 77
	eval {...} called at /home/c/perl5/perlbrew/perls/5.19.11i/lib/site_perl/5.19.11/Try/Tiny.pm line 72
	Try::Tiny::try(CODE(0x8e5c408), Try::Tiny::Catch=REF(0x8e5c250)) called at /home/c/perl5/perlbrew/perls/5.19.11i/lib/site_perl/5.19.11/Class/Load.pm line 185
	Class::Load::try_load_class("TestApp", undef) called at /home/c/perl5/perlbrew/perls/5.19.11i/lib/site_perl/5.19.11/Class/Load.pm line 40
	Class::Load::load_class("TestApp") called at /home/c/perl5/perlbrew/perls/5.19.11i/lib/site_perl/5.19.11/Catalyst/Test.pm line 29
	Catalyst::Test::_build_request_export("Catalyst::Test", HASH(0x90b6f40)) called at /home/c/perl5/perlbrew/perls/5.19.11i/lib/site_perl/5.19.11/Catalyst/Test.pm line 92
	Catalyst::Test::__ANON__("Catalyst::Test", "all", HASH(0x90b6f18), HASH(0x845e6c4)) called at /home/c/perl5/perlbrew/perls/5.19.11i/lib/site_perl/5.19.11/Sub/Exporter.pm line 108
	Sub::Exporter::_expand_group("Catalyst::Test", HASH(0x90ab590), ARRAY(0x8409f98), HASH(0x845e6c4), HASH(0x90b6f68), HASH(0x84ca6a8)) called at /home/c/perl5/perlbrew/perls/5.19.11i/lib/site_perl/5.19.11/Sub/Exporter.pm line 39
	Sub::Exporter::_expand_groups("Catalyst::Test", HASH(0x90ab590), ARRAY(0x90b69f0), HASH(0x845e6c4)) called at /home/c/perl5/perlbrew/perls/5.19.11i/lib/site_perl/5.19.11/Sub/Exporter.pm line 323
	Sub::Exporter::__ANON__("Catalyst::Test", "-all", HASH(0x84313c8)) called at /home/c/perl5/perlbrew/perls/5.19.11i/lib/site_perl/5.19.11/Catalyst/Test.pm line 155
	Catalyst::Test::import("Catalyst::Test", "TestApp") called at t/execution-via-config.t line 8
	main::BEGIN() called at /home/c/.cpan/build/Catalyst-Controller-ActionRole-0.15-HJ3Yfz/t/lib/TestApp.pm line 0
	eval {...} called at /home/c/.cpan/build/Catalyst-Controller-ActionRole-0.15-HJ3Yfz/t/lib/TestApp.pm line 0
Class::MOP::load_first_existing_class is deprecated at /home/c/perl5/perlbrew/perls/5.19.11i/lib/site_perl/5.19.11/i686-linux-thread-multi-64int/Class/MOP.pm line 82.
	Class::MOP::load_first_existing_class("TestApp::ActionRole::Shared", "Catalyst::ActionRole::Shared") called at /home/c/.cpan/build/Catalyst-Controller-ActionRole-0.15-HJ3Yfz/blib/lib/Catalyst/Controller/ActionRole.pm line 120
	Catalyst::Controller::ActionRole::__ANON__("Shared") called at /home/c/perl5/perlbrew/perls/5.19.11i/lib/site_perl/5.19.11/String/RewritePrefix.pm line 44
	String::RewritePrefix::__ANON__("Shared") called at /home/c/perl5/perlbrew/perls/5.19.11i/lib/site_perl/5.19.11/String/RewritePrefix.pm line 18
	String::RewritePrefix::rewrite("String::RewritePrefix", HASH(0x9a6b71c), "Shared") called at /home/c/.cpan/build/Catalyst-Controller-ActionRole-0.15-HJ3Yfz/blib/lib/Catalyst/Controller/ActionRole.pm line 125
	Catalyst::Controller::ActionRole::_expand_role_shortname(TestApp::Controller::ExecutionViaConfig=HASH(0x9a6b3fc), "Shared") called at /home/c/.cpan/build/Catalyst-Controller-ActionRole-0.15-HJ3Yfz/blib/lib/Catalyst/Controller/ActionRole.pm line 49
	Catalyst::Controller::ActionRole::_build__action_roles(TestApp::Controller::ExecutionViaConfig=HASH(0x9a6b3fc)) called at native delegation method Catalyst::Controller::ActionRole::_action_roles (elements) of attribute _action_roles (defined at /home/c/.cpan/build/Catalyst-Controller-ActionRole-0.15-HJ3Yfz/blib/lib/Catalyst/Controller/ActionRole.pm line 37) line 9
	Catalyst::Controller::ActionRole::_action_roles(TestApp::Controller::ExecutionViaConfig=HASH(0x9a6b3fc)) called at /home/c/perl5/perlbrew/perls/5.19.11i/lib/site_perl/5.19.11/Catalyst/Controller.pm line 84
	Catalyst::Controller::BUILD(TestApp::Controller::ExecutionViaConfig=HASH(0x9a6b3fc), HASH(0x9a7567c)) called at /home/c/perl5/perlbrew/perls/5.19.11i/lib/site_perl/5.19.11/i686-linux-thread-multi-64int/Class/MOP/Method.pm line 128
	Class::MOP::Method::execute(Moose::Meta::Class::__ANON__::SERIAL::6=HASH(0x954ce90), TestApp::Controller::ExecutionViaConfig=HASH(0x9a6b3fc), HASH(0x9a7567c)) called at /home/c/perl5/perlbrew/perls/5.19.11i/lib/site_perl/5.19.11/i686-linux-thread-multi-64int/Moose/Object.pm line 56
	Moose::Object::BUILDALL(TestApp::Controller::ExecutionViaConfig=HASH(0x9a6b3fc), HASH(0x9a7567c)) called at /home/c/perl5/perlbrew/perls/5.19.11i/lib/site_perl/5.19.11/i686-linux-thread-multi-64int/Moose/Meta/Class.pm line 282
	Moose::Meta::Class::new_object(Moose::Meta::Class::__ANON__::SERIAL::5=HASH(0x9a601c4), HASH(0x9a7567c)) called at /home/c/perl5/perlbrew/perls/5.19.11i/lib/site_perl/5.19.11/i686-linux-thread-multi-64int/Moose/Object.pm line 27
	Moose::Object::new("TestApp::Controller::ExecutionViaConfig", "TestApp", HASH(0x9a757a8)) called at constructor Catalyst::Controller::new (defined at /home/c/perl5/perlbrew/perls/5.19.11i/lib/site_perl/5.19.11/Catalyst/Controller.pm line 573) line 4
	Catalyst::Controller::new("TestApp::Controller::ExecutionViaConfig", "TestApp", HASH(0x9a757a8)) called at /home/c/perl5/perlbrew/perls/5.19.11i/lib/site_perl/5.19.11/Catalyst/Component.pm line 123
	Catalyst::Component::COMPONENT("TestApp::Controller::ExecutionViaConfig", "TestApp", HASH(0x9a757a8)) called at /home/c/perl5/perlbrew/perls/5.19.11i/lib/site_perl/5.19.11/Catalyst.pm line 2638
	eval {...} called at /home/c/perl5/perlbrew/perls/5.19.11i/lib/site_perl/5.19.11/Catalyst.pm line 2638
	Catalyst::setup_component("TestApp", "TestApp::Controller::ExecutionViaConfig") called at /home/c/perl5/perlbrew/perls/5.19.11i/lib/site_perl/5.19.11/Catalyst.pm line 2565
	Catalyst::setup_components("TestApp") called at /home/c/perl5/perlbrew/perls/5.19.11i/lib/site_perl/5.19.11/Catalyst.pm line 1181
	Catalyst::setup("TestApp") called at /home/c/.cpan/build/Catalyst-Controller-ActionRole-0.15-HJ3Yfz/t/lib/TestApp.pm line 9
	require TestApp.pm called at /home/c/perl5/perlbrew/perls/5.19.11i/lib/site_perl/5.19.11/Module/Runtime.pm line 317
	Module::Runtime::require_module("TestApp") called at /home/c/perl5/perlbrew/perls/5.19.11i/lib/site_perl/5.19.11/Class/Load.pm line 179
	Class::Load::try {...} () called at /home/c/perl5/perlbrew/perls/5.19.11i/lib/site_perl/5.19.11/Try/Tiny.pm line 77
	eval {...} called at /home/c/perl5/perlbrew/perls/5.19.11i/lib/site_perl/5.19.11/Try/Tiny.pm line 72
	Try::Tiny::try(CODE(0x8e5c408), Try::Tiny::Catch=REF(0x8e5c250)) called at /home/c/perl5/perlbrew/perls/5.19.11i/lib/site_perl/5.19.11/Class/Load.pm line 185
	Class::Load::try_load_class("TestApp", undef) called at /home/c/perl5/perlbrew/perls/5.19.11i/lib/site_perl/5.19.11/Class/Load.pm line 40
	Class::Load::load_class("TestApp") called at /home/c/perl5/perlbrew/perls/5.19.11i/lib/site_perl/5.19.11/Catalyst/Test.pm line 29
	Catalyst::Test::_build_request_export("Catalyst::Test", HASH(0x90b6f40)) called at /home/c/perl5/perlbrew/perls/5.19.11i/lib/site_perl/5.19.11/Catalyst/Test.pm line 92
	Catalyst::Test::__ANON__("Catalyst::Test", "all", HASH(0x90b6f18), HASH(0x845e6c4)) called at /home/c/perl5/perlbrew/perls/5.19.11i/lib/site_perl/5.19.11/Sub/Exporter.pm line 108
	Sub::Exporter::_expand_group("Catalyst::Test", HASH(0x90ab590), ARRAY(0x8409f98), HASH(0x845e6c4), HASH(0x90b6f68), HASH(0x84ca6a8)) called at /home/c/perl5/perlbrew/perls/5.19.11i/lib/site_perl/5.19.11/Sub/Exporter.pm line 39
	Sub::Exporter::_expand_groups("Catalyst::Test", HASH(0x90ab590), ARRAY(0x90b69f0), HASH(0x845e6c4)) called at /home/c/perl5/perlbrew/perls/5.19.11i/lib/site_perl/5.19.11/Sub/Exporter.pm line 323
	Sub::Exporter::__ANON__("Catalyst::Test", "-all", HASH(0x84313c8)) called at /home/c/perl5/perlbrew/perls/5.19.11i/lib/site_perl/5.19.11/Catalyst/Test.pm line 155
	Catalyst::Test::import("Catalyst::Test", "TestApp") called at t/execution-via-config.t line 8
	main::BEGIN() called at /home/c/.cpan/build/Catalyst-Controller-ActionRole-0.15-HJ3Yfz/t/lib/TestApp.pm line 0
	eval {...} called at /home/c/.cpan/build/Catalyst-Controller-ActionRole-0.15-HJ3Yfz/t/lib/TestApp.pm line 0
t/execution-via-config.t .. ok
Class::MOP::load_class is deprecated at /home/c/perl5/perlbrew/perls/5.19.11i/lib/site_perl/5.19.11/i686-linux-thread-multi-64int/Class/MOP.pm line 73.
	Class::MOP::load_class("TestApp::ActionRole::Kooh") called at /home/c/.cpan/build/Catalyst-Controller-ActionRole-0.15-HJ3Yfz/blib/lib/Catalyst/Controller/ActionRole.pm line 50
	Catalyst::Controller::ActionRole::_build__action_roles(TestApp::Controller::Bar=HASH(0xae194bc)) called at native delegation method Catalyst::Controller::ActionRole::_action_roles (elements) of attribute _action_roles (defined at /home/c/.cpan/build/Catalyst-Controller-ActionRole-0.15-HJ3Yfz/blib/lib/Catalyst/Controller/ActionRole.pm line 37) line 9
	Catalyst::Controller::ActionRole::_action_roles(TestApp::Controller::Bar=HASH(0xae194bc)) called at /home/c/perl5/perlbrew/perls/5.19.11i/lib/site_perl/5.19.11/Catalyst/Controller.pm line 84
	Catalyst::Controller::BUILD(TestApp::Controller::Bar=HASH(0xae194bc), HASH(0xae19804)) called at /home/c/perl5/perlbrew/perls/5.19.11i/lib/site_perl/5.19.11/i686-linux-thread-multi-64int/Class/MOP/Method.pm line 128
	Class::MOP::Method::execute(Moose::Meta::Class::__ANON__::SERIAL::7=HASH(0xa8ffbf0), TestApp::Controller::Bar=HASH(0xae194bc), HASH(0xae19804)) called at /home/c/perl5/perlbrew/perls/5.19.11i/lib/site_perl/5.19.11/i686-linux-thread-multi-64int/Moose/Object.pm line 56
	Moose::Object::BUILDALL(TestApp::Controller::Bar=HASH(0xae194bc), HASH(0xae19804)) called at /home/c/perl5/perlbrew/perls/5.19.11i/lib/site_perl/5.19.11/i686-linux-thread-multi-64int/Moose/Meta/Class.pm line 282
	Moose::Meta::Class::new_object(Moose::Meta::Class::__ANON__::SERIAL::5=HASH(0xae031b8), HASH(0xae19804)) called at /home/c/perl5/perlbrew/perls/5.19.11i/lib/site_perl/5.19.11/i686-linux-thread-multi-64int/Moose/Object.pm line 27
	Moose::Object::new("TestApp::Controller::Bar", "TestApp", HASH(0xadaf8b0)) called at constructor Catalyst::Controller::new (defined at /home/c/perl5/perlbrew/perls/5.19.11i/lib/site_perl/5.19.11/Catalyst/Controller.pm line 573) line 4
	Catalyst::Controller::new("TestApp::Controller::Bar", "TestApp", HASH(0xadaf8b0)) called at /home/c/perl5/perlbrew/perls/5.19.11i/lib/site_perl/5.19.11/Catalyst/Component.pm line 123
	Catalyst::Component::COMPONENT("TestApp::Controller::Bar", "TestApp", HASH(0xadaf8b0)) called at /home/c/perl5/perlbrew/perls/5.19.11i/lib/site_perl/5.19.11/Catalyst.pm line 2638
	eval {...} called at /home/c/perl5/perlbrew/perls/5.19.11i/lib/site_perl/5.19.11/Catalyst.pm line 2638
	Catalyst::setup_component("TestApp", "TestApp::Controller::Bar") called at /home/c/perl5/perlbrew/perls/5.19.11i/lib/site_perl/5.19.11/Catalyst.pm line 2565
	Catalyst::setup_components("TestApp") called at /home/c/perl5/perlbrew/perls/5.19.11i/lib/site_perl/5.19.11/Catalyst.pm line 1181
	Catalyst::setup("TestApp") called at /home/c/.cpan/build/Catalyst-Controller-ActionRole-0.15-HJ3Yfz/t/lib/TestApp.pm line 9
	require TestApp.pm called at /home/c/perl5/perlbrew/perls/5.19.11i/lib/site_perl/5.19.11/Module/Runtime.pm line 317
	Module::Runtime::require_module("TestApp") called at /home/c/perl5/perlbrew/perls/5.19.11i/lib/site_perl/5.19.11/Class/Load.pm line 179
	Class::Load::try {...} () called at /home/c/perl5/perlbrew/perls/5.19.11i/lib/site_perl/5.19.11/Try/Tiny.pm line 77
	eval {...} called at /home/c/perl5/perlbrew/perls/5.19.11i/lib/site_perl/5.19.11/Try/Tiny.pm line 72
	Try::Tiny::try(CODE(0xa20ef20), Try::Tiny::Catch=REF(0xa20ea98)) called at /home/c/perl5/perlbrew/perls/5.19.11i/lib/site_perl/5.19.11/Class/Load.pm line 185
	Class::Load::try_load_class("TestApp", undef) called at /home/c/perl5/perlbrew/perls/5.19.11i/lib/site_perl/5.19.11/Class/Load.pm line 40
	Class::Load::load_class("TestApp") called at /home/c/perl5/perlbrew/perls/5.19.11i/lib/site_perl/5.19.11/Catalyst/Test.pm line 29
	Catalyst::Test::_build_request_export("Catalyst::Test", HASH(0xa46ab30)) called at /home/c/perl5/perlbrew/perls/5.19.11i/lib/site_perl/5.19.11/Catalyst/Test.pm line 92
	Catalyst::Test::__ANON__("Catalyst::Test", "all", HASH(0xa46ab08), HASH(0x969baa4)) called at /home/c/perl5/perlbrew/perls/5.19.11i/lib/site_perl/5.19.11/Sub/Exporter.pm line 108
	Sub::Exporter::_expand_group("Catalyst::Test", HASH(0xa45f188), ARRAY(0x97bcf70), HASH(0x969baa4), HASH(0xa46ab58), HASH(0x97bda4c)) called at /home/c/perl5/perlbrew/perls/5.19.11i/lib/site_perl/5.19.11/Sub/Exporter.pm line 39
	Sub::Exporter::_expand_groups("Catalyst::Test", HASH(0xa45f188), ARRAY(0xa46a5e0), HASH(0x969baa4)) called at /home/c/perl5/perlbrew/perls/5.19.11i/lib/site_perl/5.19.11/Sub/Exporter.pm line 323
	Sub::Exporter::__ANON__("Catalyst::Test", "-all", HASH(0x9852c60)) called at /home/c/perl5/perlbrew/perls/5.19.11i/lib/site_perl/5.19.11/Catalyst/Test.pm line 155
	Catalyst::Test::import("Catalyst::Test", "TestApp") called at t/execution-via-does.t line 8
	main::BEGIN() called at /home/c/.cpan/build/Catalyst-Controller-ActionRole-0.15-HJ3Yfz/t/lib/TestApp.pm line 0
	eval {...} called at /home/c/.cpan/build/Catalyst-Controller-ActionRole-0.15-HJ3Yfz/t/lib/TestApp.pm line 0
Class::MOP::load_first_existing_class is deprecated at /home/c/perl5/perlbrew/perls/5.19.11i/lib/site_perl/5.19.11/i686-linux-thread-multi-64int/Class/MOP.pm line 82.
	Class::MOP::load_first_existing_class("TestApp::ActionRole::Shared", "Catalyst::ActionRole::Shared") called at /home/c/.cpan/build/Catalyst-Controller-ActionRole-0.15-HJ3Yfz/blib/lib/Catalyst/Controller/ActionRole.pm line 120
	Catalyst::Controller::ActionRole::__ANON__("Shared") called at /home/c/perl5/perlbrew/perls/5.19.11i/lib/site_perl/5.19.11/String/RewritePrefix.pm line 44
	String::RewritePrefix::__ANON__("Shared") called at /home/c/perl5/perlbrew/perls/5.19.11i/lib/site_perl/5.19.11/String/RewritePrefix.pm line 18
	String::RewritePrefix::rewrite("String::RewritePrefix", HASH(0xae1eacc), "Shared") called at /home/c/.cpan/build/Catalyst-Controller-ActionRole-0.15-HJ3Yfz/blib/lib/Catalyst/Controller/ActionRole.pm line 125
	Catalyst::Controller::ActionRole::_expand_role_shortname(TestApp::Controller::ExecutionViaConfig=HASH(0xae1e7ac), "Shared") called at /home/c/.cpan/build/Catalyst-Controller-ActionRole-0.15-HJ3Yfz/blib/lib/Catalyst/Controller/ActionRole.pm line 49
	Catalyst::Controller::ActionRole::_build__action_roles(TestApp::Controller::ExecutionViaConfig=HASH(0xae1e7ac)) called at native delegation method Catalyst::Controller::ActionRole::_action_roles (elements) of attribute _action_roles (defined at /home/c/.cpan/build/Catalyst-Controller-ActionRole-0.15-HJ3Yfz/blib/lib/Catalyst/Controller/ActionRole.pm line 37) line 9
	Catalyst::Controller::ActionRole::_action_roles(TestApp::Controller::ExecutionViaConfig=HASH(0xae1e7ac)) called at /home/c/perl5/perlbrew/perls/5.19.11i/lib/site_perl/5.19.11/Catalyst/Controller.pm line 84
	Catalyst::Controller::BUILD(TestApp::Controller::ExecutionViaConfig=HASH(0xae1e7ac), HASH(0xae2873c)) called at /home/c/perl5/perlbrew/perls/5.19.11i/lib/site_perl/5.19.11/i686-linux-thread-multi-64int/Class/MOP/Method.pm line 128
	Class::MOP::Method::execute(Moose::Meta::Class::__ANON__::SERIAL::7=HASH(0xa8ffbf0), TestApp::Controller::ExecutionViaConfig=HASH(0xae1e7ac), HASH(0xae2873c)) called at /home/c/perl5/perlbrew/perls/5.19.11i/lib/site_perl/5.19.11/i686-linux-thread-multi-64int/Moose/Object.pm line 56
	Moose::Object::BUILDALL(TestApp::Controller::ExecutionViaConfig=HASH(0xae1e7ac), HASH(0xae2873c)) called at /home/c/perl5/perlbrew/perls/5.19.11i/lib/site_perl/5.19.11/i686-linux-thread-multi-64int/Moose/Meta/Class.pm line 282
	Moose::Meta::Class::new_object(Moose::Meta::Class::__ANON__::SERIAL::5=HASH(0xae12ebc), HASH(0xae2873c)) called at /home/c/perl5/perlbrew/perls/5.19.11i/lib/site_perl/5.19.11/i686-linux-thread-multi-64int/Moose/Object.pm line 27
	Moose::Object::new("TestApp::Controller::ExecutionViaConfig", "TestApp", HASH(0xae28868)) called at constructor Catalyst::Controller::new (defined at /home/c/perl5/perlbrew/perls/5.19.11i/lib/site_perl/5.19.11/Catalyst/Controller.pm line 573) line 4
	Catalyst::Controller::new("TestApp::Controller::ExecutionViaConfig", "TestApp", HASH(0xae28868)) called at /home/c/perl5/perlbrew/perls/5.19.11i/lib/site_perl/5.19.11/Catalyst/Component.pm line 123
	Catalyst::Component::COMPONENT("TestApp::Controller::ExecutionViaConfig", "TestApp", HASH(0xae28868)) called at /home/c/perl5/perlbrew/perls/5.19.11i/lib/site_perl/5.19.11/Catalyst.pm line 2638
	eval {...} called at /home/c/perl5/perlbrew/perls/5.19.11i/lib/site_perl/5.19.11/Catalyst.pm line 2638
	Catalyst::setup_component("TestApp", "TestApp::Controller::ExecutionViaConfig") called at /home/c/perl5/perlbrew/perls/5.19.11i/lib/site_perl/5.19.11/Catalyst.pm line 2565
	Catalyst::setup_components("TestApp") called at /home/c/perl5/perlbrew/perls/5.19.11i/lib/site_perl/5.19.11/Catalyst.pm line 1181
	Catalyst::setup("TestApp") called at /home/c/.cpan/build/Catalyst-Controller-ActionRole-0.15-HJ3Yfz/t/lib/TestApp.pm line 9
	require TestApp.pm called at /home/c/perl5/perlbrew/perls/5.19.11i/lib/site_perl/5.19.11/Module/Runtime.pm line 317
	Module::Runtime::require_module("TestApp") called at /home/c/perl5/perlbrew/perls/5.19.11i/lib/site_perl/5.19.11/Class/Load.pm line 179
	Class::Load::try {...} () called at /home/c/perl5/perlbrew/perls/5.19.11i/lib/site_perl/5.19.11/Try/Tiny.pm line 77
	eval {...} called at /home/c/perl5/perlbrew/perls/5.19.11i/lib/site_perl/5.19.11/Try/Tiny.pm line 72
	Try::Tiny::try(CODE(0xa20ef20), Try::Tiny::Catch=REF(0xa20ea98)) called at /home/c/perl5/perlbrew/perls/5.19.11i/lib/site_perl/5.19.11/Class/Load.pm line 185
	Class::Load::try_load_class("TestApp", undef) called at /home/c/perl5/perlbrew/perls/5.19.11i/lib/site_perl/5.19.11/Class/Load.pm line 40
	Class::Load::load_class("TestApp") called at /home/c/perl5/perlbrew/perls/5.19.11i/lib/site_perl/5.19.11/Catalyst/Test.pm line 29
	Catalyst::Test::_build_request_export("Catalyst::Test", HASH(0xa46ab30)) called at /home/c/perl5/perlbrew/perls/5.19.11i/lib/site_perl/5.19.11/Catalyst/Test.pm line 92
	Catalyst::Test::__ANON__("Catalyst::Test", "all", HASH(0xa46ab08), HASH(0x969baa4)) called at /home/c/perl5/perlbrew/perls/5.19.11i/lib/site_perl/5.19.11/Sub/Exporter.pm line 108
	Sub::Exporter::_expand_group("Catalyst::Test", HASH(0xa45f188), ARRAY(0x97bcf70), HASH(0x969baa4), HASH(0xa46ab58), HASH(0x97bda4c)) called at /home/c/perl5/perlbrew/perls/5.19.11i/lib/site_perl/5.19.11/Sub/Exporter.pm line 39
	Sub::Exporter::_expand_groups("Catalyst::Test", HASH(0xa45f188), ARRAY(0xa46a5e0), HASH(0x969baa4)) called at /home/c/perl5/perlbrew/perls/5.19.11i/lib/site_perl/5.19.11/Sub/Exporter.pm line 323
	Sub::Exporter::__ANON__("Catalyst::Test", "-all", HASH(0x9852c60)) called at /home/c/perl5/perlbrew/perls/5.19.11i/lib/site_perl/5.19.11/Catalyst/Test.pm line 155
	Catalyst::Test::import("Catalyst::Test", "TestApp") called at t/execution-via-does.t line 8
	main::BEGIN() called at /home/c/.cpan/build/Catalyst-Controller-ActionRole-0.15-HJ3Yfz/t/lib/TestApp.pm line 0
	eval {...} called at /home/c/.cpan/build/Catalyst-Controller-ActionRole-0.15-HJ3Yfz/t/lib/TestApp.pm line 0
t/execution-via-does.t .... ok
t/release-eol.t ........... skipped: these tests are for release candidate testing
t/release-no-tabs.t ....... skipped: these tests are for release candidate testing
t/release-pod-coverage.t .. skipped: these tests are for release candidate testing
t/release-pod-syntax.t .... skipped: these tests are for release candidate testing
All tests successful.
Files=9, Tests=43,  5 wallclock secs ( 0.08 usr  0.06 sys +  4.57 cusr  0.34 csys =  5.05 CPU)
Result: PASS

------------------------------
PREREQUISITES
------------------------------

Prerequisite modules loaded:

requires:

    Module                 Need    Have    
    ---------------------- ------- --------
    Catalyst::Controller   0       0       
    Catalyst::Runtime      5.80025 5.90062 
    Catalyst::Utils        0       0       
    Class::MOP             0       2.1205  
    List::Util             0       1.38    
    Moose                  0       2.1205  
    Moose::Meta::Class     0       2.1205  
    MooseX::Types::Moose   0       0.44    
    namespace::clean       0       0.25    
    String::RewritePrefix  0.004   0.007   

build_requires:

    Module                 Need    Have    
    ---------------------- ------- --------
    Catalyst               0       5.90062 
    Catalyst::Action       0       0       
    Catalyst::Action::REST 0       1.14    
    Catalyst::Test         0       0       
    FindBin                0       1.51    
    Moose::Role            0       2.1205  
    parent                 0       0.228   
    Test::More             0       1.001002

configure_requires:

    Module                 Need    Have    
    ---------------------- ------- --------
    ExtUtils::MakeMaker    6.31    6.94    


------------------------------
ENVIRONMENT AND OTHER CONTEXT
------------------------------

Environment variables:

    AUTOMATED_TESTING = 1
    LANG = ru_RU.utf8
    PATH = /home/c/perl5/perlbrew/bin:/home/c/perl5/perlbrew/perls/5.19.11i/bin:/usr/local/bin:/usr/bin:/bin:/usr/local/games:/usr/games
    PERL5LIB = 
    PERL5OPT = 
    PERL5_CPANPLUS_IS_RUNNING = 27757
    PERL5_CPAN_IS_RUNNING = 27757
    PERL5_CPAN_IS_RUNNING_IN_RECURSION = 4212,27757
    PERLBREW_MANPATH = /home/c/perl5/perlbrew/perls/5.19.11i/man
    PERLBREW_PATH = /home/c/perl5/perlbrew/bin:/home/c/perl5/perlbrew/perls/5.19.11i/bin
    PERLBREW_PERL = 5.19.11i
    PERLBREW_ROOT = /home/c/perl5/perlbrew
    PERLBREW_SKIP_INIT = 1
    PERLBREW_VERSION = 0.67
    PERL_CR_SMOKER_CURRENT = CatalystX::Resource
    PERL_EXTUTILS_AUTOINSTALL = --defaultdeps
    PERL_MM_USE_DEFAULT = 1
    SHELL = /bin/bash
    TERM = xterm

Perl special variables (and OS-specific diagnostics, for MSWin32):

    $^X = /home/c/perl5/perlbrew/perls/5.19.11i/bin/perl5.19.11
    $UID/$EUID = 1000 / 1000
    $GID = 1000 24 25 29 30 44 46 103 105 108 110 1000
    $EGID = 1000 24 25 29 30 44 46 103 105 108 110 1000

Perl module toolchain versions installed:

    Module              Have    
    ------------------- --------
    CPAN                2.05    
    CPAN::Meta          2.140640
    Cwd                 3.47    
    ExtUtils::CBuilder  0.280216
    ExtUtils::Command   1.18    
    ExtUtils::Install   1.67    
    ExtUtils::MakeMaker 6.94    
    ExtUtils::Manifest  1.63    
    ExtUtils::ParseXS   3.24    
    File::Spec          3.47    
    JSON                2.90    
    JSON::PP            2.27203 
    Module::Build       0.4205  
    Module::Signature   n/a     
    Parse::CPAN::Meta   1.4414  
    Test::Harness       3.30    
    Test::More          1.001002
    YAML                0.90    
    YAML::Syck          1.27    
    version             0.9908  


--

Summary of my perl5 (revision 5 version 19 subversion 11) configuration:
   
  Platform:
    osname=linux, osvers=3.2.0-4-486, archname=i686-linux-thread-multi-64int
    uname='linux deb7 3.2.0-4-486 #1 debian 3.2.51-1 i686 gnulinux '
    config_args='-de -Dprefix=/home/c/perl5/perlbrew/perls/5.19.11i -Dusethreads -Duse64bitint -Dusedevel -Aeval:scriptdir=/home/c/perl5/perlbrew/perls/5.19.11i/bin'
    hint=recommended, useposix=true, d_sigaction=define
    useithreads=define, usemultiplicity=define
    use64bitint=define, use64bitall=undef, uselongdouble=undef
    usemymalloc=n, bincompat5005=undef
  Compiler:
    cc='cc', ccflags ='-D_REENTRANT -D_GNU_SOURCE -fwrapv -fno-strict-aliasing -pipe -fstack-protector -I/usr/local/include -D_LARGEFILE_SOURCE -D_FILE_OFFSET_BITS=64',
    optimize='-O2',
    cppflags='-D_REENTRANT -D_GNU_SOURCE -fwrapv -fno-strict-aliasing -pipe -fstack-protector -I/usr/local/include'
    ccversion='', gccversion='4.7.2', gccosandvers=''
    intsize=4, longsize=4, ptrsize=4, doublesize=8, byteorder=12345678
    d_longlong=define, longlongsize=8, d_longdbl=define, longdblsize=12
    ivtype='long long', ivsize=8, nvtype='double', nvsize=8, Off_t='off_t', lseeksize=8
    alignbytes=4, prototype=define
  Linker and Libraries:
    ld='cc', ldflags =' -fstack-protector -L/usr/local/lib'
    libpth=/usr/local/lib /usr/lib/gcc/i486-linux-gnu/4.7/include-fixed /usr/include/i386-linux-gnu /usr/lib /lib/i386-linux-gnu /lib/../lib /usr/lib/i386-linux-gnu /usr/lib/../lib /lib
    libs=-lnsl -lgdbm -ldb -ldl -lm -lcrypt -lutil -lpthread -lc -lgdbm_compat
    perllibs=-lnsl -ldl -lm -lcrypt -lutil -lpthread -lc
    libc=, so=so, useshrplib=false, libperl=libperl.a
    gnulibc_version='2.13'
  Dynamic Linking:
    dlsrc=dl_dlopen.xs, dlext=so, d_dlsymun=undef, ccdlflags='-Wl,-E'
    cccdlflags='-fPIC', lddlflags='-shared -O2 -L/usr/local/lib -fstack-protector'


Characteristics of this binary (from libperl): 
  Compile-time options: HAS_TIMES MULTIPLICITY PERLIO_LAYERS
                        PERL_DONT_CREATE_GVSV
                        PERL_HASH_FUNC_ONE_AT_A_TIME_HARD
                        PERL_IMPLICIT_CONTEXT PERL_MALLOC_WRAP
                        PERL_NEW_COPY_ON_WRITE PERL_PRESERVE_IVUV
                        PERL_USE_DEVEL USE_64_BIT_INT USE_ITHREADS
                        USE_LARGE_FILES USE_LOCALE USE_LOCALE_COLLATE
                        USE_LOCALE_CTYPE USE_LOCALE_NUMERIC USE_PERLIO
                        USE_PERL_ATOF USE_REENTRANT_API
  Built under linux
  Compiled at Apr 25 2014 15:40:41
  %ENV:
    PERL5LIB=""
    PERL5OPT=""
    PERL5_CPANPLUS_IS_RUNNING="27757"
    PERL5_CPAN_IS_RUNNING="27757"
    PERL5_CPAN_IS_RUNNING_IN_RECURSION="4212,27757"
    PERLBREW_MANPATH="/home/c/perl5/perlbrew/perls/5.19.11i/man"
    PERLBREW_PATH="/home/c/perl5/perlbrew/bin:/home/c/perl5/perlbrew/perls/5.19.11i/bin"
    PERLBREW_PERL="5.19.11i"
    PERLBREW_ROOT="/home/c/perl5/perlbrew"
    PERLBREW_SKIP_INIT="1"
    PERLBREW_VERSION="0.67"
    PERL_CR_SMOKER_CURRENT="CatalystX::Resource"
    PERL_EXTUTILS_AUTOINSTALL="--defaultdeps"
    PERL_MM_USE_DEFAULT="1"
  @INC:
    /home/c/perl5/perlbrew/perls/5.19.11i/lib/site_perl/5.19.11/i686-linux-thread-multi-64int
    /home/c/perl5/perlbrew/perls/5.19.11i/lib/site_perl/5.19.11
    /home/c/perl5/perlbrew/perls/5.19.11i/lib/5.19.11/i686-linux-thread-multi-64int
    /home/c/perl5/perlbrew/perls/5.19.11i/lib/5.19.11
    .