Math-GSL v0.49 Perl 5 v5.26.1 i686-linux-thread-multi
- Status
- Pass
- From
- Chris Williams (BINGOS)
- Dist
-
Math-GSL v0.49
- Platform
- Perl 5 v5.26.1 i686-linux-thread-multi
- Date
- 2024-07-29 22:48:50
- ID
- b94eaae4-4dfc-11ef-98b0-b3c3213a625c
This distribution has been tested as part of the CPAN Testers
project, supporting the Perl programming language. See
http://wiki.cpantesters.org/ for more information or email
questions to cpan-testers-discuss@perl.org
--
Dear HAKONH,
This is a computer-generated error report created automatically by
CPANPLUS, version 0.9914. Testers personal comments may appear
at the end of this report.
Thank you for uploading your work to CPAN. Congratulations!
All tests were successful.
TEST RESULTS:
Below is the error stack from stage 'make test':
VERSION MISMATCH: Let's hope for the best.
Processing 2.7 XS files, GSL 2.7.1 (via gsl-config) at /usr
Compiler = cc (Debian 12.2.0-14) 12.2.0
Copyright (C) 2022 Free Software Foundation, Inc.
This is free software; see the source for copying conditions. There is NO
warranty; not even for MERCHANTABILITY or FITNESS FOR A PARTICULAR PURPOSE.
ccflags = -fPIC -I/usr/include -D_REENTRANT -D_GNU_SOURCE -fwrapv -fno-strict-aliasing -pipe -fstack-protector-strong -I/usr/local/include -D_LARGEFILE_SOURCE -D_FILE_OFFSET_BITS=64 -D_FORTIFY_SOURCE=2 -Wall -Wno-sometimes-uninitialized -Wno-unused-function -Wno-unused-value -Wno-unused-function -Wno-unused-variable -Wno-gnu -g -I/usr/include
ldflags = -shared -L/usr/lib/i386-linux-gnu -lgsl -lgslcblas -lm
PERL5LIB = /home/cpan/pit/jail/bx1Pr4HMV5/lib/perl5:/home/cpan/pit/thr/conf/perl-5.26.1/.cpanplus/5.26.1/build/H_ZfHELLAD/Math-GSL-0.49/blib/lib:/home/cpan/pit/thr/conf/perl-5.26.1/.cpanplus/5.26.1/build/H_ZfHELLAD/Math-GSL-0.49/blib/arch
LD_LIBRARY_PATH =
# Testing Math::GSL 0.49 with GSL 2.7 on i686-linux-thread-multi, Perl (/home/cpan/pit/thr/perl-5.26.1/bin/perl) 5.026001
t/00-load.t ........ ok
t/BLAS.t ........... ok
t/BSpline.t ........ ok
t/CBLAS.t .......... ok
t/CDF.t ............ ok
t/Chebyshev.t ...... ok
t/Combination.t .... ok
t/Complex.t ........ ok
t/Const.t .......... ok
t/DHT.t ............ ok
t/Deriv.t .......... ok
t/Diff.t ........... ok
t/Eigen.t .......... ok
t/Errno.t .......... ok
t/FFT.t ............ ok
t/Fit.t ............ ok
#
# Elements start differing at index 2, delta = 9.99999998363421e-08
# $x->[2] = 3.0010001
# $y->[2] = 3.0010002
#
# Elements start differing at index 2, delta = 0.00099999999999989
# $x->[2] = 3
# $y->[2] = 3.001
t/GSL.t ............ ok
t/Heapsort.t ....... ok
t/Histogram.t ...... ok
t/Histogram2D.t .... ok
t/IEEEUtils.t ...... ok
t/Integration.t .... ok
t/Interp.t ......... ok
t/Linalg.t ......... ok
t/Machine.t ........ ok
#
# Elements start differing at index 1, delta = 1
# $x->[1] = 3
# $y->[1] = 2
t/Matrix.t ......... ok
#
# Elements start differing at index 1, delta = 1
# $x->[1] = 3
# $y->[1] = 4
#
# Elements start differing at index 1, delta = 1
# $x->[1] = 3
# $y->[1] = 2
t/MatrixComplex.t .. ok
t/Min.t ............ ok
t/Monte.t .......... ok
t/Multifit.t ....... ok
t/Multilarge.t ..... ok
t/Multimin.t ....... ok
t/Multiroots.t ..... ok
t/Multiset.t ....... ok
t/NTuple.t ......... ok
t/ODEIV.t .......... ok
t/ODEIV_evolve.t ... ok
t/Permutation.t .... ok
t/Poly.t ........... ok
t/PowInt.t ......... ok
t/QRNG.t ........... ok
t/RNG.t ............ ok
t/Randist.t ........ ok
t/Roots.t .......... ok
t/Rstat.t .......... ok
t/SF.t ............. ok
t/Siman.t .......... ok
t/Sort.t ........... ok
t/SparseMatrix.t ... ok
t/Spline.t ......... ok
t/Statistics.t ..... ok
t/Sum.t ............ ok
t/Sys.t ............ ok
#
# Elements start differing at index 0, delta = 9
# $x->[0] = 1
# $y->[0] = 10
#
# Elements start differing at index 0, delta = 9
# $x->[0] = 1
# $y->[0] = 10
t/Vector.t ......... ok
t/VectorComplex.t .. ok
t/Wavelet.t ........ ok
t/Wavelet2D.t ...... ok
# Testing Math::GSL with GSL 1.16.1 on i686-linux-thread-multi, Perl (/home/cpan/pit/thr/perl-5.26.1/bin/perl) 5.026001
t/ver2func.t ....... ok
All tests successful.
Test Summary Report
-------------------
t/Vector.t (Wstat: 0 Tests: 143 Failed: 0)
TODO passed: 143
Files=58, Tests=4193, 8 wallclock secs ( 0.54 usr 0.09 sys + 6.70 cusr 0.74 csys = 8.07 CPU)
Result: PASS
PREREQUISITES:
Here is a list of prerequisites you specified and versions we
managed to load:
Module Name Have Want
Math::Complex 1.5901 0
Scalar::Util 1.46_02 0
Test::Class 0.52 0.12
Test::Exception 0.43 0.21
Test::More 1.302199 0
Test::Most 0.38 0.31
Test::Taint 1.08 1.06
parent 0.236 0
version 0.9932 0.77
Perl module toolchain versions installed:
Module Name Have
CPANPLUS 0.9914
CPANPLUS::Dist::Build 0.90
Cwd 3.75
ExtUtils::CBuilder 0.280236
ExtUtils::Command 7.70
ExtUtils::Install 2.22
ExtUtils::MakeMaker 7.70
ExtUtils::Manifest 1.75
ExtUtils::ParseXS 3.51
File::Spec 3.75
Module::Build 0.4234
Pod::Parser 1.63
Pod::Simple 3.35
Test2 1.302199
Test::Harness 3.48
Test::More 1.302199
version 0.9932
******************************** NOTE ********************************
The comments above are created mechanically, possibly without manual
checking by the sender. As there are many people performing automatic
tests on each upload to CPAN, it is likely that you will receive
identical messages about the same problem.
If you believe that the message is mistaken, please reply to the first
one with correction and/or additional informations, and do not take
it personally. We appreciate your patience. :)
**********************************************************************
Additional comments:
This report was machine-generated by CPANPLUS::Dist::YACSmoke 1.08.
Powered by minismokebox version 0.68
CPANPLUS is prefering Build.PL
------------------------------
ENVIRONMENT AND OTHER CONTEXT
------------------------------
Environment variables:
AUTOMATED_TESTING = 1
LANG = en_GB.UTF-8
LANGUAGE = en_GB:en
NONINTERACTIVE_TESTING = 1
PATH = /usr/local/bin:/usr/bin:/bin:/usr/local/games:/usr/games
PERL5LIB = /home/cpan/pit/jail/bx1Pr4HMV5/lib/perl5:/home/cpan/pit/thr/conf/perl-5.26.1/.cpanplus/5.26.1/build/H_ZfHELLAD/Math-GSL-0.49/blib/lib:/home/cpan/pit/thr/conf/perl-5.26.1/.cpanplus/5.26.1/build/H_ZfHELLAD/Math-GSL-0.49/blib/arch
PERL5_CPANPLUS_IS_RUNNING = 13146
PERL5_CPANPLUS_IS_VERSION = 0.9914
PERL5_MINISMOKEBOX = 0.68
PERL5_YACSMOKE_BASE = /home/cpan/pit/thr/conf/perl-5.26.1
PERL_EXTUTILS_AUTOINSTALL = --defaultdeps
PERL_LOCAL_LIB_ROOT = /home/cpan/pit/jail/bx1Pr4HMV5
PERL_MB_OPT = --install_base "/home/cpan/pit/jail/bx1Pr4HMV5"
PERL_MM_OPT = INSTALL_BASE=/home/cpan/pit/jail/bx1Pr4HMV5
PERL_MM_USE_DEFAULT = 1
SHELL = /bin/bash
TERM = screen
Perl special variables (and OS-specific diagnostics, for MSWin32):
Perl: $^X = /home/cpan/pit/thr/perl-5.26.1/bin/perl
UID: $< = 1001
EUID: $> = 1001
GID: $( = 1001 1001
EGID: $) = 1001 1001
-------------------------------
--
Summary of my perl5 (revision 5 version 26 subversion 1) configuration:
Platform:
osname=linux
osvers=5.10.0-12-686
archname=i686-linux-thread-multi
uname='linux dagobah 5.10.0-12-686 #1 smp debian 5.10.103-1 (2022-03-07) i686 gnulinux '
config_args='-des -Dprefix=/home/cpan/pit/thr/perl-5.26.1 -Dusethreads'
hint=recommended
useposix=true
d_sigaction=define
useithreads=define
usemultiplicity=define
use64bitint=undef
use64bitall=undef
uselongdouble=undef
usemymalloc=n
default_inc_excludes_dot=define
bincompat5005=undef
Compiler:
cc='cc'
ccflags ='-D_REENTRANT -D_GNU_SOURCE -fwrapv -fno-strict-aliasing -pipe -fstack-protector-strong -I/usr/local/include -D_LARGEFILE_SOURCE -D_FILE_OFFSET_BITS=64 -D_FORTIFY_SOURCE=2'
optimize='-O2'
cppflags='-D_REENTRANT -D_GNU_SOURCE -fwrapv -fno-strict-aliasing -pipe -fstack-protector-strong -I/usr/local/include'
ccversion=''
gccversion='10.2.1 20210110'
gccosandvers=''
intsize=4
longsize=4
ptrsize=4
doublesize=8
byteorder=1234
doublekind=3
d_longlong=define
longlongsize=8
d_longdbl=define
longdblsize=12
longdblkind=3
ivtype='long'
ivsize=4
nvtype='double'
nvsize=8
Off_t='off_t'
lseeksize=8
alignbytes=4
prototype=define
Linker and Libraries:
ld='cc'
ldflags =' -fstack-protector-strong -L/usr/local/lib'
libpth=/usr/local/lib /usr/include/i386-linux-gnu /usr/lib /lib/i386-linux-gnu /lib/../lib /usr/lib/i386-linux-gnu /usr/lib/../lib /lib /lib64 /usr/lib64
libs=-lpthread -lnsl -lgdbm -ldl -lm -lcrypt -lutil -lc
perllibs=-lpthread -lnsl -ldl -lm -lcrypt -lutil -lc
libc=libc-2.31.so
so=so
useshrplib=false
libperl=libperl.a
gnulibc_version='2.31'
Dynamic Linking:
dlsrc=dl_dlopen.xs
dlext=so
d_dlsymun=undef
ccdlflags='-Wl,-E'
cccdlflags='-fPIC'
lddlflags='-shared -O2 -L/usr/local/lib -fstack-protector-strong'
Characteristics of this binary (from libperl):
Compile-time options:
HAS_TIMES
MULTIPLICITY
PERLIO_LAYERS
PERL_COPY_ON_WRITE
PERL_DONT_CREATE_GVSV
PERL_HASH_FUNC_ONE_AT_A_TIME_HARD
PERL_IMPLICIT_CONTEXT
PERL_MALLOC_WRAP
PERL_OP_PARENT
PERL_PRESERVE_IVUV
USE_ITHREADS
USE_LARGE_FILES
USE_LOCALE
USE_LOCALE_COLLATE
USE_LOCALE_CTYPE
USE_LOCALE_NUMERIC
USE_LOCALE_TIME
USE_PERLIO
USE_PERL_ATOF
USE_REENTRANT_API
Locally applied patches:
Devel::PatchPerl 2.08
Built under linux
Compiled at Mar 18 2022 05:54:45
%ENV:
PERL5LIB="/home/cpan/pit/jail/bx1Pr4HMV5/lib/perl5:/home/cpan/pit/thr/conf/perl-5.26.1/.cpanplus/5.26.1/build/H_ZfHELLAD/Math-GSL-0.49/blib/lib:/home/cpan/pit/thr/conf/perl-5.26.1/.cpanplus/5.26.1/build/H_ZfHELLAD/Math-GSL-0.49/blib/arch"
PERL5_CPANPLUS_IS_RUNNING="13146"
PERL5_CPANPLUS_IS_VERSION="0.9914"
PERL5_MINISMOKEBOX="0.68"
PERL5_YACSMOKE_BASE="/home/cpan/pit/thr/conf/perl-5.26.1"
PERL_EXTUTILS_AUTOINSTALL="--defaultdeps"
PERL_LOCAL_LIB_ROOT="/home/cpan/pit/jail/bx1Pr4HMV5"
PERL_MB_OPT="--install_base "/home/cpan/pit/jail/bx1Pr4HMV5""
PERL_MM_OPT="INSTALL_BASE=/home/cpan/pit/jail/bx1Pr4HMV5"
PERL_MM_USE_DEFAULT="1"
@INC:
/home/cpan/pit/jail/bx1Pr4HMV5/lib/perl5/5.26.1/i686-linux-thread-multi
/home/cpan/pit/jail/bx1Pr4HMV5/lib/perl5/5.26.1
/home/cpan/pit/jail/bx1Pr4HMV5/lib/perl5/i686-linux-thread-multi
/home/cpan/pit/jail/bx1Pr4HMV5/lib/perl5
/home/cpan/pit/thr/conf/perl-5.26.1/.cpanplus/5.26.1/build/H_ZfHELLAD/Math-GSL-0.49/blib/lib
/home/cpan/pit/thr/conf/perl-5.26.1/.cpanplus/5.26.1/build/H_ZfHELLAD/Math-GSL-0.49/blib/arch
/home/cpan/pit/thr/perl-5.26.1/lib/site_perl/5.26.1/i686-linux-thread-multi
/home/cpan/pit/thr/perl-5.26.1/lib/site_perl/5.26.1
/home/cpan/pit/thr/perl-5.26.1/lib/5.26.1/i686-linux-thread-multi
/home/cpan/pit/thr/perl-5.26.1/lib/5.26.1