WWW-Mechanize-PhantomJS v0.25 Perl 5 v5.40.1 RC1 x86_64-linux-thread-multi-ld
- Status
- Pass
- From
- Andreas J. König (ANDK)
- Dist
-
WWW-Mechanize-PhantomJS v0.25
- Platform
- Perl 5 v5.40.1 RC1 x86_64-linux-thread-multi-ld
- Date
- 2025-01-10 23:00:45
- ID
- b94c727a-cfa6-11ef-862e-c0105d7bacd9
This distribution has been tested as part of the CPAN Testers
project, supporting the Perl programming language. See
http://wiki.cpantesters.org/ for more information or email
questions to cpan-testers-discuss@perl.org
--
Dear Max Maischein,
This is a computer-generated report for WWW-Mechanize-PhantomJS-0.25
on perl 5.40.1, created by CPAN-Reporter-1.2020.
Thank you for uploading your work to CPAN. Congratulations!
All tests were successful.
Sections of this report:
* Tester comments
* Program output
* Prerequisites
* Environment and other context
------------------------------
TESTER COMMENTS
------------------------------
Additional comments from tester:
this report is from an automated smoke testing program
and was not reviewed by a human for accuracy
------------------------------
PROGRAM OUTPUT
------------------------------
Output from '/usr/bin/make test':
PERL_DL_NONLAZY=1 "/tmp/basesmoker-reloperl-IkH4/bin/perl" "-MExtUtils::Command::MM" "-MTest::Harness" "-e" "undef *Test::Harness::Switches; test_harness(0, 'blib/lib', 'blib/arch')" t/00-load.t t/49-mech-get-file.t t/49-mech-nav.t t/49-port-twice.t t/49-port.t t/50-click.t t/50-follow-link.t t/50-form-with-fields.t t/50-form2.t t/50-highlight-nodes.t t/50-load-and-load.t t/50-mech-content.t t/50-mech-ct.t t/50-mech-encoding.t t/50-mech-error.t t/50-mech-find-link.t t/50-mech-forms.t t/50-mech-get-nocache.t t/50-mech-get.t t/50-mech-new-dsl.t t/50-mech-post.t t/50-mech-status.t t/50-popup.t t/51-mech-form-with-fields.t t/51-mech-links.t t/51-mech-set-content.t t/51-mech-submit.t t/53-mech-capture-js-error.t t/56-render-content.t t/57-parallel.t t/58-alert.t t/59-confirm.t t/60-mech-custom-headers.t t/70-real-status.t
# Testing WWW::Mechanize::PhantomJS 0.25, Perl 5.040001
# Archive::Zip 1.68
# Archive::Zip::Archive 1.68
# Archive::Zip::DirectoryMember 1.68
# Archive::Zip::FileMember 1.68
# Archive::Zip::Member 1.68
# Archive::Zip::NewFileMember 1.68
# Archive::Zip::StringMember 1.68
# Archive::Zip::ZipFileMember 1.68
# AutoLoader 5.74
# B::Hooks::EndOfScope 0.28
# B::Hooks::EndOfScope::XS 0.28
# Carp 1.54
# Carp::Heavy 1.54
# Class::Method::Modifiers 2.15
# Class::XSAccessor 1.19
# Class::XSAccessor::Heavy 1.19
# Clone 0.47
# Compress::Raw::Zlib 2.213
# Config 5.040001
# Cwd 3.91
# Data::Dumper 2.189
# Encode 3.21
# Encode::Alias 2.25
# Encode::Config 2.05
# Encode::Encoding 2.08
# Encode::MIME::Name 1.03
# Errno 1.38
# Exporter 5.78
# Exporter::Heavy 5.78
# Fcntl 1.18
# File::Basename 2.86
# File::Copy 2.41
# File::Find 1.44
# File::Path 2.18
# File::Spec 3.91
# File::Spec::Functions 3.91
# File::Spec::Unix 3.91
# File::Temp 0.2311
# FileHandle 2.05
# Filter::Simple 0.96
# Filter::Util::Call 1.64
# Filter::signatures 0.19
# HTML::Selector::XPath 0.28
# HTTP::Date 6.06
# HTTP::Headers 7.00
# HTTP::Message 7.00
# HTTP::Request 7.00
# HTTP::Response 7.00
# HTTP::Status 7.00
# IO 1.55
# IO::File 1.55
# IO::Handle 1.55
# IO::Seekable 1.55
# IO::Socket 1.55
# IO::Socket::INET 1.55
# IO::Socket::UNIX 1.55
# IO::String 1.08
# JSON 4.10
# JSON::XS 4.03
# LWP 6.77
# LWP::MemberMixin 6.77
# LWP::Protocol 6.77
# LWP::UserAgent 6.77
# List::Util 1.68
# Log::Agent 1.005
# Log::Agent::Formatting <unknown>
# Log::Agent::Message <unknown>
# Log::Agent::Priorities <unknown>
# MIME::Base64 3.16_01
# Method::Generate::Accessor <unknown>
# Method::Generate::Constructor <unknown>
# Module::Implementation 0.09
# Module::Load 0.36
# Module::Runtime 0.016
# Moo 2.005005
# Moo::HandleMoose::_TypeMap <unknown>
# Moo::Object <unknown>
# Moo::Role 2.005005
# Moo::_Utils <unknown>
# Moo::sification <unknown>
# POSIX 2.20
# Package::Stash 0.40
# Package::Stash::XS 0.30
# PerlIO 1.12
# Role::Tiny 2.002004
# Scalar::Util 1.68
# SelectSaver 1.02
# Selenium::Remote::Commands 1.49
# Selenium::Remote::Driver 1.49
# Selenium::Remote::Driver::CanSetWebdriverContext 1.49
# Selenium::Remote::ErrorHandler 1.49
# Selenium::Remote::Finders 1.49
# Selenium::Remote::RemoteConnection 1.49
# Selenium::Remote::Spec 1.49
# Selenium::Remote::WDKeys 1.49
# Selenium::Remote::WebElement 1.49
# Socket 2.038
# Storable 3.32
# Sub::Defer 2.006008
# Sub::Exporter::Progressive 0.001013
# Sub::Install 0.929
# Sub::Quote 2.006008
# Sub::Util 1.68
# Symbol 1.09
# Test::Builder 1.302207
# Test::Builder::Formatter 1.302207
# Test::Builder::Module 1.302207
# Test::Builder::TodoDiag 1.302207
# Test::More 1.302207
# Test2::API 1.302207
# Test2::API::Context 1.302207
# Test2::API::Instance 1.302207
# Test2::API::Stack 1.302207
# Test2::Event 1.302207
# Test2::Event::Bail 1.302207
# Test2::Event::Diag 1.302207
# Test2::Event::Exception 1.302207
# Test2::Event::Fail 1.302207
# Test2::Event::Note 1.302207
# Test2::Event::Ok 1.302207
# Test2::Event::Pass 1.302207
# Test2::Event::Plan 1.302207
# Test2::Event::Skip 1.302207
# Test2::Event::Subtest 1.302207
# Test2::Event::V2 1.302207
# Test2::Event::Waiting 1.302207
# Test2::EventFacet 1.302207
# Test2::EventFacet::About 1.302207
# Test2::EventFacet::Amnesty 1.302207
# Test2::EventFacet::Assert 1.302207
# Test2::EventFacet::Control 1.302207
# Test2::EventFacet::Error 1.302207
# Test2::EventFacet::Hub 1.302207
# Test2::EventFacet::Info 1.302207
# Test2::EventFacet::Meta 1.302207
# Test2::EventFacet::Parent 1.302207
# Test2::EventFacet::Plan 1.302207
# Test2::EventFacet::Trace 1.302207
# Test2::Formatter 1.302207
# Test2::Formatter::TAP 1.302207
# Test2::Hub 1.302207
# Test2::Hub::Interceptor 1.302207
# Test2::Hub::Interceptor::Terminator 1.302207
# Test2::Hub::Subtest 1.302207
# Test2::Util 1.302207
# Test2::Util::ExternalMeta 1.302207
# Test2::Util::Facets2Legacy 1.302207
# Test2::Util::HashBase 1.302207
# Test2::Util::Trace 1.302207
# Text::Balanced 2.06
# Tie::Hash 1.06
# Time::HiRes 1.9777
# Time::Local 1.35
# Try::Tiny 0.32
# Types::Serialiser 1.01
# URI 5.31
# URI::Escape 5.31
# Variable::Magic 0.64
# WWW::Mechanize::Link 2.19
# WWW::Mechanize::PhantomJS 0.25
# WWW::Mechanize::Plugin::Selector 0.25
# XSLoader 0.32
# XString 0.005
# attributes 0.36
# base 2.27
# builtin 0.014
# bytes 1.09
# common::sense 3.75
# constant 1.33
# feature 1.89
# integer 1.01
# mro 1.29
# namespace::clean 0.27
# namespace::clean::_Util <unknown>
# overload 1.37
# overloading 0.02
# parent 0.244
# re 0.47
# strict 1.13
# vars 1.05
# warnings 1.70
# warnings::register 1.06
t/00-load.t ................... ok
t/49-mech-get-file.t .......... skipped: Couldn't connect to PhantomJS:
t/49-mech-nav.t ............... skipped: Couldn't connect to PhantomJS:
t/49-port-twice.t ............. skipped: Couldn't connect to PhantomJS:
t/49-port.t ................... skipped: Couldn't connect to PhantomJS:
t/50-click.t .................. skipped: Couldn't connect to PhantomJS:
t/50-follow-link.t ............ skipped: Couldn't connect to PhantomJS:
t/50-form-with-fields.t ....... skipped: Couldn't connect to PhantomJS:
t/50-form2.t .................. skipped: Couldn't connect to PhantomJS:
t/50-highlight-nodes.t ........ skipped: Couldn't connect to PhantomJS:
t/50-load-and-load.t .......... skipped: Couldn't connect to PhantomJS:
t/50-mech-content.t ........... skipped: Couldn't connect to PhantomJS:
t/50-mech-ct.t ................ skipped: Couldn't connect to PhantomJS:
t/50-mech-encoding.t .......... skipped: Couldn't connect to PhantomJS:
t/50-mech-error.t ............. skipped: Couldn't connect to PhantomJS:
t/50-mech-find-link.t ......... skipped: Couldn't connect to PhantomJS:
t/50-mech-forms.t ............. skipped: Couldn't connect to PhantomJS:
t/50-mech-get-nocache.t ....... skipped: Couldn't connect to PhantomJS:
t/50-mech-get.t ............... skipped: Couldn't connect to PhantomJS:
Can't exec "phantomjs": No such file or directory at /tmp/loop_over_bdir-2280921-rWy1eM/WWW-Mechanize-PhantomJS-0.25-0/blib/lib/WWW/Mechanize/PhantomJS.pm line 203.
t/50-mech-new-dsl.t ........... skipped: Couldn't connect to PhantomJS: Couldn't launch [phantomjs /tmp/loop_over_bdir-2280921-rWy1eM/WWW-Mechanize-PhantomJS-0.25-0/blib/lib/WWW/Mechanize/PhantomJS/ghostdriver/main.js --port=8910 --logLevel=OFF]: No such file or directory / 0 at t/50-mech-new-dsl.t line 11.
t/50-mech-post.t .............. skipped: Couldn't connect to PhantomJS:
t/50-mech-status.t ............ skipped: Couldn't connect to PhantomJS:
t/50-popup.t .................. skipped: Opening windows are not yet tracked
t/51-mech-form-with-fields.t .. skipped: Couldn't connect to PhantomJS:
t/51-mech-links.t ............. skipped: Couldn't connect to PhantomJS:
t/51-mech-set-content.t ....... skipped: Couldn't connect to PhantomJS:
t/51-mech-submit.t ............ skipped: Couldn't connect to PhantomJS:
t/53-mech-capture-js-error.t .. skipped: Couldn't connect to PhantomJS:
t/56-render-content.t ......... skipped: Couldn't connect to PhantomJS:
t/57-parallel.t ............... skipped: Couldn't connect to PhantomJS:
t/58-alert.t .................. skipped: Couldn't connect to PhantomJS:
t/59-confirm.t ................ skipped: Couldn't connect to PhantomJS:
t/60-mech-custom-headers.t .... skipped: Couldn't connect to PhantomJS:
t/70-real-status.t ............ skipped: Couldn't connect to PhantomJS:
All tests successful.
Files=34, Tests=1, 10 wallclock secs ( 0.07 usr 0.04 sys + 8.25 cusr 1.18 csys = 9.54 CPU)
Result: PASS
------------------------------
PREREQUISITES
------------------------------
Prerequisite modules loaded:
requires:
Module Need Have
------------------------ ----- --------
Carp 0 1.54
Filter::signatures 0.16 0.19
HTML::Selector::XPath 0 0.28
HTTP::Response 0 7.00
IO::Socket::INET 0 1.55
Object::Import 0 1.006
perl 5.010 5.040001
Scalar::Util 0 1.68
Selenium::Remote::Driver 0.18 1.49
WWW::Mechanize::Link 0 2.19
build_requires:
Module Need Have
------------------------ ----- --------
ExtUtils::MakeMaker 0 7.70
File::Basename 0 2.86
File::Copy 0 2.41
File::Find 0 1.44
File::Path 0 2.18
File::Temp 0 0.2311
HTTP::Daemon 0 6.16
LWP::Simple 0 6.77
Test::HTTP::LocalServer 0 0.76
Test::More 0 1.302207
Time::HiRes 0 1.9777
URI 0 5.31
URI::file 0 5.31
configure_requires:
Module Need Have
------------------------ ----- --------
ExtUtils::MakeMaker 0 7.70
------------------------------
ENVIRONMENT AND OTHER CONTEXT
------------------------------
Environment variables:
AUTOMATED_TESTING = 1
LANG = en_US.UTF-8
LC_ADDRESS = de_DE.UTF-8
LC_IDENTIFICATION = de_DE.UTF-8
LC_MEASUREMENT = de_DE.UTF-8
LC_MONETARY = de_DE.UTF-8
LC_NAME = de_DE.UTF-8
LC_NUMERIC = de_DE.UTF-8
LC_PAPER = de_DE.UTF-8
LC_TELEPHONE = de_DE.UTF-8
LC_TIME = de_DE.UTF-8
PATH = /home/sand/bin:/usr/local/bin:/usr/local/sbin:/usr/sbin:/usr/bin:/sbin:/bin:/usr/games:/usr/local/games:/snap/bin:/usr/local/perl/bin:/usr/X11/bin
PERL = /tmp/basesmoker-reloperl-IkH4/bin/perl
PERL5LIB = /tmp/loop_over_bdir-2280921-rWy1eM/Sysync-0.38-0/blib/arch:/tmp/loop_over_bdir-2280921-rWy1eM/Sysync-0.38-0/blib/lib:/tmp/loop_over_bdir-2280921-rWy1eM/downsexta-0/blib/arch:/tmp/loop_over_bdir-2280921-rWy1eM/downsexta-0/blib/lib
PERL5OPT =
PERL5_CPANPLUS_IS_RUNNING = 2280929
PERL5_CPAN_IS_RUNNING = 2280929
PERL_CANARY_STABILITY_NOPROMPT = 1
PERL_MM_USE_DEFAULT = 1
PERL_USE_UNSAFE_INC = 1
SHELL = /usr/bin/zsh
TERM = screen
Perl special variables (and OS-specific diagnostics, for MSWin32):
$^X = /tmp/basesmoker-reloperl-IkH4/bin/perl
$UID/$EUID = 1005 / 1005
$GID = 1005 1005
$EGID = 1005 1005
Perl module toolchain versions installed:
Module Have
------------------- --------
CPAN 2.38
CPAN::Meta 2.150010
Cwd 3.91
ExtUtils::CBuilder 0.280240
ExtUtils::Command 7.70
ExtUtils::Install 2.22
ExtUtils::MakeMaker 7.70
ExtUtils::Manifest 1.75
ExtUtils::ParseXS 3.51
File::Spec 3.91
JSON 4.10
JSON::PP 4.16
Module::Build 0.4234
Module::Signature 0.89
Parse::CPAN::Meta 2.150010
Test2 1.302207
Test::Harness 3.50
Test::More 1.302207
YAML 1.31
YAML::Syck 1.34
version 0.9933
--
Summary of my perl5 (revision 5 version 40 subversion 1) configuration:
Commit id: 2f6bf899676e0924d65cbbbd7f122bfce0ab9022
Platform:
osname=linux
osvers=6.8.0-50-generic
archname=x86_64-linux-thread-multi-ld
uname='linux k93jammy 6.8.0-50-generic #51~22.04.1-ubuntu smp preempt_dynamic thu nov 21 12:03:03 utc 2 x86_64 x86_64 x86_64 gnulinux '
config_args='-Dprefix=/home/sand/src/perl/repoperls/installed-perls/host/k93jammy/v5.40.1-RC1/322f -Dmyhostname=k93jammy -Dinstallusrbinperl=n -Uversiononly -Dusedevel -des -Ui_db -Dlibswanted=cl pthread socket inet nsl gdbm dbm malloc dl ld sun m crypt sec util c cposix posix ucb BSD gdbm_compat -Duseithreads -Duselongdouble -DEBUGGING=-g'
hint=recommended
useposix=true
d_sigaction=define
useithreads=define
usemultiplicity=define
use64bitint=define
use64bitall=define
uselongdouble=define
usemymalloc=n
default_inc_excludes_dot=define
Compiler:
cc='cc'
ccflags ='-D_REENTRANT -D_GNU_SOURCE -fwrapv -fno-strict-aliasing -pipe -fstack-protector-strong -I/usr/local/include -D_LARGEFILE_SOURCE -D_FILE_OFFSET_BITS=64'
optimize='-O2 -g'
cppflags='-D_REENTRANT -D_GNU_SOURCE -fwrapv -fno-strict-aliasing -pipe -fstack-protector-strong -I/usr/local/include'
ccversion=''
gccversion='11.4.0'
gccosandvers=''
intsize=4
longsize=8
ptrsize=8
doublesize=8
byteorder=12345678
doublekind=3
d_longlong=define
longlongsize=8
d_longdbl=define
longdblsize=16
longdblkind=3
ivtype='long'
ivsize=8
nvtype='long double'
nvsize=16
Off_t='off_t'
lseeksize=8
alignbytes=16
prototype=define
Linker and Libraries:
ld='cc'
ldflags =' -fstack-protector-strong -L/usr/local/lib'
libpth=/usr/local/lib /usr/lib/x86_64-linux-gnu /usr/lib /usr/lib64
libs=-lpthread -lnsl -ldl -lm -lcrypt -lutil -lc
perllibs=-lpthread -lnsl -ldl -lm -lcrypt -lutil -lc
libc=/lib/x86_64-linux-gnu/libc.so.6
so=so
useshrplib=false
libperl=libperl.a
gnulibc_version='2.35'
Dynamic Linking:
dlsrc=dl_dlopen.xs
dlext=so
d_dlsymun=undef
ccdlflags='-Wl,-E'
cccdlflags='-fPIC'
lddlflags='-shared -O2 -g -L/usr/local/lib -fstack-protector-strong'
Characteristics of this binary (from libperl):
Compile-time options:
HAS_LONG_DOUBLE
HAS_STRTOLD
HAS_TIMES
MULTIPLICITY
PERLIO_LAYERS
PERL_COPY_ON_WRITE
PERL_DONT_CREATE_GVSV
PERL_HASH_FUNC_SIPHASH13
PERL_HASH_USE_SBOX32
PERL_MALLOC_WRAP
PERL_OP_PARENT
PERL_PRESERVE_IVUV
PERL_USE_DEVEL
PERL_USE_SAFE_PUTENV
USE_64_BIT_ALL
USE_64_BIT_INT
USE_ITHREADS
USE_LARGE_FILES
USE_LOCALE
USE_LOCALE_COLLATE
USE_LOCALE_CTYPE
USE_LOCALE_NUMERIC
USE_LOCALE_TIME
USE_LONG_DOUBLE
USE_PERLIO
USE_PERL_ATOF
USE_REENTRANT_API
USE_THREAD_SAFE_LOCALE
Locally applied patches:
RC1
Built under linux
Compiled at Jan 8 2025 09:32:22
%ENV:
PERL="/tmp/basesmoker-reloperl-IkH4/bin/perl"
PERL5LIB="/tmp/loop_over_bdir-2280921-rWy1eM/Sysync-0.38-0/blib/arch:/tmp/loop_over_bdir-2280921-rWy1eM/Sysync-0.38-0/blib/lib:/tmp/loop_over_bdir-2280921-rWy1eM/downsexta-0/blib/arch:/tmp/loop_over_bdir-2280921-rWy1eM/downsexta-0/blib/lib"
PERL5OPT=""
PERL5_CPANPLUS_IS_RUNNING="2280929"
PERL5_CPAN_IS_RUNNING="2280929"
PERL_CANARY_STABILITY_NOPROMPT="1"
PERL_MM_USE_DEFAULT="1"
PERL_USE_UNSAFE_INC="1"
@INC:
/tmp/loop_over_bdir-2280921-rWy1eM/Sysync-0.38-0/blib/arch
/tmp/loop_over_bdir-2280921-rWy1eM/Sysync-0.38-0/blib/lib
/tmp/loop_over_bdir-2280921-rWy1eM/downsexta-0/blib/arch
/tmp/loop_over_bdir-2280921-rWy1eM/downsexta-0/blib/lib
/home/sand/src/perl/repoperls/installed-perls/host/k93jammy/v5.40.1-RC1/322f/lib/site_perl/5.40.1/x86_64-linux-thread-multi-ld
/home/sand/src/perl/repoperls/installed-perls/host/k93jammy/v5.40.1-RC1/322f/lib/site_perl/5.40.1
/home/sand/src/perl/repoperls/installed-perls/host/k93jammy/v5.40.1-RC1/322f/lib/5.40.1/x86_64-linux-thread-multi-ld
/home/sand/src/perl/repoperls/installed-perls/host/k93jammy/v5.40.1-RC1/322f/lib/5.40.1
.